- Раздел: Портрет
- Дата съёмки: 03.04.2010 14:09
- Дата загрузки фото: 18.06.2010 12:59
- Оригинальная фотография: 533 x 800 (378 Кб)
- Технические характеристики:
- Фотоаппарат: Canon EOS 40D
- Выдержка: 1/4000
- Гиперфокальное расстояние: inf m
- Диафрагма: 3,5
- Светочувствительность: 100
- Фокусное расстояние: 85,0 mm (35 mm equivalent: 595,0 mm)
- Экспокоррекция: +1/2
- Полный EXIF
- Adobe
- ColorTransform: YCbCr
- Composite
- Aperture: 3,5
- CircleOfConfusion: 0,004 mm
- DOF: inf (0,00 m - inf)
- FOV: 3,0 deg
- FocalLength35efl: 85,0 mm (35 mm equivalent: 595,0 mm)
- HyperfocalDistance: inf m
- ScaleFactor35efl: 7,9
- ShutterSpeed: 1/4000
- ExifIFD
- ApertureValue: 3,5
- CreateDate: 2010:04:03 14:09:26
- CustomRendered: Normal
- DateTimeOriginal: 2010:04:03 14:09:26
- ExposureCompensation: +1/2
- ExposureMode: Auto
- ExposureProgram: Aperture-priority AE
- ExposureTime: 1/4000
- FNumber: 3,5
- Flash: Off, Did not fire
- FocalLength: 85,0 mm
- ISO: 100
- MaxApertureValue: 1,8
- MeteringMode: Partial
- SceneCaptureType: Standard
- ShutterSpeedValue: 1/4000
- SubjectDistance: 7,27 m
- WhiteBalance: Auto
- ICC-header
- ICC-meas
- ICC-view
- IFD0
- Make: Canon
- Model: Canon EOS 40D
- ModifyDate: 2010:06:18 00:12:52
- IFD1
- System
- XMP-aux
- Firmware: 1.1.1
- FlashCompensation: 0
- ImageNumber: 0
- Lens: EF85mm f/1.8 USM
- LensInfo: 85/1 85/1 0/0 0/0
- SerialNumber: 1210710717
- XMP-crs
- AlreadyApplied: True
- BlueHue: 0
- BlueSaturation: 0
- Brightness: +57
- ChromaticAberrationB: 0
- ChromaticAberrationR: 0
- Clarity: +52
- ColorNoiseReduction: 26
- ColorNoiseReductionDetail: 50
- Contrast: +68
- ConvertToGrayscale: False
- Defringe: 0
- Exposure: -0.23
- FillLight: 0
- GrainAmount: 0
- GreenHue: 0
- GreenSaturation: 0
- HasCrop: False
- HasSettings: True
- HighlightRecovery: 0
- HueAdjustmentAqua: 0
- HueAdjustmentBlue: 0
- HueAdjustmentGreen: 0
- HueAdjustmentMagenta: 0
- HueAdjustmentOrange: 0
- HueAdjustmentPurple: 0
- HueAdjustmentRed: 0
- HueAdjustmentYellow: 0
- LensManualDistortionAmount: 0
- LensProfileEnable: 0
- LensProfileSetup: LensDefaults
- LuminanceAdjustmentAqua: +44
- LuminanceAdjustmentBlue: +37
- LuminanceAdjustmentGreen: 0
- LuminanceAdjustmentMagenta: 0
- LuminanceAdjustmentOrange: 0
- LuminanceAdjustmentPurple: 0
- LuminanceAdjustmentRed: -19
- LuminanceAdjustmentYellow: 0
- LuminanceSmoothing: 0
- ParametricDarks: -6
- ParametricHighlightSplit: 75
- ParametricHighlights: 0
- ParametricLights: 0
- ParametricMidtoneSplit: 50
- ParametricShadowSplit: 25
- ParametricShadows: -25
- PerspectiveHorizontal: 0
- PerspectiveRotate: 0.0
- PerspectiveScale: 100
- PerspectiveVertical: 0
- PostCropVignetteAmount: -22
- PostCropVignetteFeather: 50
- PostCropVignetteHighlightContrast: 0
- PostCropVignetteMidpoint: 50
- PostCropVignetteRoundness: 0
- PostCropVignetteStyle: 1
- ProcessVersion: 5.7
- RedHue: 0
- RedSaturation: 0
- Saturation: +18
- SaturationAdjustmentAqua: +27
- SaturationAdjustmentBlue: +29
- SaturationAdjustmentGreen: -54
- SaturationAdjustmentMagenta: 0
- SaturationAdjustmentOrange: 0
- SaturationAdjustmentPurple: 0
- SaturationAdjustmentRed: +16
- SaturationAdjustmentYellow: -45
- ShadowTint: 0
- Shadows: 2
- SharpenDetail: 25
- SharpenEdgeMasking: 0
- SharpenRadius: +1.0
- Sharpness: 0
- SplitToningBalance: 0
- SplitToningHighlightHue: 78
- SplitToningHighlightSaturation: 58
- SplitToningShadowHue: 233
- SplitToningShadowSaturation: 78
- Temperature: 5678
- Tint: -2
- ToneCurve: 0, 0, 255, 255
- ToneCurveName: Linear
- Version: 6.1
- Vibrance: 0
- VignetteAmount: 0
- WhiteBalance: Custom
- XMP-exif
- DateTimeDigitized: 2010:04:03 14:09:26.17+04:00
- DateTimeOriginal: 2010:04:03 14:09:26.17+04:00
- ExifImageHeight: 800
- ExifImageWidth: 533
- FlashFired: False
- FlashFunction: False
- FlashMode: Off
- FlashRedEyeMode: False
- FlashReturn: No return detection
- XMP-tiff
- ImageHeight: 800
- ImageWidth: 533
- XMP-xmp
- CreateDate: 2010:04:03 14:09:26.17+04:00
- ModifyDate: 2010:06:18 00:12:52+04:00
- Просмотров: 1064
- Рейтинг: голосов еще нет
- Отзывов: 0