| » Участники » Jalil » Новое » Коршун.jpg |
Уважаемые друзья и участники проекта iXBT.photo! К сожалению, 1 марта 2026 года проект iXBT.photo прекратит свою работу и будет закрыт. Мы высоко ценим ваше участие и тот вклад, который вы внесли в развитие нашего сообщества. Пожалуйста, не забудьте сохранить ваши фотографии до этой даты.
С уважением, команда iXBT.com
| Коршун.jpg |
Коршун.jpg
- Раздел: Другое, разное
- Дата съёмки: 19.07.2009 12:12
- Дата загрузки фото: 22.06.2010 01:27
- Оригинальная фотография: 1024 x 680 (186 Кб)
- Технические характеристики:
- Фотоаппарат: Pentax K20D
- Выдержка: 1/2000
- Гиперфокальное расстояние: inf m
- Диафрагма: 5,6
- Светочувствительность: 100
- Фокусное расстояние: 200,0 mm (35 mm equivalent: 200,0 mm)
- Полный EXIF
- Composite
- Aperture: 5,6
- CircleOfConfusion: 0,020 mm
- FOV: 10,0 deg
- FocalLength35efl: 200,0 mm (35 mm equivalent: 200,0 mm)
- HyperfocalDistance: inf m
- ScaleFactor35efl: 1,5
- ShutterSpeed: 1/2000
- ICC-header
- ICC-meas
- ICC-view
- System
- XMP-aux
- Lens: smc PENTAX-DA 50-200mm F4-5.6 ED
- LensID: 4 250
- LensInfo: 500/10 2000/10 40/10 56/10
- XMP-crs
- AlreadyApplied: True
- BlueHue: 0
- BlueSaturation: 0
- Brightness: +6
- CameraProfile: ACR 4.4
- ChromaticAberrationB: 0
- ChromaticAberrationR: 0
- Clarity: +62
- ColorNoiseReduction: 25
- Contrast: +100
- ConvertToGrayscale: True
- Defringe: 0
- Exposure: +2.04
- FillLight: 52
- GrayMixerAqua: -16
- GrayMixerBlue: +15
- GrayMixerGreen: -27
- GrayMixerMagenta: +5
- GrayMixerOrange: -20
- GrayMixerPurple: +19
- GrayMixerRed: -6
- GrayMixerYellow: -24
- GreenHue: 0
- GreenSaturation: 0
- HasCrop: False
- HasSettings: True
- HighlightRecovery: 90
- IncrementalTemperature: +9
- IncrementalTint: -10
- LuminanceSmoothing: 0
- ParametricDarks: -72
- ParametricHighlightSplit: 75
- ParametricHighlights: +96
- ParametricLights: +17
- ParametricMidtoneSplit: 50
- ParametricShadowSplit: 25
- ParametricShadows: -100
- PostCropVignetteAmount: 0
- RedHue: 0
- RedSaturation: 0
- ShadowTint: 0
- Shadows: 71
- SharpenDetail: 43
- SharpenEdgeMasking: 0
- SharpenRadius: +1.1
- Sharpness: 37
- SplitToningBalance: 0
- SplitToningHighlightHue: 46
- SplitToningHighlightSaturation: 0
- SplitToningShadowHue: 237
- SplitToningShadowSaturation: 0
- ToneCurve: 0, 0, 32, 16, 64, 50, 128, 128, 192, 202, 255, 255
- ToneCurveName: Strong Contrast
- Version: 5.4
- VignetteAmount: 0
- WhiteBalance: Custom
- XMP-exif
- ApertureValue: 5,6
- Contrast: High
- CustomRendered: Normal
- DateTimeDigitized: 2009:07:19 12:12:07+04:00
- DateTimeOriginal: 2009:07:19 12:12:07+04:00
- ExifImageHeight: 3104
- ExifImageWidth: 4672
- ExposureCompensation: 0
- ExposureMode: Auto
- ExposureProgram: Aperture-priority AE
- ExposureTime: 1/2000
- FNumber: 5,6
- FlashFired: False
- FlashFunction: False
- FlashMode: Off
- FlashRedEyeMode: False
- FlashReturn: No return detection
- FocalLength: 200,0 mm
- FocalLengthIn35mmFormat: 300 mm
- ISO: 100
- MeteringMode: Multi-segment
- Saturation: Normal
- SceneCaptureType: Standard
- SceneType: Directly photographed
- SensingMethod: One-chip color area
- Sharpness: Hard
- ShutterSpeedValue: 1/2000
- SubjectDistanceRange: Distant
- WhiteBalance: Auto
- XMP-tiff
- ImageHeight: 3104
- ImageWidth: 4672
- Make: PENTAX
- Model: PENTAX K20D
- XMP-xmp
- CreateDate: 2009:07:19 12:12:07+04:00
- ModifyDate: 2009:07:23 00:49:28+04:00
Получить код для блога
| Вставка фотографии в текущем разрешении |
Вставка миниатюры |
HTML (для вставки в блог):
BBCode (для вставки в форум):
Ссылка на фото:
Ссылка на миниатюру:
- Послать ссылку другу
| Комментарии к фотографии |