Уважаемые друзья и участники проекта iXBT.photo! К сожалению, 1 марта 2026 года проект iXBT.photo прекратит свою работу и будет закрыт. Мы высоко ценим ваше участие и тот вклад, который вы внесли в развитие нашего сообщества. Пожалуйста, не забудьте сохранить ваши фотографии до этой даты.
С уважением, команда iXBT.com
| Семья |
Семья
- Раздел: Другое, разное
- Дата съёмки: 14.06.2010 14:03
- Дата загрузки фото: 24.06.2010 22:58
- Оригинальная фотография: 700 x 700 (315 Кб)
- Технические характеристики:
- Фотоаппарат: Canon EOS Kiss X3
- Выдержка: 1/250
- Гиперфокальное расстояние: inf m
- Диафрагма: 5,6
- Светочувствительность: 640
- Фокусное расстояние: 250,0 mm (35 mm equivalent: 2250,0 mm)
- Полный EXIF
- Adobe
- ColorTransform: YCbCr
- Composite
- Aperture: 5,6
- CircleOfConfusion: 0,003 mm
- DOF: inf (0,00 m - inf)
- FOV: 0,0 deg
- FocalLength35efl: 250,0 mm (35 mm equivalent: 2250,0 mm)
- HyperfocalDistance: inf m
- ScaleFactor35efl: 9,2
- ShutterSpeed: 1/250
- ExifIFD
- ApertureValue: 5,6
- CreateDate: 2010:06:14 14:03:27
- CustomRendered: Normal
- DateTimeOriginal: 2010:06:14 14:03:27
- ExposureCompensation: 0
- ExposureMode: Auto
- ExposureProgram: Program AE
- ExposureTime: 1/250
- FNumber: 5,6
- Flash: Off, Did not fire
- FocalLength: 250,0 mm
- ISO: 640
- MaxApertureValue: 5,7
- MeteringMode: Multi-segment
- SceneCaptureType: Standard
- ShutterSpeedValue: 1/250
- SubjectDistance: 4,12 m
- WhiteBalance: Auto
- ICC-header
- ICC-meas
- ICC-view
- IFD0
- Make: Canon
- Model: Canon EOS Kiss X3
- ModifyDate: 2010:06:14 23:04:47
- IFD1
- System
- XMP-aux
- Firmware: 1.0.9
- FlashCompensation: 0
- ImageNumber: 0
- Lens: EF-S55-250mm f/4-5.6 IS
- LensID: 49
- LensInfo: 55/1 250/1 0/0 0/0
- SerialNumber: 360117097
- XMP-crs
- AlreadyApplied: True
- BlueHue: 0
- BlueSaturation: 0
- Brightness: 0
- ChromaticAberrationB: 0
- ChromaticAberrationR: 0
- Clarity: +85
- ColorNoiseReduction: 65
- ColorNoiseReductionDetail: 50
- Contrast: +50
- ConvertToGrayscale: False
- CropAngle: 0
- CropBottom: 1
- CropConstrainToWarp: 0
- CropHeight: 700
- CropLeft: 0.129497
- CropRight: 0.796163
- CropTop: 0
- CropUnit: pixels
- CropWidth: 700
- Defringe: 0
- Exposure: +1.55
- FillLight: 0
- GrainAmount: 0
- GreenHue: 0
- GreenSaturation: 0
- HasCrop: True
- HasSettings: True
- HighlightRecovery: 0
- HueAdjustmentAqua: 0
- HueAdjustmentBlue: 0
- HueAdjustmentGreen: 0
- HueAdjustmentMagenta: 0
- HueAdjustmentOrange: 0
- HueAdjustmentPurple: 0
- HueAdjustmentRed: 0
- HueAdjustmentYellow: 0
- LensManualDistortionAmount: 0
- LensProfileEnable: 0
- LensProfileSetup: LensDefaults
- LuminanceAdjustmentAqua: 0
- LuminanceAdjustmentBlue: 0
- LuminanceAdjustmentGreen: 0
- LuminanceAdjustmentMagenta: 0
- LuminanceAdjustmentOrange: 0
- LuminanceAdjustmentPurple: 0
- LuminanceAdjustmentRed: 0
- LuminanceAdjustmentYellow: 0
- LuminanceNoiseReductionContrast: 0
- LuminanceNoiseReductionDetail: 50
- LuminanceSmoothing: 25
- ParametricDarks: +11
- ParametricHighlightSplit: 75
- ParametricHighlights: -13
- ParametricLights: -13
- ParametricMidtoneSplit: 50
- ParametricShadowSplit: 25
- ParametricShadows: -6
- PerspectiveHorizontal: 0
- PerspectiveRotate: 0.0
- PerspectiveScale: 100
- PerspectiveVertical: 0
- PostCropVignetteAmount: 0
- ProcessVersion: 5.7
- RedHue: 0
- RedSaturation: 0
- Saturation: +4
- SaturationAdjustmentAqua: 0
- SaturationAdjustmentBlue: 0
- SaturationAdjustmentGreen: 0
- SaturationAdjustmentMagenta: 0
- SaturationAdjustmentOrange: 0
- SaturationAdjustmentPurple: 0
- SaturationAdjustmentRed: 0
- SaturationAdjustmentYellow: 0
- ShadowTint: 0
- Shadows: 6
- SharpenDetail: 40
- SharpenEdgeMasking: 0
- SharpenRadius: +1.5
- Sharpness: 40
- SplitToningBalance: 0
- SplitToningHighlightHue: 0
- SplitToningHighlightSaturation: 0
- SplitToningShadowHue: 0
- SplitToningShadowSaturation: 0
- Temperature: 4350
- Tint: +35
- ToneCurve: 0, 0, 32, 22, 64, 56, 128, 128, 192, 196, 255, 255
- ToneCurveName: Medium Contrast
- Version: 6.1
- Vibrance: +13
- VignetteAmount: -30
- VignetteMidpoint: 0
- WhiteBalance: As Shot
- XMP-exif
- DateTimeDigitized: 2010:06:14 14:03:27.36+04:00
- DateTimeOriginal: 2010:06:14 14:03:27.36+04:00
- ExifImageHeight: 700
- ExifImageWidth: 700
- FlashFired: False
- FlashFunction: False
- FlashMode: Off
- FlashRedEyeMode: False
- FlashReturn: No return detection
- XMP-tiff
- ImageHeight: 700
- ImageWidth: 700
- XMP-xmp
- CreateDate: 2010:06:14 14:03:27.36+04:00
- ModifyDate: 2010:06:14 23:04:47+04:00
Получить код для блога
| Вставка фотографии в текущем разрешении |
Вставка миниатюры |
HTML (для вставки в блог):
BBCode (для вставки в форум):
Ссылка на фото:
Ссылка на миниатюру:
- Послать ссылку другу
| Комментарии к фотографии |