| » Участники » Абай » Какая лучше? » Для инета 1.jpg |
Уважаемые друзья и участники проекта iXBT.photo! К сожалению, 1 марта 2026 года проект iXBT.photo прекратит свою работу и будет закрыт. Мы высоко ценим ваше участие и тот вклад, который вы внесли в развитие нашего сообщества. Пожалуйста, не забудьте сохранить ваши фотографии до этой даты.
С уважением, команда iXBT.com
| Для инета 1.jpg |
Для инета 1.jpg
- Раздел: Тесты фототехники
- Дата съёмки: 25.06.2010 19:42
- Дата загрузки фото: 26.06.2010 07:30
- Оригинальная фотография: 4752 x 3168 (1,1 Мб)
- Технические характеристики:
- Фотоаппарат: Canon EOS 50D
- Выдержка: 1/400
- Гиперфокальное расстояние: inf m
- Диафрагма: 1,2
- Светочувствительность: 100
- Фокусное расстояние: 85,0 mm (35 mm equivalent: 85,0 mm)
- Полный EXIF
- Composite
- Aperture: 1,2
- CircleOfConfusion: 0,019 mm
- FOV: 23,0 deg
- FocalLength35efl: 85,0 mm (35 mm equivalent: 85,0 mm)
- HyperfocalDistance: inf m
- ScaleFactor35efl: 1,6
- ShutterSpeed: 1/400
- ExifIFD
- ApertureValue: 1,2
- BrightnessValue: 0
- ColorSpace: Unknown (0)
- CompressedBitsPerPixel: 0
- Contrast: Normal
- CreateDate: 2010:06:25 19:42:54
- DateTimeOriginal: 2010:06:25 19:42:54
- DigitalZoomRatio: 0
- ExifImageHeight: 0
- ExifImageWidth: 0
- ExposureCompensation: 0
- ExposureIndex: 0
- ExposureMode: Manual
- ExposureProgram: Manual
- ExposureTime: 1/400
- FNumber: 1,2
- Flash: Off, Did not fire
- FocalLength: 85,0 mm
- FocalLengthIn35mmFormat: 0 mm
- GainControl: None
- ISO: 100, 100
- LightSource: Unknown
- MaxApertureValue: 1,2
- MeteringMode: Multi-segment
- Saturation: Normal
- SceneCaptureType: Standard
- SceneType: Unknown (0)
- SensingMethod: Unknown (0)
- Sharpness: Normal
- ShutterSpeedValue: 1/400
- SubjectDistance: 0 m
- SubjectDistanceRange: Unknown
- WhiteBalance: Auto
- ICC-header
- ICC-meas
- ICC-view
- IFD0
- Artist: Photographer: Abai Machmud
- Make: Canon
- Model: Canon EOS 50D
- ModifyDate: 2010:06:26 09:10:57
- Orientation: Horizontal (normal)
- PrimaryChromaticities: 0 0 0 0 0 0
- ReferenceBlackWhite: 0 0 0 0 0 0
- WhitePoint: 0 0
- IFD1
- BitsPerSample: 8 8 8
- ImageHeight: 106
- ImageWidth: 160
- JPEGProc: Baseline
- PhotometricInterpretation: YCbCr
- RowsPerStrip: 106
- SamplesPerPixel: 3
- StripByteCounts: 3826
- StripOffsets: 1705
- SubfileType: Full-resolution Image
- IPTC
- By-line: Photographer: Abai Machmud
- System
- XMP-aux
- Firmware: 1.0.7
- FlashCompensation: 0
- ImageNumber: 0
- Lens: EF85mm f/1.2L II USM
- LensInfo: 85/1 85/1 0/0 0/0
- SerialNumber: 1310703689
- XMP-crs
- AlreadyApplied: True
- BlueHue: 0
- BlueSaturation: 0
- Brightness: +50
- CameraProfile: ACR 4.6
- ChromaticAberrationB: 0
- ChromaticAberrationR: 0
- Clarity: 0
- ColorNoiseReduction: 25
- Contrast: +36
- ConvertToGrayscale: False
- Defringe: 0
- Exposure: +0.10
- FillLight: 6
- GreenHue: 0
- GreenSaturation: 0
- HasCrop: False
- HasSettings: True
- HighlightRecovery: 7
- HueAdjustmentAqua: 0
- HueAdjustmentBlue: 0
- HueAdjustmentGreen: 0
- HueAdjustmentMagenta: 0
- HueAdjustmentOrange: 0
- HueAdjustmentPurple: 0
- HueAdjustmentRed: 0
- HueAdjustmentYellow: 0
- LuminanceAdjustmentAqua: 0
- LuminanceAdjustmentBlue: 0
- LuminanceAdjustmentGreen: 0
- LuminanceAdjustmentMagenta: 0
- LuminanceAdjustmentOrange: 0
- LuminanceAdjustmentPurple: 0
- LuminanceAdjustmentRed: 0
- LuminanceAdjustmentYellow: 0
- LuminanceSmoothing: 0
- ParametricDarks: 0
- ParametricHighlightSplit: 75
- ParametricHighlights: 0
- ParametricLights: 0
- ParametricMidtoneSplit: 50
- ParametricShadowSplit: 25
- ParametricShadows: 0
- PostCropVignetteAmount: 0
- RedHue: 0
- RedSaturation: 0
- Saturation: 0
- SaturationAdjustmentAqua: 0
- SaturationAdjustmentBlue: 0
- SaturationAdjustmentGreen: +76
- SaturationAdjustmentMagenta: -48
- SaturationAdjustmentOrange: 0
- SaturationAdjustmentPurple: -50
- SaturationAdjustmentRed: +50
- SaturationAdjustmentYellow: +79
- ShadowTint: 0
- Shadows: 8
- SharpenDetail: 25
- SharpenEdgeMasking: 0
- SharpenRadius: +1.0
- Sharpness: 25
- SplitToningBalance: 0
- SplitToningHighlightHue: 0
- SplitToningHighlightSaturation: 0
- SplitToningShadowHue: 0
- SplitToningShadowSaturation: 0
- Temperature: 5810
- Tint: +11
- ToneCurve: 0, 0, 32, 22, 64, 56, 128, 128, 192, 196, 255, 255
- ToneCurveName: Medium Contrast
- Version: 4.6
- Vibrance: +24
- VignetteAmount: 0
- WhiteBalance: Custom
- XMP-dc
- Creator: Photographer: Abai Machmud
- XMP-exif
- CustomRendered: Normal
- DateTimeDigitized: 2010:06:25 19:42:54.31+06:00
- DateTimeOriginal: 2010:06:25 19:42:54.31+06:00
- ExifImageHeight: 3168
- ExifImageWidth: 4752
- FlashFired: False
- FlashFunction: False
- FlashMode: Off
- FlashRedEyeMode: False
- FlashReturn: No return detection
- ISO: 100
- XMP-tiff
- ImageHeight: 3168
- ImageWidth: 4752
- XMP-xmp
- CreateDate: 2010:06:25 19:42:54.31+06:00
- ModifyDate: 2010:06:26 09:10:57+06:00
- Просмотров: 531
- Рейтинг: голосов еще нет
- Отзывов: 3
Получить код для блога
| Вставка фотографии в текущем разрешении |
Вставка миниатюры |
HTML (для вставки в блог):
BBCode (для вставки в форум):
Ссылка на фото:
Ссылка на миниатюру:
- Послать ссылку другу
| Комментарии к фотографии |