- Раздел: Другое, разное
- Дата съёмки: 20.06.2010 15:06
- Дата загрузки фото: 05.07.2010 23:41
- Оригинальная фотография: 4288 x 2848 (3,4 Мб)
- Технические характеристики:
- Фотоаппарат: Nikon D5000
- Выдержка: 1/60
- Гиперфокальное расстояние: inf m
- Диафрагма: 7,1
- Светочувствительность: 2800
- Фокусное расстояние: 58,0 mm (35 mm equivalent: 58,0 mm)
- Экспокоррекция: +1/3
- Полный EXIF
- Adobe
- ColorTransform: YCbCr
- Composite
- Aperture: 7,1
- CircleOfConfusion: 0,020 mm
- FOV: 34,0 deg
- FocalLength35efl: 58,0 mm (35 mm equivalent: 58,0 mm)
- HyperfocalDistance: inf m
- ScaleFactor35efl: 1,5
- ShutterSpeed: 1/60
- ExifIFD
- ApertureValue: 7,1
- CFAPattern: [Green,Blue][Red,Green]
- Contrast: Normal
- CreateDate: 2010:06:20 15:06:24
- CustomRendered: Normal
- DateTimeOriginal: 2010:06:20 15:06:24
- DigitalZoomRatio: 1
- ExposureCompensation: +1/3
- ExposureMode: Auto
- ExposureProgram: Aperture-priority AE
- ExposureTime: 1/60
- FNumber: 7,1
- Flash: On, Return detected
- FocalLength: 58,0 mm
- FocalLengthIn35mmFormat: 87 mm
- GainControl: High gain up
- ISO: 2800
- LightSource: Unknown
- MaxApertureValue: 5,1
- MeteringMode: Center-weighted average
- Saturation: Normal
- SceneCaptureType: Standard
- SceneType: Directly photographed
- SensingMethod: One-chip color area
- Sharpness: Hard
- ShutterSpeedValue: 1/60
- SubjectDistanceRange: Unknown
- WhiteBalance: Auto
- ICC-header
- ICC-meas
- ICC-view
- IFD0
- Make: NIKON CORPORATION
- Model: NIKON D5000
- ModifyDate: 2010:07:01 23:21:07
- Software: Ver.1.00
- IFD1
- System
- XMP-aux
- ImageNumber: 1990
- Lens: 18.0-105.0 mm f/3.5-5.6
- LensInfo: 180/10 1050/10 35/10 56/10
- SerialNumber: 2138218
- XMP-crs
- AlreadyApplied: True
- BlueHue: 0
- BlueSaturation: 0
- Brightness: +48
- ChromaticAberrationB: 0
- ChromaticAberrationR: 0
- Clarity: 0
- ColorNoiseReduction: 25
- Contrast: +45
- ConvertToGrayscale: False
- Defringe: 0
- Exposure: 0.00
- FillLight: 0
- GreenHue: 0
- GreenSaturation: 0
- HasCrop: False
- HasSettings: True
- HighlightRecovery: 16
- HueAdjustmentAqua: 0
- HueAdjustmentBlue: 0
- HueAdjustmentGreen: 0
- HueAdjustmentMagenta: 0
- HueAdjustmentOrange: 0
- HueAdjustmentPurple: 0
- HueAdjustmentRed: 0
- HueAdjustmentYellow: 0
- LuminanceAdjustmentAqua: 0
- LuminanceAdjustmentBlue: 0
- LuminanceAdjustmentGreen: 0
- LuminanceAdjustmentMagenta: 0
- LuminanceAdjustmentOrange: 0
- LuminanceAdjustmentPurple: 0
- LuminanceAdjustmentRed: 0
- LuminanceAdjustmentYellow: 0
- LuminanceSmoothing: 0
- ParametricDarks: 0
- ParametricHighlightSplit: 75
- ParametricHighlights: 0
- ParametricLights: 0
- ParametricMidtoneSplit: 50
- ParametricShadowSplit: 25
- ParametricShadows: 0
- PostCropVignetteAmount: 0
- RawFileName: DSC_1616.NEF
- RedHue: 0
- RedSaturation: 0
- Saturation: 0
- SaturationAdjustmentAqua: 0
- SaturationAdjustmentBlue: 0
- SaturationAdjustmentGreen: 0
- SaturationAdjustmentMagenta: 0
- SaturationAdjustmentOrange: 0
- SaturationAdjustmentPurple: 0
- SaturationAdjustmentRed: 0
- SaturationAdjustmentYellow: 0
- ShadowTint: 0
- Shadows: 7
- SharpenDetail: 25
- SharpenEdgeMasking: 0
- SharpenRadius: +1.0
- Sharpness: 25
- SplitToningBalance: 0
- SplitToningHighlightHue: 0
- SplitToningHighlightSaturation: 0
- SplitToningShadowHue: 0
- SplitToningShadowSaturation: 0
- Temperature: 5500
- Tint: +6
- ToneCurve: 0, 0, 32, 22, 64, 56, 128, 128, 192, 196, 255, 255
- ToneCurveName: Medium Contrast
- Version: 5.4
- Vibrance: 0
- VignetteAmount: 0
- WhiteBalance: As Shot
- XMP-exif
- DateTimeDigitized: 2010:06:20 15:06:24.00+04:00
- DateTimeOriginal: 2010:06:20 15:06:24.00+04:00
- ExifImageHeight: 2848
- ExifImageWidth: 4288
- FlashFired: True
- FlashFunction: False
- FlashMode: On
- FlashRedEyeMode: False
- FlashReturn: Return detected
- XMP-tiff
- ImageHeight: 2848
- ImageWidth: 4288
- XMP-xmp
- CreateDate: 2010:06:20 15:06:24.00+04:00
- CreatorTool: Ver.1.00
- ModifyDate: 2010:07:01 23:21:07+04:00
- Просмотров: 142
- Рейтинг: голосов еще нет
- Отзывов: 0