- Раздел: Другое, разное
- Дата съёмки: 27.06.2010 13:59
- Дата загрузки фото: 05.07.2010 23:51
- Оригинальная фотография: 4288 x 2848 (3,6 Мб)
- Технические характеристики:
- Фотоаппарат: Nikon D5000
- Выдержка: 1/60
- Гиперфокальное расстояние: inf m
- Диафрагма: 6,3
- Светочувствительность: 3200
- Фокусное расстояние: 22,0 mm (35 mm equivalent: 22,0 mm)
- Экспокоррекция: +2/3
- Полный EXIF
- Adobe
- ColorTransform: YCbCr
- Composite
- Aperture: 6,3
- CircleOfConfusion: 0,020 mm
- FOV: 78,0 deg
- FocalLength35efl: 22,0 mm (35 mm equivalent: 22,0 mm)
- HyperfocalDistance: inf m
- ScaleFactor35efl: 1,5
- ShutterSpeed: 1/60
- ExifIFD
- ApertureValue: 6,3
- CFAPattern: [Green,Blue][Red,Green]
- Contrast: Normal
- CreateDate: 2010:06:27 13:59:28
- CustomRendered: Normal
- DateTimeOriginal: 2010:06:27 13:59:28
- DigitalZoomRatio: 1
- ExposureCompensation: +2/3
- ExposureMode: Auto
- ExposureProgram: Aperture-priority AE
- ExposureTime: 1/60
- FNumber: 6,3
- Flash: On, Return detected
- FocalLength: 22,0 mm
- FocalLengthIn35mmFormat: 33 mm
- GainControl: High gain up
- ISO: 3200
- LightSource: Unknown
- MaxApertureValue: 3,7
- MeteringMode: Center-weighted average
- Saturation: Normal
- SceneCaptureType: Standard
- SceneType: Directly photographed
- SensingMethod: One-chip color area
- Sharpness: Hard
- ShutterSpeedValue: 1/60
- SubjectDistanceRange: Unknown
- WhiteBalance: Auto
- ICC-header
- ICC-meas
- ICC-view
- IFD0
- Make: NIKON CORPORATION
- Model: NIKON D5000
- ModifyDate: 2010:07:05 22:52:18
- Software: Ver.1.00
- IFD1
- System
- XMP-aux
- ImageNumber: 2102
- Lens: 18.0-105.0 mm f/3.5-5.6
- LensInfo: 180/10 1050/10 35/10 56/10
- SerialNumber: 2138218
- XMP-crs
- AlreadyApplied: True
- BlueHue: 0
- BlueSaturation: 0
- Brightness: +48
- ChromaticAberrationB: 0
- ChromaticAberrationR: 0
- Clarity: 0
- ColorNoiseReduction: 25
- Contrast: +40
- ConvertToGrayscale: False
- Defringe: 0
- Exposure: -1.10
- FillLight: 8
- GreenHue: 0
- GreenSaturation: 0
- HasCrop: False
- HasSettings: True
- HighlightRecovery: 0
- HueAdjustmentAqua: 0
- HueAdjustmentBlue: 0
- HueAdjustmentGreen: 0
- HueAdjustmentMagenta: 0
- HueAdjustmentOrange: 0
- HueAdjustmentPurple: 0
- HueAdjustmentRed: 0
- HueAdjustmentYellow: 0
- LuminanceAdjustmentAqua: 0
- LuminanceAdjustmentBlue: 0
- LuminanceAdjustmentGreen: 0
- LuminanceAdjustmentMagenta: 0
- LuminanceAdjustmentOrange: 0
- LuminanceAdjustmentPurple: 0
- LuminanceAdjustmentRed: 0
- LuminanceAdjustmentYellow: 0
- LuminanceSmoothing: 0
- ParametricDarks: 0
- ParametricHighlightSplit: 75
- ParametricHighlights: 0
- ParametricLights: 0
- ParametricMidtoneSplit: 50
- ParametricShadowSplit: 25
- ParametricShadows: 0
- PostCropVignetteAmount: 0
- RawFileName: DSC_1725.NEF
- RedHue: 0
- RedSaturation: 0
- Saturation: 0
- SaturationAdjustmentAqua: 0
- SaturationAdjustmentBlue: 0
- SaturationAdjustmentGreen: 0
- SaturationAdjustmentMagenta: 0
- SaturationAdjustmentOrange: 0
- SaturationAdjustmentPurple: 0
- SaturationAdjustmentRed: 0
- SaturationAdjustmentYellow: 0
- ShadowTint: 0
- Shadows: 23
- SharpenDetail: 25
- SharpenEdgeMasking: 0
- SharpenRadius: +1.0
- Sharpness: 25
- SplitToningBalance: 0
- SplitToningHighlightHue: 0
- SplitToningHighlightSaturation: 0
- SplitToningShadowHue: 0
- SplitToningShadowSaturation: 0
- Temperature: 4900
- Tint: -2
- ToneCurve: 0, 0, 32, 22, 64, 56, 128, 128, 192, 196, 255, 255
- ToneCurveName: Medium Contrast
- Version: 5.4
- Vibrance: 0
- VignetteAmount: 0
- WhiteBalance: As Shot
- XMP-exif
- DateTimeDigitized: 2010:06:27 13:59:28.50+04:00
- DateTimeOriginal: 2010:06:27 13:59:28.50+04:00
- ExifImageHeight: 2848
- ExifImageWidth: 4288
- FlashFired: True
- FlashFunction: False
- FlashMode: On
- FlashRedEyeMode: False
- FlashReturn: Return detected
- XMP-tiff
- ImageHeight: 2848
- ImageWidth: 4288
- XMP-xmp
- CreateDate: 2010:06:27 13:59:28.50+04:00
- CreatorTool: Ver.1.00
- ModifyDate: 2010:07:05 22:52:18+04:00
- Просмотров: 145
- Рейтинг: голосов еще нет
- Отзывов: 0