Уважаемые друзья и участники проекта iXBT.photo! К сожалению, 1 марта 2026 года проект iXBT.photo прекратит свою работу и будет закрыт. Мы высоко ценим ваше участие и тот вклад, который вы внесли в развитие нашего сообщества. Пожалуйста, не забудьте сохранить ваши фотографии до этой даты.
С уважением, команда iXBT.com
| IMGP0265.jpg |
IMGP0265.jpg
- Раздел: Другое, разное
- Дата съёмки: 10.07.2010 22:46
- Дата загрузки фото: 15.07.2010 16:45
- Оригинальная фотография: 819 x 544 (180 Кб)
- Технические характеристики:
- Фотоаппарат: Pentax K-x
- Выдержка: 1,3
- Гиперфокальное расстояние: inf m
- Диафрагма: 5,6
- Светочувствительность: 800
- Фокусное расстояние: 17,0 mm (35 mm equivalent: 17,0 mm)
- Полный EXIF
- Adobe
- ColorTransform: YCbCr
- Composite
- Aperture: 5,6
- CircleOfConfusion: 0,020 mm
- FOV: 93,0 deg
- FocalLength35efl: 17,0 mm (35 mm equivalent: 17,0 mm)
- HyperfocalDistance: inf m
- LightValue: 1,6
- ScaleFactor35efl: 1,5
- ShutterSpeed: 1,3
- ExifIFD
- ApertureValue: 5,6
- CFAPattern: [Blue,Green][Green,Red]
- Contrast: Normal
- CreateDate: 2010:07:10 22:46:44
- CustomRendered: Normal
- DateTimeOriginal: 2010:07:10 22:46:44
- ExposureCompensation: 0
- ExposureMode: Manual
- ExposureProgram: Manual
- ExposureTime: 1,3
- FNumber: 5,6
- Flash: Off, Did not fire
- FocalLength: 17,0 mm
- FocalLengthIn35mmFormat: 25 mm
- ISO: 800
- MeteringMode: Multi-segment
- Saturation: Normal
- SceneCaptureType: Standard
- SensingMethod: One-chip color area
- Sharpness: Normal
- ShutterSpeedValue: 1,3
- SubjectDistanceRange: Close
- WhiteBalance: Manual
- ICC-header
- ICC-meas
- ICC-view
- IFD0
- Make: PENTAX
- Model: PENTAX K-x
- ModifyDate: 2010:07:15 16:35:29
- Software: K-x Ver 1.00
- IFD1
- System
- XMP-aux
- Lens: Tamron AF 17-50mm F2.8 XR Di-II LD
- LensID: 7 230
- LensInfo: 170/10 500/10 28/10 28/10
- XMP-crs
- AlreadyApplied: True
- BlueHue: 0
- BlueSaturation: 0
- Brightness: +50
- ChromaticAberrationB: 0
- ChromaticAberrationR: 0
- Clarity: 0
- ColorNoiseReduction: 25
- Contrast: +84
- ConvertToGrayscale: False
- CropAngle: 0.851044
- CropBottom: 1
- CropHeight: 544
- CropLeft: 0.015763
- CropRight: 0.984237
- CropTop: 0
- CropUnit: pixels
- CropWidth: 819
- Defringe: 0
- Exposure: +0.19
- FillLight: 12
- GradientBasedCorrActive: true
- GradientBasedCorrAmount: 1.000000
- GradientBasedCorrBrightness: -0.650000
- GradientBasedCorrClarity: 0.000000
- GradientBasedCorrContrast: 0.000000
- GradientBasedCorrExposure: 0.000000
- GradientBasedCorrHue: 34.000000
- GradientBasedCorrMaskFullX: 0.588697
- GradientBasedCorrMaskFullY: -0.013307
- GradientBasedCorrMaskValue: 1.000000
- GradientBasedCorrMaskWhat: Mask/Gradient
- GradientBasedCorrMaskZeroX: 0.579062
- GradientBasedCorrMaskZeroY: 0.803344
- GradientBasedCorrSaturation: 0.000000
- GradientBasedCorrSharpness: 0.000000
- GradientBasedCorrWhat: Correction
- GreenHue: 0
- GreenSaturation: 0
- HasCrop: True
- HasSettings: True
- HighlightRecovery: 0
- HueAdjustmentAqua: 0
- HueAdjustmentBlue: 0
- HueAdjustmentGreen: 0
- HueAdjustmentMagenta: 0
- HueAdjustmentOrange: 0
- HueAdjustmentPurple: 0
- HueAdjustmentRed: 0
- HueAdjustmentYellow: 0
- LuminanceAdjustmentAqua: 0
- LuminanceAdjustmentBlue: 0
- LuminanceAdjustmentGreen: 0
- LuminanceAdjustmentMagenta: 0
- LuminanceAdjustmentOrange: 0
- LuminanceAdjustmentPurple: 0
- LuminanceAdjustmentRed: 0
- LuminanceAdjustmentYellow: 0
- LuminanceSmoothing: 0
- ParametricDarks: 0
- ParametricHighlightSplit: 75
- ParametricHighlights: 0
- ParametricLights: 0
- ParametricMidtoneSplit: 50
- ParametricShadowSplit: 25
- ParametricShadows: 0
- PostCropVignetteAmount: 0
- RedHue: 0
- RedSaturation: 0
- Saturation: 0
- SaturationAdjustmentAqua: +14
- SaturationAdjustmentBlue: -59
- SaturationAdjustmentGreen: +14
- SaturationAdjustmentMagenta: +14
- SaturationAdjustmentOrange: +12
- SaturationAdjustmentPurple: -23
- SaturationAdjustmentRed: +14
- SaturationAdjustmentYellow: +14
- ShadowTint: 0
- Shadows: 5
- SharpenDetail: 19
- SharpenEdgeMasking: 0
- SharpenRadius: +1.1
- Sharpness: 150
- SplitToningBalance: 0
- SplitToningHighlightHue: 0
- SplitToningHighlightSaturation: 0
- SplitToningShadowHue: 0
- SplitToningShadowSaturation: 0
- Temperature: 4381
- Tint: +14
- ToneCurve: 0, 0, 32, 22, 64, 56, 128, 128, 192, 196, 255, 255
- ToneCurveName: Medium Contrast
- Version: 5.7
- Vibrance: 0
- VignetteAmount: 0
- WhiteBalance: Custom
- XMP-exif
- DateTimeDigitized: 2010:07:10 22:46:44+04:00
- DateTimeOriginal: 2010:07:10 22:46:44+04:00
- ExifImageHeight: 544
- ExifImageWidth: 819
- FlashFired: False
- FlashFunction: False
- FlashMode: Off
- FlashRedEyeMode: False
- FlashReturn: No return detection
- XMP-tiff
- ImageHeight: 544
- ImageWidth: 819
- XMP-xmp
- CreateDate: 2010:07:10 22:46:44+04:00
- ModifyDate: 2010:07:15 16:35:29+04:00
- Просмотров: 332
- Рейтинг: голосов еще нет
- Отзывов: 0
Получить код для блога
| Вставка фотографии в текущем разрешении |
Вставка миниатюры |
HTML (для вставки в блог):
BBCode (для вставки в форум):
Ссылка на фото:
Ссылка на миниатюру:
- Послать ссылку другу
| Комментарии к фотографии |