Уважаемые друзья и участники проекта iXBT.photo! К сожалению, 1 марта 2026 года проект iXBT.photo прекратит свою работу и будет закрыт. Мы высоко ценим ваше участие и тот вклад, который вы внесли в развитие нашего сообщества. Пожалуйста, не забудьте сохранить ваши фотографии до этой даты.
С уважением, команда iXBT.com
| IMGP1029-2.jpg |
IMGP1029-2.jpg
- Раздел: Другое, разное
- Дата съёмки: 16.07.2010 20:34
- Дата загрузки фото: 17.07.2010 11:29
- Оригинальная фотография: 464 x 699 (134 Кб)
- Технические характеристики:
- Фотоаппарат: Pentax K-x
- Выдержка: 1/160
- Гиперфокальное расстояние: inf m
- Диафрагма: 8,0
- Светочувствительность: 400
- Фокусное расстояние: 85,0 mm (35 mm equivalent: 85,0 mm)
- Экспокоррекция: +1,7
- Полный EXIF
- Adobe
- ColorTransform: YCbCr
- Composite
- Aperture: 8,0
- CircleOfConfusion: 0,020 mm
- FOV: 23,0 deg
- FocalLength35efl: 85,0 mm (35 mm equivalent: 85,0 mm)
- HyperfocalDistance: inf m
- ScaleFactor35efl: 1,5
- ShutterSpeed: 1/160
- ExifIFD
- ApertureValue: 8,0
- Contrast: Normal
- CreateDate: 2010:07:16 20:34:27
- CustomRendered: Normal
- DateTimeOriginal: 2010:07:16 20:34:27
- ExposureCompensation: +1,7
- ExposureMode: Manual
- ExposureProgram: Aperture-priority AE
- ExposureTime: 1/160
- FNumber: 8,0
- Flash: Off, Did not fire
- FocalLength: 85,0 mm
- FocalLengthIn35mmFormat: 127 mm
- ISO: 400
- MeteringMode: Multi-segment
- Saturation: Low
- SceneCaptureType: Standard
- SceneType: Directly photographed
- SensingMethod: One-chip color area
- Sharpness: Normal
- ShutterSpeedValue: 1/160
- SubjectDistanceRange: Distant
- WhiteBalance: Manual
- ICC-header
- ICC-meas
- ICC-view
- IFD0
- Make: PENTAX
- Model: PENTAX K-x
- ModifyDate: 2010:07:17 11:18:49
- Software: K-x Ver 1.00
- IFD1
- System
- XMP-aux
- Lens: smc PENTAX-FA 28-105mm F3.2-4.5 AL[IF]
- LensID: 4 38
- LensInfo: 280/10 1050/10 32/10 45/10
- XMP-crs
- AlreadyApplied: True
- BlueHue: 0
- BlueSaturation: 0
- Brightness: -5
- CameraProfile: ACR 2.4
- ChromaticAberrationB: 0
- ChromaticAberrationR: 0
- Clarity: +90
- ColorNoiseReduction: 25
- Contrast: +57
- ConvertToGrayscale: True
- Defringe: 0
- Exposure: +2.48
- FillLight: 18
- GrayMixerAqua: -20
- GrayMixerBlue: -55
- GrayMixerGreen: -39
- GrayMixerMagenta: +7
- GrayMixerOrange: +18
- GrayMixerPurple: +22
- GrayMixerRed: +38
- GrayMixerYellow: -34
- GreenHue: 0
- GreenSaturation: 0
- HasCrop: False
- HasSettings: True
- HighlightRecovery: 100
- IncrementalTemperature: -19
- IncrementalTint: +62
- LuminanceSmoothing: 0
- ParametricDarks: 0
- ParametricHighlightSplit: 75
- ParametricHighlights: +17
- ParametricLights: -48
- ParametricMidtoneSplit: 50
- ParametricShadowSplit: 25
- ParametricShadows: 0
- PostCropVignetteAmount: 0
- RedHue: 0
- RedSaturation: 0
- ShadowTint: 0
- Shadows: 9
- SharpenDetail: 25
- SharpenEdgeMasking: 0
- SharpenRadius: +1.0
- Sharpness: 150
- SplitToningBalance: -7
- SplitToningHighlightHue: 27
- SplitToningHighlightSaturation: 9
- SplitToningShadowHue: 38
- SplitToningShadowSaturation: 11
- ToneCurve: 0, 0, 32, 16, 64, 50, 128, 128, 192, 202, 255, 255
- ToneCurveName: Strong Contrast
- Version: 5.7
- VignetteAmount: -92
- VignetteMidpoint: 7
- WhiteBalance: Custom
- XMP-exif
- DateTimeDigitized: 2010:07:16 20:34:27+04:00
- DateTimeOriginal: 2010:07:16 20:34:27+04:00
- ExifImageHeight: 699
- ExifImageWidth: 464
- FlashFired: False
- FlashFunction: False
- FlashMode: Off
- FlashRedEyeMode: False
- FlashReturn: No return detection
- XMP-tiff
- ImageHeight: 699
- ImageWidth: 464
- XMP-xmp
- CreateDate: 2010:07:16 20:34:27+04:00
- ModifyDate: 2010:07:17 11:18:49+04:00
Получить код для блога
| Вставка фотографии в текущем разрешении |
Вставка миниатюры |
HTML (для вставки в блог):
BBCode (для вставки в форум):
Ссылка на фото:
Ссылка на миниатюру:
- Послать ссылку другу
| Комментарии к фотографии |