» Участники » Yuras » Львов » Львов, осень |
Львов, осень |
Львов, осень
Canon 24-85
- Раздел: Город
- Дата съёмки: 11.10.2008 12:05
- Дата загрузки фото: 19.07.2010 00:45
- Оригинальная фотография: 2000 x 1333 (1,4 Мб)
- Технические характеристики:
- Фотоаппарат: Canon EOS 350D DIGITAL
- Выдержка: 1/400
- Гиперфокальное расстояние: inf m
- Диафрагма: 7,1
- Светочувствительность: 200
- Фокусное расстояние: 24,0 mm (35 mm equivalent: 48,0 mm)
- Экспокоррекция: -1/3
- Полный EXIF
- Adobe
- ColorTransform: YCbCr
- Composite
- Aperture: 7,1
- CircleOfConfusion: 0,011 mm
- FOV: 41,0 deg
- FocalLength35efl: 24,0 mm (35 mm equivalent: 48,0 mm)
- HyperfocalDistance: inf m
- ScaleFactor35efl: 2,8
- ShutterSpeed: 1/400
- ExifIFD
- ApertureValue: 7,1
- ColorSpace: sRGB
- CreateDate: 2008:10:11 12:05:10
- CustomRendered: Normal
- DateTimeOriginal: 2008:10:11 12:05:10
- ExifImageHeight: 1333
- ExifImageWidth: 2000
- ExposureCompensation: -1/3
- ExposureMode: Auto
- ExposureProgram: Aperture-priority AE
- ExposureTime: 1/400
- FNumber: 7,1
- Flash: Off, Did not fire
- FocalLength: 24,0 mm
- ISO: 200
- MeteringMode: Multi-segment
- SceneCaptureType: Standard
- ShutterSpeedValue: 1/400
- WhiteBalance: Auto
- ICC-header
- ICC-meas
- ICC-view
- IFD0
- Artist: Yuras
- Make: Canon
- Model: Canon EOS 350D DIGITAL
- ModifyDate: 2010:07:18 23:00:36
- Orientation: Horizontal (normal)
- IFD1
- IPTC
- By-line: Yuras
- System
- XMP-aux
- Firmware: 1.0.3
- FlashCompensation: 0
- ImageNumber: 249
- Lens: 24.0-85.0 mm
- LensID: 65535
- LensInfo: 24/1 85/1 0/0 0/0
- OwnerName: Yuras
- SerialNumber: 230102161
- XMP-crs
- AlreadyApplied: True
- BlueHue: 0
- BlueSaturation: 0
- Brightness: +50
- ChromaticAberrationB: 0
- ChromaticAberrationR: 0
- Clarity: 0
- ColorNoiseReduction: 25
- Contrast: +25
- ConvertToGrayscale: False
- Defringe: 0
- Exposure: 0.00
- FillLight: 0
- GrainAmount: 0
- GreenHue: 0
- GreenSaturation: 0
- HasCrop: False
- HasSettings: True
- HighlightRecovery: 7
- HueAdjustmentAqua: 0
- HueAdjustmentBlue: 0
- HueAdjustmentGreen: 0
- HueAdjustmentMagenta: 0
- HueAdjustmentOrange: 0
- HueAdjustmentPurple: 0
- HueAdjustmentRed: 0
- HueAdjustmentYellow: 0
- LuminanceAdjustmentAqua: 0
- LuminanceAdjustmentBlue: 0
- LuminanceAdjustmentGreen: 0
- LuminanceAdjustmentMagenta: 0
- LuminanceAdjustmentOrange: 0
- LuminanceAdjustmentPurple: 0
- LuminanceAdjustmentRed: 0
- LuminanceAdjustmentYellow: 0
- LuminanceSmoothing: 0
- ParametricDarks: 0
- ParametricHighlightSplit: 75
- ParametricHighlights: 0
- ParametricLights: 0
- ParametricMidtoneSplit: 50
- ParametricShadowSplit: 25
- ParametricShadows: 0
- PostCropVignetteAmount: 0
- ProcessVersion: 5.0
- RawFileName: IMG_6905.CR2
- RedHue: 0
- RedSaturation: 0
- Saturation: 0
- SaturationAdjustmentAqua: 0
- SaturationAdjustmentBlue: 0
- SaturationAdjustmentGreen: 0
- SaturationAdjustmentMagenta: 0
- SaturationAdjustmentOrange: 0
- SaturationAdjustmentPurple: 0
- SaturationAdjustmentRed: 0
- SaturationAdjustmentYellow: 0
- ShadowTint: 0
- Shadows: 3
- SharpenDetail: 25
- SharpenEdgeMasking: 0
- SharpenRadius: +1.0
- Sharpness: 25
- SplitToningBalance: 0
- SplitToningHighlightHue: 0
- SplitToningHighlightSaturation: 0
- SplitToningShadowHue: 0
- SplitToningShadowSaturation: 0
- Temperature: 5500
- Tint: +9
- ToneCurve: 0, 0, 32, 22, 64, 56, 128, 128, 192, 196, 255, 255
- ToneCurveName: Medium Contrast
- Version: 5.7
- Vibrance: +25
- VignetteAmount: 0
- WhiteBalance: As Shot
- XMP-dc
- Creator: Yuras
- Format: image/jpeg
- XMP-exif
- DateTimeDigitized: 2008:10:11 12:05:10+03:00
- DateTimeOriginal: 2008:10:11 12:05:10+03:00
- FlashFired: False
- FlashFunction: False
- FlashMode: Off
- FlashRedEyeMode: False
- FlashReturn: No return detection
- XMP-tiff
- XMP-xmp
- CreateDate: 2008:10:11 12:05:10+03:00
- ModifyDate: 2010:07:18 23:00:36+03:00
- Rating: 0
- XMP-xmpMM
Получить код для блога
Вставка фотографии в текущем разрешении |
Вставка миниатюры |
HTML (для вставки в блог):
BBCode (для вставки в форум):
Ссылка на фото:
Ссылка на миниатюру:
- Послать ссылку другу
Комментарии к фотографии |