"Волшебный лес"
Ветерок, выдержка 10 минут, f/16, iso 100, ND32768 (или -15 ступеней).
Картинка недодержана на 4 ступени (дольше ждать желания небыло, тем более, что ещё столько же делается теневой кадр для вычитания).
- Раздел: Тесты фототехники
- Дата съёмки: 09.07.2010 21:49
- Дата загрузки фото: 22.07.2010 18:25
- Оригинальная фотография: 900 x 600 (278 Кб)
- Технические характеристики:
- Фотоаппарат: Canon EOS 550D
- Выдержка: 600,0
- Гиперфокальное расстояние: inf m
- Диафрагма: 16,0
- Светочувствительность: 100
- Фокусное расстояние: 50,0 mm (35 mm equivalent: 450,0 mm)
- Полный EXIF
- Adobe
- ColorTransform: YCbCr
- Composite
- Aperture: 16,0
- CircleOfConfusion: 0,003 mm
- FOV: 4,0 deg
- FocalLength35efl: 50,0 mm (35 mm equivalent: 450,0 mm)
- HyperfocalDistance: inf m
- LightValue: -1,2
- ScaleFactor35efl: 9,1
- ShutterSpeed: 600,0
- ExifIFD
- ApertureValue: 16,0
- ColorSpace: sRGB
- CreateDate: 2010:07:09 21:49:37
- CustomRendered: Normal
- DateTimeOriginal: 2010:07:09 21:49:37
- ExifImageHeight: 600
- ExifImageWidth: 900
- ExposureCompensation: 0
- ExposureMode: Manual
- ExposureProgram: Manual
- ExposureTime: 600,0
- FNumber: 16,0
- Flash: Off, Did not fire
- FocalLength: 50,0 mm
- ISO: 100
- MaxApertureValue: 1,8
- MeteringMode: Multi-segment
- SceneCaptureType: Standard
- ShutterSpeedValue: 600,0
- WhiteBalance: Manual
- ICC-header
- ICC-meas
- ICC-view
- IFD0
- Copyright: Penetron
- Make: Canon
- Model: Canon EOS 550D
- ModifyDate: 2010:07:22 17:59:16
- Orientation: Horizontal (normal)
- IFD1
- IPTC
- By-line: Penetron
- CopyrightNotice: Penetron
- System
- XMP-aux
- Firmware: 1.0.8
- FlashCompensation: 0
- ImageNumber: 0
- Lens: EF50mm f/1.8 II
- LensID: 29
- LensInfo: 50/1 50/1 0/0 0/0
- SerialNumber: 532210092
- XMP-crs
- AlreadyApplied: True
- BlueHue: 0
- BlueSaturation: 0
- Brightness: +30
- ChromaticAberrationB: 0
- ChromaticAberrationR: 0
- Clarity: 0
- ColorNoiseReduction: 100
- Contrast: +50
- ConvertToGrayscale: False
- Defringe: 0
- Exposure: +4.00
- FillLight: 10
- GrainAmount: 0
- GreenHue: 0
- GreenSaturation: 0
- HasCrop: False
- HasSettings: True
- HighlightRecovery: 100
- HueAdjustmentAqua: 0
- HueAdjustmentBlue: 0
- HueAdjustmentGreen: 0
- HueAdjustmentMagenta: 0
- HueAdjustmentOrange: 0
- HueAdjustmentPurple: -100
- HueAdjustmentRed: 0
- HueAdjustmentYellow: 0
- LuminanceAdjustmentAqua: 0
- LuminanceAdjustmentBlue: 0
- LuminanceAdjustmentGreen: 0
- LuminanceAdjustmentMagenta: 0
- LuminanceAdjustmentOrange: 0
- LuminanceAdjustmentPurple: 0
- LuminanceAdjustmentRed: 0
- LuminanceAdjustmentYellow: 0
- LuminanceSmoothing: 0
- ParametricDarks: 0
- ParametricHighlightSplit: 75
- ParametricHighlights: 0
- ParametricLights: 0
- ParametricMidtoneSplit: 50
- ParametricShadowSplit: 25
- ParametricShadows: 0
- PostCropVignetteAmount: 0
- ProcessVersion: 5.0
- RawFileName: IMG_6668.CR2
- RedHue: 0
- RedSaturation: 0
- Saturation: -10
- SaturationAdjustmentAqua: 0
- SaturationAdjustmentBlue: 0
- SaturationAdjustmentGreen: 0
- SaturationAdjustmentMagenta: 0
- SaturationAdjustmentOrange: 0
- SaturationAdjustmentPurple: 0
- SaturationAdjustmentRed: 0
- SaturationAdjustmentYellow: 0
- ShadowTint: 0
- Shadows: 0
- SharpenDetail: 0
- SharpenEdgeMasking: 0
- SharpenRadius: +0.5
- Sharpness: 0
- SplitToningBalance: 0
- SplitToningHighlightHue: 0
- SplitToningHighlightSaturation: 0
- SplitToningShadowHue: 0
- SplitToningShadowSaturation: 0
- Temperature: 5200
- Tint: -20
- ToneCurve: 0, 0, 32, 22, 64, 56, 128, 128, 192, 196, 255, 255
- ToneCurveName: Medium Contrast
- Version: 5.7
- Vibrance: +100
- VignetteAmount: 0
- WhiteBalance: Custom
- XMP-dc
- Creator: Penetron
- Format: image/jpeg
- Rights: Penetron
- XMP-exif
- DateTimeDigitized: 2010:07:09 21:49:37.21+04:00
- DateTimeOriginal: 2010:07:09 21:49:37.21+04:00
- FlashFired: False
- FlashFunction: False
- FlashMode: Off
- FlashRedEyeMode: False
- FlashReturn: No return detection
- XMP-illustrator
- XMP-tiff
- BitsPerSample: 16, 16, 16
- ImageHeight: 3456
- ImageWidth: 5184
- PhotometricInterpretation: RGB
- PlanarConfiguration: Chunky
- SamplesPerPixel: 3
- XMP-x
- XMP-xmp
- CreateDate: 2010:07:22 17:59:16+04:00
- ModifyDate: 2010:07:22 17:59:16+04:00
- Rating: 0
- XMP-xmpMM
- Просмотров: 867
- Рейтинг: голосов еще нет
- Отзывов: 0
Получить код для блога
Вставка фотографии в текущем разрешении |
Вставка миниатюры |
HTML (для вставки в блог):
BBCode (для вставки в форум):
Ссылка на фото:
Ссылка на миниатюру:
- Послать ссылку другу
Комментарии к фотографии |
![](img/title-line.gif) |
![](img/title-shadow.gif) | |