- Раздел: Компьютеры, железо
- Дата съёмки: 25.07.2010 22:57
- Дата загрузки фото: 25.07.2010 23:32
- Оригинальная фотография: 1200 x 800 (247 Кб)
- Технические характеристики:
- Фотоаппарат: Canon EOS 7D
- Выдержка: 1/60
- Гиперфокальное расстояние: inf m
- Диафрагма: 5,0
- Светочувствительность: 100
- Фокусное расстояние: 53,0 mm (35 mm equivalent: 318,0 mm)
- Полный EXIF
- Adobe
- ColorTransform: YCbCr
- Composite
- Aperture: 5,0
- CircleOfConfusion: 0,004 mm
- FOV: 6,0 deg
- FocalLength35efl: 53,0 mm (35 mm equivalent: 318,0 mm)
- HyperfocalDistance: inf m
- ScaleFactor35efl: 6,8
- ShutterSpeed: 1/60
- ExifIFD
- ApertureValue: 5,0
- ColorSpace: Uncalibrated
- CreateDate: 2010:07:25 22:57:01
- CustomRendered: Normal
- DateTimeOriginal: 2010:07:25 22:57:01
- ExifImageHeight: 800
- ExifImageWidth: 1200
- ExposureCompensation: 0
- ExposureMode: Auto
- ExposureProgram: Program AE
- ExposureTime: 1/60
- FNumber: 5,0
- Flash: On, Fired
- FocalLength: 53,0 mm
- ISO: 100
- MaxApertureValue: 5,2
- MeteringMode: Multi-segment
- SceneCaptureType: Standard
- ShutterSpeedValue: 1/60
- SubjectDistance: 0,92 m
- WhiteBalance: Auto
- ICC-header
- IFD0
- Artist: Vzik
- Make: Canon
- Model: Canon EOS 7D
- ModifyDate: 2010:07:25 23:31:41
- Orientation: Horizontal (normal)
- IFD1
- IPTC
- By-line: Vzik
- System
- XMP-aux
- Firmware: 1.2.1
- FlashCompensation: 0
- ImageNumber: 0
- Lens: EF-S15-85mm f/3.5-5.6 IS USM
- LensID: 488
- LensInfo: 15/1 85/1 0/0 0/0
- SerialNumber: 380429785
- XMP-crs
- AlreadyApplied: True
- BlueHue: 0
- BlueSaturation: 0
- Brightness: +51
- ChromaticAberrationB: 0
- ChromaticAberrationR: 0
- Clarity: 0
- ColorNoiseReduction: 25
- Contrast: +30
- ConvertToGrayscale: False
- Defringe: 0
- Exposure: -0.40
- FillLight: 0
- GrainAmount: 0
- GreenHue: 0
- GreenSaturation: 0
- HasCrop: False
- HasSettings: True
- HighlightRecovery: 25
- HueAdjustmentAqua: 0
- HueAdjustmentBlue: 0
- HueAdjustmentGreen: 0
- HueAdjustmentMagenta: 0
- HueAdjustmentOrange: 0
- HueAdjustmentPurple: 0
- HueAdjustmentRed: 0
- HueAdjustmentYellow: 0
- LuminanceAdjustmentAqua: 0
- LuminanceAdjustmentBlue: 0
- LuminanceAdjustmentGreen: 0
- LuminanceAdjustmentMagenta: 0
- LuminanceAdjustmentOrange: 0
- LuminanceAdjustmentPurple: 0
- LuminanceAdjustmentRed: 0
- LuminanceAdjustmentYellow: 0
- LuminanceSmoothing: 0
- ParametricDarks: 0
- ParametricHighlightSplit: 75
- ParametricHighlights: -71
- ParametricLights: 0
- ParametricMidtoneSplit: 50
- ParametricShadowSplit: 25
- ParametricShadows: +83
- PostCropVignetteAmount: 0
- ProcessVersion: 5.0
- RawFileName: IMG_0448.CR2
- RedHue: 0
- RedSaturation: 0
- Saturation: 0
- SaturationAdjustmentAqua: 0
- SaturationAdjustmentBlue: 0
- SaturationAdjustmentGreen: 0
- SaturationAdjustmentMagenta: 0
- SaturationAdjustmentOrange: 0
- SaturationAdjustmentPurple: 0
- SaturationAdjustmentRed: 0
- SaturationAdjustmentYellow: 0
- ShadowTint: 0
- Shadows: 2
- SharpenDetail: 25
- SharpenEdgeMasking: 0
- SharpenRadius: +1.0
- Sharpness: 25
- SplitToningBalance: 0
- SplitToningHighlightHue: 0
- SplitToningHighlightSaturation: 0
- SplitToningShadowHue: 0
- SplitToningShadowSaturation: 0
- Temperature: 6150
- Tint: +18
- ToneCurve: 0, 0, 32, 22, 64, 56, 128, 128, 192, 196, 255, 255
- ToneCurveName: Medium Contrast
- Version: 5.7
- Vibrance: 0
- VignetteAmount: 0
- WhiteBalance: As Shot
- XMP-dc
- Creator: Vzik
- Format: image/jpeg
- XMP-exif
- DateTimeDigitized: 2010:07:25 22:57:01.00+04:00
- DateTimeOriginal: 2010:07:25 22:57:01.00+04:00
- FlashFired: True
- FlashFunction: False
- FlashMode: On
- FlashRedEyeMode: False
- FlashReturn: No return detection
- XMP-tiff
- XMP-xmp
- CreateDate: 2010:07:25 22:57:01.00+04:00
- ModifyDate: 2010:07:25 23:31:41+04:00
- Rating: 0
- XMP-xmpMM
- Просмотров: 2031
- Рейтинг: голосов еще нет
- Отзывов: отключены