- Раздел: Природа
- Дата съёмки: 18.06.2010 13:38
- Дата загрузки фото: 30.07.2010 02:15
- Оригинальная фотография: 1500 x 1000 (725 Кб)
- Технические характеристики:
- Фотоаппарат: Canon EOS REBEL T1i
- Выдержка: 1/2500
- Гиперфокальное расстояние: inf m
- Диафрагма: 7,1
- Светочувствительность: 400
- Фокусное расстояние: 24,0 mm (35 mm equivalent: 120,0 mm)
- Полный EXIF
- Composite
- Aperture: 7,1
- CircleOfConfusion: 0,006 mm
- FOV: 17,0 deg
- FocalLength35efl: 24,0 mm (35 mm equivalent: 120,0 mm)
- HyperfocalDistance: inf m
- ScaleFactor35efl: 5,0
- ShutterSpeed: 1/2500
- ExifIFD
- ApertureValue: 7,1
- CreateDate: 2010:06:18 13:38:50
- CustomRendered: Normal
- DateTimeOriginal: 2010:06:18 13:38:50
- ExifImageHeight: 1000
- ExifImageWidth: 1500
- ExposureCompensation: 0
- ExposureMode: Manual
- ExposureProgram: Manual
- ExposureTime: 1/2500
- FNumber: 7,1
- Flash: Off, Did not fire
- FocalLength: 24,0 mm
- ISO: 400
- MaxApertureValue: 4,0
- MeteringMode: Multi-segment
- SceneCaptureType: Standard
- ShutterSpeedValue: 1/2500
- SubjectDistance: m
- WhiteBalance: Auto
- ICC-header
- ICC-meas
- ICC-view
- IFD0
- Artist: Harddy
- Copyright: foto soul @ by viniL
- Make: Canon
- Model: Canon EOS REBEL T1i
- ModifyDate: 2010:07:30 01:13:18
- Orientation: Horizontal (normal)
- Software: ACD Systems Digital Imaging
- IFD1
- IPTC
- By-line: Harddy
- CopyrightNotice: foto soul @ by viniL
- System
- XMP-aux
- Firmware: 1.0.9
- FlashCompensation: 0
- ImageNumber: 0
- Lens: EF24-105mm f/4L IS USM
- LensID: 237
- LensInfo: 24/1 105/1 0/0 0/0
- OwnerName: AlexD
- SerialNumber: 570125380
- XMP-crs
- AlreadyApplied: True
- BlueHue: 0
- BlueSaturation: 0
- Brightness: +58
- ChromaticAberrationB: 0
- ChromaticAberrationR: 0
- Clarity: 0
- ColorNoiseReduction: 25
- Contrast: +58
- ConvertToGrayscale: False
- Defringe: 0
- Exposure: +0.25
- FillLight: 50
- GreenHue: 0
- GreenSaturation: 0
- HasCrop: False
- HasSettings: True
- HighlightRecovery: 0
- HueAdjustmentAqua: 0
- HueAdjustmentBlue: 0
- HueAdjustmentGreen: 0
- HueAdjustmentMagenta: 0
- HueAdjustmentOrange: 0
- HueAdjustmentPurple: 0
- HueAdjustmentRed: 0
- HueAdjustmentYellow: 0
- LuminanceAdjustmentAqua: -100
- LuminanceAdjustmentBlue: -74
- LuminanceAdjustmentGreen: 0
- LuminanceAdjustmentMagenta: 0
- LuminanceAdjustmentOrange: 0
- LuminanceAdjustmentPurple: 0
- LuminanceAdjustmentRed: 0
- LuminanceAdjustmentYellow: 0
- LuminanceSmoothing: 0
- PaintCorrectionActive: true
- PaintCorrectionAmount: 1.000000
- PaintCorrectionBrightness: 0.265000
- PaintCorrectionClarity: 0.000000
- PaintCorrectionContrast: 0.070000
- PaintCorrectionExposure: 0.425000
- PaintCorrectionHue: 0.000000
- PaintCorrectionMaskCenterWeight: 0.162140
- PaintCorrectionMaskFlow: 0.737589
- PaintCorrectionMaskRadius: 0.252757
- PaintCorrectionMaskValue: 0.380000
- PaintCorrectionMaskWhat: Mask/Paint
- PaintCorrectionSaturation: 0.000000
- PaintCorrectionSharpness: 0.000000
- PaintCorrectionWhat: Correction
- ParametricDarks: 0
- ParametricHighlightSplit: 75
- ParametricHighlights: 0
- ParametricLights: 0
- ParametricMidtoneSplit: 50
- ParametricShadowSplit: 25
- ParametricShadows: 0
- PostCropVignetteAmount: 0
- RawFileName: IMG_4228.CR2
- RedHue: 0
- RedSaturation: 0
- Saturation: 0
- SaturationAdjustmentAqua: 0
- SaturationAdjustmentBlue: 0
- SaturationAdjustmentGreen: 0
- SaturationAdjustmentMagenta: 0
- SaturationAdjustmentOrange: 0
- SaturationAdjustmentPurple: 0
- SaturationAdjustmentRed: 0
- SaturationAdjustmentYellow: 0
- ShadowTint: 0
- Shadows: 25
- SharpenDetail: 25
- SharpenEdgeMasking: 0
- SharpenRadius: +1.0
- Sharpness: 25
- SplitToningBalance: 0
- SplitToningHighlightHue: 0
- SplitToningHighlightSaturation: 0
- SplitToningShadowHue: 0
- SplitToningShadowSaturation: 0
- Temperature: 5450
- Tint: +5
- ToneCurve: 0, 0, 32, 22, 64, 56, 128, 128, 192, 196, 255, 255
- ToneCurveName: Medium Contrast
- Version: 5.6
- Vibrance: 0
- VignetteAmount: 0
- WhiteBalance: As Shot
- XMP-dc
- Creator: Harddy
- Rights: foto soul @ by viniL
- XMP-exif
- DateTimeDigitized: 2010:06:18 13:38:50.89+2:00
- DateTimeOriginal: 2010:06:18 13:38:50.89+2:00
- ExifImageHeight: 3168
- ExifImageWidth: 4752
- FlashFired: False
- FlashFunction: False
- FlashMode: Off
- FlashRedEyeMode: False
- FlashReturn: No return detection
- SubjectDistance: 4294967295 m
- XMP-tiff
- ImageHeight: 3168
- ImageWidth: 4752
- XMP-x
- XMP-xmp
- CreateDate: 2010:06:18 14:38:50.89+03:00
- ModifyDate: 2010:06:20 18:13:38.0+2:00
- Rating: 0