- Раздел: Другое, разное
- Дата съёмки: 06.08.2010 10:37
- Дата загрузки фото: 07.08.2010 09:07
- Оригинальная фотография: 630 x 420 (259 Кб)
- Технические характеристики:
- Фотоаппарат: Canon EOS 50D
- Выдержка: 1/100
- Гиперфокальное расстояние: inf m
- Диафрагма: 6,3
- Светочувствительность: 200
- Фокусное расстояние: 28,0 mm (35 mm equivalent: 308,0 mm)
- Полный EXIF
- Adobe
- ColorTransform: YCbCr
- Composite
- Aperture: 6,3
- CircleOfConfusion: 0,003 mm
- FOV: 6,0 deg
- FocalLength35efl: 28,0 mm (35 mm equivalent: 308,0 mm)
- HyperfocalDistance: inf m
- ScaleFactor35efl: 12,0
- ShutterSpeed: 1/100
- ExifIFD
- ApertureValue: 6,3
- ColorSpace: sRGB
- CreateDate: 2010:08:06 10:37:53
- CustomRendered: Normal
- DateTimeOriginal: 2010:08:06 10:37:53
- ExifImageHeight: 420
- ExifImageWidth: 630
- ExposureCompensation: 0
- ExposureMode: Auto
- ExposureProgram: Aperture-priority AE
- ExposureTime: 1/100
- FNumber: 6,3
- Flash: Off, Did not fire
- FocalLength: 28,0 mm
- ISO: 200
- MaxApertureValue: 2,8
- MeteringMode: Multi-segment
- SceneCaptureType: Standard
- ShutterSpeedValue: 1/100
- WhiteBalance: Auto
- ICC-header
- ICC-meas
- ICC-view
- IFD0
- Artist: http://hiv-iv.livejournal.com
- BitsPerSample: 8 8 8
- Copyright: Ivan (HiV) Tsyrkunovich
- ImageHeight: 3077
- ImageWidth: 4615
- Make: Canon
- Model: Canon EOS 50D
- ModifyDate: 2010:08:07 02:27:39
- Orientation: Horizontal (normal)
- PhotometricInterpretation: RGB
- SamplesPerPixel: 3
- IFD1
- IPTC
- By-line: http://hiv-iv.livejournal.com
- CopyrightNotice: Ivan (HiV) Tsyrkunovich
- DateCreated: 2010:08:06
- System
- XMP-aux
- Firmware: 1.0.7
- FlashCompensation: 0
- ImageNumber: 0
- Lens: 28-75mm
- LensID: 161
- LensInfo: 28/1 75/1 0/0 0/0
- OwnerName: Ivan Tsyrkunovich
- SerialNumber: 2260713305
- XMP-crs
- AlreadyApplied: True
- BlueHue: 0
- BlueSaturation: 0
- Brightness: +44
- ChromaticAberrationB: 0
- ChromaticAberrationR: 0
- Clarity: +46
- ColorNoiseReduction: 16
- ColorNoiseReductionDetail: 50
- Contrast: +25
- ConvertToGrayscale: False
- CropAngle: 0
- CropBottom: 1
- CropConstrainToWarp: 0
- CropHeight: 3077
- CropLeft: 0.028754
- CropRight: 1
- CropTop: 0.028754
- CropUnit: pixels
- CropWidth: 4615
- Defringe: 0
- Exposure: -0.17
- FillLight: 38
- GradientBasedCorrActive: true
- GradientBasedCorrAmount: 1.000000
- GradientBasedCorrBrightness: 0.000000
- GradientBasedCorrClarity: 0.011000
- GradientBasedCorrContrast: 0.000000
- GradientBasedCorrExposure: -0.385000
- GradientBasedCorrHue: 240.000000
- GradientBasedCorrMaskFullX: 0.271088
- GradientBasedCorrMaskFullY: -0.023680
- GradientBasedCorrMaskValue: 1.000000
- GradientBasedCorrMaskWhat: Mask/Gradient
- GradientBasedCorrMaskZeroX: 0.305799
- GradientBasedCorrMaskZeroY: 0.354265
- GradientBasedCorrSaturation: 0.000000
- GradientBasedCorrSharpness: 0.000000
- GradientBasedCorrWhat: Correction
- GrainAmount: 0
- GreenHue: 0
- GreenSaturation: 0
- HasCrop: True
- HasSettings: True
- HighlightRecovery: 4
- HueAdjustmentAqua: 0
- HueAdjustmentBlue: 0
- HueAdjustmentGreen: 0
- HueAdjustmentMagenta: 0
- HueAdjustmentOrange: 0
- HueAdjustmentPurple: 0
- HueAdjustmentRed: 0
- HueAdjustmentYellow: 0
- LensManualDistortionAmount: 0
- LensProfileChromaticAberrationScale: 100
- LensProfileDistortionScale: 100
- LensProfileEnable: 1
- LensProfileFilename: Canon EOS-1Ds Mark III (Tamron Di 28-75mm f2.8 SP XR LD IF) - RAW.lcp
- LensProfileSetup: LensDefaults
- LensProfileVignettingScale: 100
- LuminanceAdjustmentAqua: 0
- LuminanceAdjustmentBlue: -63
- LuminanceAdjustmentGreen: -6
- LuminanceAdjustmentMagenta: 0
- LuminanceAdjustmentOrange: 0
- LuminanceAdjustmentPurple: 0
- LuminanceAdjustmentRed: 0
- LuminanceAdjustmentYellow: 0
- LuminanceNoiseReductionContrast: 0
- LuminanceNoiseReductionDetail: 50
- LuminanceSmoothing: 18
- PaintCorrectionActive: true
- PaintCorrectionAmount: 1.000000
- PaintCorrectionBrightness: 0.000000
- PaintCorrectionClarity: -0.620000
- PaintCorrectionContrast: 0.000000
- PaintCorrectionExposure: 0.000000
- PaintCorrectionHue: 240.000000
- PaintCorrectionMaskCenterWeight: 0.000000
- PaintCorrectionMaskFlow: 0.457000
- PaintCorrectionMaskRadius: 0.101894
- PaintCorrectionMaskValue: 1.000000
- PaintCorrectionMaskWhat: Mask/Paint
- PaintCorrectionSaturation: 0.000000
- PaintCorrectionSharpness: 0.000000
- PaintCorrectionWhat: Correction
- ParametricDarks: +6
- ParametricHighlightSplit: 75
- ParametricHighlights: +4
- ParametricLights: +4
- ParametricMidtoneSplit: 50
- ParametricShadowSplit: 25
- ParametricShadows: -13
- PerspectiveHorizontal: 0
- PerspectiveRotate: 0.0
- PerspectiveScale: 100
- PerspectiveVertical: 0
- PostCropVignetteAmount: 0
- ProcessVersion: 5.7
- RedHue: 0
- RedSaturation: 0
- Saturation: -8
- SaturationAdjustmentAqua: 0
- SaturationAdjustmentBlue: +38
- SaturationAdjustmentGreen: +18
- SaturationAdjustmentMagenta: 0
- SaturationAdjustmentOrange: 0
- SaturationAdjustmentPurple: 0
- SaturationAdjustmentRed: 0
- SaturationAdjustmentYellow: +10
- ShadowTint: 0
- Shadows: 38
- SharpenDetail: 23
- SharpenEdgeMasking: 14
- SharpenRadius: +0.7
- Sharpness: 64
- SplitToningBalance: -12
- SplitToningHighlightHue: 48
- SplitToningHighlightSaturation: 24
- SplitToningShadowHue: 215
- SplitToningShadowSaturation: 7
- Temperature: 5750
- Tint: +25
- ToneCurve: 0, 0, 32, 22, 64, 56, 128, 128, 192, 196, 255, 255
- ToneCurveName: Medium Contrast
- Version: 6.1
- Vibrance: +35
- VignetteAmount: -31
- VignetteMidpoint: 50
- WhiteBalance: Custom
- XMP-dc
- Creator: http://hiv-iv.livejournal.com
- Format: image/jpeg
- Rights: Ivan (HiV) Tsyrkunovich
- XMP-xmp
- CreateDate: 2010:08:06 10:37:53.00+03:00
- ModifyDate: 2010:08:07 02:27:39+03:00
- XMP-xmpMM