- Раздел: Другое, разное
- Дата съёмки: 04.08.2010 19:06
- Дата загрузки фото: 19.08.2010 18:10
- Оригинальная фотография: 900 x 835 (273 Кб)
- Технические характеристики:
- Фотоаппарат: Nikon D700
- Выдержка: 1/250
- Гиперфокальное расстояние: inf m
- Диафрагма: 9,0
- Светочувствительность: 200
- Фокусное расстояние: 24,0 mm (35 mm equivalent: 24,0 mm)
- Полный EXIF
- Adobe
- ColorTransform: YCbCr
- Composite
- Aperture: 9,0
- CircleOfConfusion: 0,030 mm
- DOF: inf (0,00 m - inf)
- FOV: 73,0 deg
- FocalLength35efl: 24,0 mm (35 mm equivalent: 24,0 mm)
- HyperfocalDistance: inf m
- ScaleFactor35efl: 1,0
- ShutterSpeed: 1/250
- ExifIFD
- ApertureValue: 9,0
- CFAPattern: [Red,Green][Green,Blue]
- ColorSpace: sRGB
- Contrast: Normal
- CreateDate: 2010:08:04 19:06:06
- CustomRendered: Normal
- DateTimeOriginal: 2010:08:04 19:06:06
- DigitalZoomRatio: 1
- ExifImageHeight: 835
- ExifImageWidth: 900
- ExposureCompensation: 0
- ExposureMode: Auto
- ExposureProgram: Aperture-priority AE
- ExposureTime: 1/250
- FNumber: 9,0
- Flash: No Flash
- FocalLength: 24,0 mm
- FocalLengthIn35mmFormat: 24 mm
- GainControl: None
- ISO: 200
- LightSource: Unknown
- MaxApertureValue: 2,8
- MeteringMode: Multi-segment
- Saturation: Normal
- SceneCaptureType: Standard
- SceneType: Directly photographed
- SensingMethod: One-chip color area
- Sharpness: Normal
- ShutterSpeedValue: 1/250
- SubjectDistance: 5,01 m
- SubjectDistanceRange: Unknown
- WhiteBalance: Auto
- ICC-header
- ICC-meas
- ICC-view
- IFD0
- Make: NIKON CORPORATION
- Model: NIKON D700
- ModifyDate: 2010:08:10 23:05:28
- Orientation: Horizontal (normal)
- IFD1
- IPTC
- System
- XMP-aux
- ImageNumber: 5862
- Lens: 24.0-70.0 mm f/2.8
- LensID: 147
- LensInfo: 240/10 700/10 28/10 28/10
- SerialNumber: 2222350
- XMP-crs
- AlreadyApplied: True
- BlueHue: 0
- BlueSaturation: 0
- Brightness: +50
- CameraProfile: ACR 4.6
- ChromaticAberrationB: 0
- ChromaticAberrationR: 0
- Clarity: 0
- ColorNoiseReduction: 25
- ColorNoiseReductionDetail: 50
- Contrast: +10
- ConvertToGrayscale: True
- CropAngle: -0.275495
- CropBottom: 0.994122
- CropConstrainToWarp: 0
- CropHeight: 835
- CropLeft: 0.102948
- CropRight: 0.818188
- CropTop: 0.006448
- CropUnit: pixels
- CropWidth: 900
- Defringe: 0
- Exposure: 0.00
- FillLight: 30
- GrainAmount: 0
- GrayMixerAqua: -18
- GrayMixerBlue: -32
- GrayMixerGreen: -28
- GrayMixerMagenta: +4
- GrayMixerOrange: -14
- GrayMixerPurple: +16
- GrayMixerRed: -48
- GrayMixerYellow: -27
- GreenHue: 0
- GreenSaturation: 0
- HasCrop: True
- HasSettings: True
- HighlightRecovery: 0
- LensManualDistortionAmount: 0
- LensProfileEnable: 0
- LensProfileSetup: LensDefaults
- LuminanceSmoothing: 0
- ParametricDarks: +1
- ParametricHighlightSplit: 75
- ParametricHighlights: +43
- ParametricLights: +20
- ParametricMidtoneSplit: 50
- ParametricShadowSplit: 25
- ParametricShadows: -43
- PerspectiveHorizontal: 0
- PerspectiveRotate: 0.0
- PerspectiveScale: 100
- PerspectiveVertical: 0
- PostCropVignetteAmount: 0
- ProcessVersion: 5.7
- RedHue: 0
- RedSaturation: 0
- ShadowTint: 0
- Shadows: 5
- SharpenDetail: 25
- SharpenEdgeMasking: 0
- SharpenRadius: +1.0
- Sharpness: 25
- SplitToningBalance: 0
- SplitToningHighlightHue: 0
- SplitToningHighlightSaturation: 0
- SplitToningShadowHue: 0
- SplitToningShadowSaturation: 0
- Temperature: 4414
- Tint: 0
- ToneCurve: 0, 0, 32, 22, 64, 56, 128, 128, 192, 196, 255, 255
- ToneCurveName: Medium Contrast
- Version: 6.1
- VignetteAmount: 0
- WhiteBalance: Custom
- XMP-dc
- XMP-exif
- DateTimeDigitized: 2010:08:04 19:06:06.92+04:00
- DateTimeOriginal: 2010:08:04 19:06:06.92+04:00
- FlashFired: False
- FlashFunction: False
- FlashMode: Unknown
- FlashRedEyeMode: False
- FlashReturn: No return detection
- XMP-tiff
- ImageHeight: 835
- ImageWidth: 900
- XMP-xmp
- CreateDate: 2010:08:04 19:06:06.92+04:00
- ModifyDate: 2010:08:10 23:05:28+04:00
- XMP-xmpMM