- Раздел: Другое, разное
- Дата съёмки: 11.08.2010 09:02
- Дата загрузки фото: 22.08.2010 20:54
- Оригинальная фотография: 1920 x 1287 (733 Кб)
- Технические характеристики:
- Фотоаппарат: Canon EOS 350D DIGITAL
- Выдержка: 1/200
- Гиперфокальное расстояние: inf m
- Диафрагма: 9,0
- Светочувствительность: 200
- Фокусное расстояние: 11,0 mm (35 mm equivalent: 22,0 mm)
- Экспокоррекция: -1/3
- Полный EXIF
- Adobe
- ColorTransform: Unknown (RGB or CMYK)
- Composite
- Aperture: 9,0
- CircleOfConfusion: 0,010 mm
- FOV: 78,0 deg
- FocalLength35efl: 11,0 mm (35 mm equivalent: 22,0 mm)
- HyperfocalDistance: inf m
- ScaleFactor35efl: 2,9
- ShutterSpeed: 1/200
- ExifIFD
- ApertureValue: 9,0
- ColorSpace: Uncalibrated
- CreateDate: 2010:08:11 09:02:37
- CustomRendered: Normal
- DateTimeOriginal: 2010:08:11 09:02:37
- ExifImageHeight: 1287
- ExifImageWidth: 1920
- ExposureCompensation: -1/3
- ExposureMode: Auto
- ExposureProgram: Aperture-priority AE
- ExposureTime: 1/200
- FNumber: 9,0
- Flash: Off, Did not fire
- FocalLength: 11,0 mm
- ISO: 200
- MaxApertureValue: 4,0
- MeteringMode: Multi-segment
- SceneCaptureType: Standard
- ShutterSpeedValue: 1/200
- WhiteBalance: Auto
- ICC-header
- IFD0
- Artist: Yuras
- Make: Canon
- Model: Canon EOS 350D DIGITAL
- ModifyDate: 2010:08:22 19:51:42
- Orientation: Horizontal (normal)
- IFD1
- IPTC
- By-line: Yuras
- System
- XMP-aux
- Firmware: 1.0.3
- FlashCompensation: 0
- ImageNumber: 2
- Lens: 10.0-20.0 mm
- LensID: 65535
- LensInfo: 10/1 20/1 0/0 0/0
- OwnerName: Yuras
- SerialNumber: 230102161
- XMP-crs
- AlreadyApplied: True
- BlueHue: -12
- BlueSaturation: +2
- Brightness: +43
- CameraProfile: Camera Landscape
- ChromaticAberrationB: 0
- ChromaticAberrationR: 0
- Clarity: +27
- ColorNoiseReduction: 77
- Contrast: +61
- ConvertToGrayscale: True
- Defringe: 0
- Exposure: -1.00
- FillLight: 0
- GrainAmount: 0
- GrayMixerAqua: +33
- GrayMixerBlue: -83
- GrayMixerGreen: -8
- GrayMixerMagenta: +24
- GrayMixerOrange: +58
- GrayMixerPurple: +5
- GrayMixerRed: -14
- GrayMixerYellow: +23
- GreenHue: -23
- GreenSaturation: +10
- HasCrop: False
- HasSettings: True
- HighlightRecovery: 82
- LuminanceSmoothing: 46
- ParametricDarks: 0
- ParametricHighlightSplit: 75
- ParametricHighlights: 0
- ParametricLights: 0
- ParametricMidtoneSplit: 50
- ParametricShadowSplit: 25
- ParametricShadows: 0
- PostCropVignetteAmount: 0
- ProcessVersion: 5.0
- RawFileName: IMG_1538.CR2
- RedHue: -5
- RedSaturation: -30
- ShadowTint: -12
- Shadows: 8
- SharpenDetail: 58
- SharpenEdgeMasking: 30
- SharpenRadius: +0.7
- Sharpness: 91
- SplitToningBalance: 0
- SplitToningHighlightHue: 0
- SplitToningHighlightSaturation: 0
- SplitToningShadowHue: 0
- SplitToningShadowSaturation: 0
- Temperature: 5650
- Tint: +14
- ToneCurve: 0, 0, 32, 22, 64, 56, 128, 128, 192, 196, 255, 255
- ToneCurveName: Medium Contrast
- Version: 5.7
- VignetteAmount: 0
- WhiteBalance: As Shot
- XMP-dc
- Creator: Yuras
- Format: image/jpeg
- XMP-exif
- DateTimeDigitized: 2010:08:11 09:02:37+03:00
- DateTimeOriginal: 2010:08:11 09:02:37+03:00
- FlashFired: False
- FlashFunction: False
- FlashMode: Off
- FlashRedEyeMode: False
- FlashReturn: No return detection
- XMP-tiff
- XMP-xmp
- CreateDate: 2010:08:11 09:02:37+03:00
- ModifyDate: 2010:08:22 19:51:42+03:00
- Rating: 0
- XMP-xmpMM
- DerivedFrom: