| » Ó÷àñòíèêè » fiolet » Æèâîòíûå » ïðîöåññ óõàæèâàíèé2.jpg |
Óâàæàåìûå äðóçüÿ è ó÷àñòíèêè ïðîåêòà iXBT.photo! Ê ñîæàëåíèþ, 1 ìàðòà 2026 ãîäà ïðîåêò iXBT.photo ïðåêðàòèò ñâîþ ðàáîòó è áóäåò çàêðûò. Ìû âûñîêî öåíèì âàøå ó÷àñòèå è òîò âêëàä, êîòîðûé âû âíåñëè â ðàçâèòèå íàøåãî ñîîáùåñòâà. Ïîæàëóéñòà, íå çàáóäüòå ñîõðàíèòü âàøè ôîòîãðàôèè äî ýòîé äàòû.
Ñ óâàæåíèåì, êîìàíäà iXBT.com
| ïðîöåññ óõàæèâàíèé2.jpg |
ïðîöåññ óõàæèâàíèé2.jpg
Ïðîöåññ ïàâëèíüèõ óõàæèâàíèé ((Âàëüäøòåéíñêèé ïàðê)
- Ðàçäåë: Æèâîòíûå
- Äàòà ñú¸ìêè: 24.05.2008 15:50
- Äàòà çàãðóçêè ôîòî: 29.08.2010 10:44
- Îðèãèíàëüíàÿ ôîòîãðàôèÿ: 1162 x 778 (205 Êá)
- Òåõíè÷åñêèå õàðàêòåðèñòèêè:
- Ôîòîàïïàðàò: Sony DSLR-A100
- Âûäåðæêà: 1/125
- Ãèïåðôîêàëüíîå ðàññòîÿíèå: inf m
- Äèàôðàãìà: 10,0
- Ñâåòî÷óâñòâèòåëüíîñòü: 100
- Ôîêóñíîå ðàññòîÿíèå: 18,0 mm (35 mm equivalent: 18,0 mm)
- Ýêñïîêîððåêöèÿ: -0,3
- Ïîëíûé EXIF
- Adobe
- ColorTransform: YCbCr
- Composite
- Aperture: 10,0
- CircleOfConfusion: 0,020 mm
- FOV: 90,0 deg
- FocalLength35efl: 18,0 mm (35 mm equivalent: 18,0 mm)
- HyperfocalDistance: inf m
- ScaleFactor35efl: 1,5
- ShutterSpeed: 1/125
- ExifIFD
- ApertureValue: 10,0
- BrightnessValue: 8,25
- ColorSpace: sRGB
- Contrast: Normal
- CreateDate: 2008:05:24 15:50:36
- CustomRendered: Normal
- DateTimeOriginal: 2008:05:24 15:50:36
- DigitalZoomRatio: 0
- ExifImageHeight: 778
- ExifImageWidth: 1162
- ExposureCompensation: -0,3
- ExposureMode: Auto
- ExposureProgram: Program AE
- ExposureTime: 1/125
- FNumber: 10,0
- Flash: Off, Did not fire
- FocalLength: 18,0 mm
- FocalLengthIn35mmFormat: 27 mm
- GainControl: None
- ISO: 100
- LightSource: Unknown
- MaxApertureValue: 3,5
- MeteringMode: Center-weighted average
- Saturation: High
- SceneCaptureType: Standard
- SceneType: Directly photographed
- Sharpness: Hard
- ShutterSpeedValue: 1/125
- SubjectArea: 1149 1296 329 393
- WhiteBalance: Auto
- ICC-header
- ICC-meas
- ICC-view
- IFD0
- ImageDescription: SONY DSC
- Make: SONY
- Model: DSLR-A100
- ModifyDate: 2010:08:28 23:20:58
- Orientation: Horizontal (normal)
- IFD1
- IPTC
- Caption-Abstract: SONY DSC
- System
- XMP-crs
- AlreadyApplied: True
- BlueHue: 0
- BlueSaturation: 0
- Brightness: 0
- CameraProfile: Embedded
- ChromaticAberrationB: 0
- ChromaticAberrationR: 0
- Clarity: +34
- ColorNoiseReduction: 0
- Contrast: +9
- ConvertToGrayscale: False
- Defringe: 0
- Exposure: +0.05
- FillLight: 0
- GreenHue: 0
- GreenSaturation: 0
- HasCrop: False
- HasSettings: True
- HighlightRecovery: 0
- HueAdjustmentAqua: 0
- HueAdjustmentBlue: 0
- HueAdjustmentGreen: 0
- HueAdjustmentMagenta: 0
- HueAdjustmentOrange: 0
- HueAdjustmentPurple: 0
- HueAdjustmentRed: 0
- HueAdjustmentYellow: 0
- IncrementalTemperature: 0
- IncrementalTint: 0
- LuminanceAdjustmentAqua: 0
- LuminanceAdjustmentBlue: 0
- LuminanceAdjustmentGreen: 0
- LuminanceAdjustmentMagenta: 0
- LuminanceAdjustmentOrange: 0
- LuminanceAdjustmentPurple: 0
- LuminanceAdjustmentRed: 0
- LuminanceAdjustmentYellow: 0
- LuminanceSmoothing: 0
- ParametricDarks: 0
- ParametricHighlightSplit: 75
- ParametricHighlights: 0
- ParametricLights: 0
- ParametricMidtoneSplit: 50
- ParametricShadowSplit: 25
- ParametricShadows: 0
- PostCropVignetteAmount: 0
- RawFileName: Изображение 039.jpg
- RedHue: 0
- RedSaturation: 0
- Saturation: 0
- SaturationAdjustmentAqua: 0
- SaturationAdjustmentBlue: 0
- SaturationAdjustmentGreen: 0
- SaturationAdjustmentMagenta: 0
- SaturationAdjustmentOrange: 0
- SaturationAdjustmentPurple: 0
- SaturationAdjustmentRed: 0
- SaturationAdjustmentYellow: 0
- ShadowTint: 0
- Shadows: 0
- SharpenDetail: 25
- SharpenEdgeMasking: 0
- SharpenRadius: +1.0
- Sharpness: 0
- SplitToningBalance: 0
- SplitToningHighlightHue: 0
- SplitToningHighlightSaturation: 0
- SplitToningShadowHue: 0
- SplitToningShadowSaturation: 0
- ToneCurve: 0, 0, 255, 255
- ToneCurveName: Linear
- Version: 5.0
- Vibrance: +24
- VignetteAmount: 0
- WhiteBalance: As Shot
- XMP-dc
- Description: SONY DSC
- Format: image/jpeg
- XMP-exif
- DateTimeDigitized: 2008:05:24 15:50:36+04:00
- DateTimeOriginal: 2008:05:24 15:50:36+04:00
- FlashFired: False
- FlashFunction: False
- FlashMode: Off
- FlashRedEyeMode: False
- FlashReturn: No return detection
- SubjectArea: 1149, 1296, 329, 393
- XMP-tiff
- XMP-xmp
- CreateDate: 2008:05:24 15:50:36+04:00
- CreatorTool: ACD Systems Digital Imaging
- ModifyDate: 2010:08:28 23:20:58+04:00
- Rating: 0
- XMP-xmpMM
- DerivedFrom:
- Ïðîñìîòðîâ: 377
- Ðåéòèíã: ãîëîñîâ åùå íåò
- Îòçûâîâ: 0
Ïîëó÷èòü êîä äëÿ áëîãà
| Âñòàâêà ôîòîãðàôèè â òåêóùåì ðàçðåøåíèè |
Âñòàâêà ìèíèàòþðû |
HTML (äëÿ âñòàâêè â áëîã):
BBCode (äëÿ âñòàâêè â ôîðóì):
Ññûëêà íà ôîòî:
Ññûëêà íà ìèíèàòþðó:
- Ïîñëàòü ññûëêó äðóãó
| Êîììåíòàðèè ê ôîòîãðàôèè |