| » Ó÷àñòíèêè » fiolet » Æèâîòíûå » ðûæàÿ êîøêà ñ õîçÿéêîé.jpg |
Óâàæàåìûå äðóçüÿ è ó÷àñòíèêè ïðîåêòà iXBT.photo! Ê ñîæàëåíèþ, 1 ìàðòà 2026 ãîäà ïðîåêò iXBT.photo ïðåêðàòèò ñâîþ ðàáîòó è áóäåò çàêðûò. Ìû âûñîêî öåíèì âàøå ó÷àñòèå è òîò âêëàä, êîòîðûé âû âíåñëè â ðàçâèòèå íàøåãî ñîîáùåñòâà. Ïîæàëóéñòà, íå çàáóäüòå ñîõðàíèòü âàøè ôîòîãðàôèè äî ýòîé äàòû.
Ñ óâàæåíèåì, êîìàíäà iXBT.com
| ðûæàÿ êîøêà ñ õîçÿéêîé.jpg |
ðûæàÿ êîøêà ñ õîçÿéêîé.jpg
Ðûæàÿ êîøêà ñ õîçÿéêîé íà âûñòàâêå "Ñîäðóæåñòâî"
- Ðàçäåë: Æèâîòíûå
- Äàòà ñú¸ìêè: 23.04.2005 12:05
- Äàòà çàãðóçêè ôîòî: 29.08.2010 11:04
- Îðèãèíàëüíàÿ ôîòîãðàôèÿ: 947 x 633 (138 Êá)
- Òåõíè÷åñêèå õàðàêòåðèñòèêè:
- Ôîòîàïïàðàò: Nikon E4500
- Âûäåðæêà: 1/13
- Ãèïåðôîêàëüíîå ðàññòîÿíèå: inf m
- Äèàôðàãìà: 2,6
- Ñâåòî÷óâñòâèòåëüíîñòü: 100
- Ôîêóñíîå ðàññòîÿíèå: 7,0 mm (35 mm equivalent: 35,0 mm)
- Ïîëíûé EXIF
- Adobe
- ColorTransform: YCbCr
- Composite
- Aperture: 2,6
- CircleOfConfusion: 0,006 mm
- FOV: 54,0 deg
- FocalLength35efl: 7,0 mm (35 mm equivalent: 35,0 mm)
- HyperfocalDistance: inf m
- ScaleFactor35efl: 5,4
- ShutterSpeed: 1/13
- ExifIFD
- ApertureValue: 2,6
- ColorSpace: sRGB
- Contrast: Normal
- CreateDate: 2005:04:23 12:05:14
- CustomRendered: Normal
- DateTimeOriginal: 2005:04:23 12:05:14
- DigitalZoomRatio: 0
- ExifImageHeight: 633
- ExifImageWidth: 947
- ExposureCompensation: 0
- ExposureMode: Auto
- ExposureProgram: Program AE
- ExposureTime: 1/13
- FNumber: 2,6
- Flash: Off, Did not fire
- FocalLength: 7,9 mm
- FocalLengthIn35mmFormat: 38 mm
- GainControl: None
- ISO: 100
- LightSource: Unknown
- MaxApertureValue: 2,6
- MeteringMode: Multi-segment
- Saturation: Normal
- SceneCaptureType: Standard
- SceneType: Directly photographed
- Sharpness: Normal
- ShutterSpeedValue: 1/13
- SubjectDistanceRange: Unknown
- WhiteBalance: Auto
- ICC-header
- ICC-meas
- ICC-view
- IFD0
- ImageDescription:
- Make: NIKON
- Model: E4500
- ModifyDate: 2010:08:29 10:52:49
- Orientation: Horizontal (normal)
- IFD1
- IPTC
- Caption-Abstract:
- System
- XMP-crs
- AlreadyApplied: True
- BlueHue: 0
- BlueSaturation: 0
- Brightness: 0
- CameraProfile: Embedded
- ChromaticAberrationB: 0
- ChromaticAberrationR: 0
- Clarity: +16
- ColorNoiseReduction: 0
- Contrast: -1
- ConvertToGrayscale: False
- Defringe: 0
- Exposure: +0.20
- FillLight: 7
- GreenHue: 0
- GreenSaturation: 0
- HasCrop: False
- HasSettings: True
- HighlightRecovery: 24
- HueAdjustmentAqua: 0
- HueAdjustmentBlue: 0
- HueAdjustmentGreen: 0
- HueAdjustmentMagenta: 0
- HueAdjustmentOrange: 0
- HueAdjustmentPurple: 0
- HueAdjustmentRed: 0
- HueAdjustmentYellow: 0
- IncrementalTemperature: 0
- IncrementalTint: 0
- LuminanceAdjustmentAqua: 0
- LuminanceAdjustmentBlue: 0
- LuminanceAdjustmentGreen: 0
- LuminanceAdjustmentMagenta: 0
- LuminanceAdjustmentOrange: 0
- LuminanceAdjustmentPurple: 0
- LuminanceAdjustmentRed: 0
- LuminanceAdjustmentYellow: 0
- LuminanceSmoothing: 0
- ParametricDarks: 0
- ParametricHighlightSplit: 75
- ParametricHighlights: 0
- ParametricLights: 0
- ParametricMidtoneSplit: 50
- ParametricShadowSplit: 25
- ParametricShadows: 0
- PostCropVignetteAmount: 0
- RawFileName: Изображение 056.jpg
- RedHue: 0
- RedSaturation: 0
- Saturation: +2
- SaturationAdjustmentAqua: 0
- SaturationAdjustmentBlue: 0
- SaturationAdjustmentGreen: 0
- SaturationAdjustmentMagenta: 0
- SaturationAdjustmentOrange: 0
- SaturationAdjustmentPurple: 0
- SaturationAdjustmentRed: 0
- SaturationAdjustmentYellow: 0
- ShadowTint: 0
- Shadows: 1
- SharpenDetail: 25
- SharpenEdgeMasking: 0
- SharpenRadius: +1.0
- Sharpness: 36
- SplitToningBalance: 0
- SplitToningHighlightHue: 0
- SplitToningHighlightSaturation: 0
- SplitToningShadowHue: 0
- SplitToningShadowSaturation: 0
- ToneCurve: 0, 0, 255, 255
- ToneCurveName: Linear
- Version: 5.0
- Vibrance: -13
- VignetteAmount: 0
- WhiteBalance: As Shot
- XMP-dc
- Description:
- Format: image/jpeg
- XMP-exif
- DateTimeDigitized: 2005:04:23 12:05:14+04:00
- DateTimeOriginal: 2005:04:23 12:05:14+04:00
- FlashFired: False
- FlashFunction: False
- FlashMode: Off
- FlashRedEyeMode: False
- FlashReturn: No return detection
- FocalLength: 7,8 mm
- XMP-tiff
- XMP-xmp
- CreateDate: 2005:04:23 12:05:14+04:00
- CreatorTool: ACD Systems Digital Imaging
- ModifyDate: 2010:08:29 10:52:49+04:00
- Rating: 0
- XMP-xmpMM
- Ïðîñìîòðîâ: 415
- Ðåéòèíã: ãîëîñîâ åùå íåò
- Îòçûâîâ: 0
Ïîëó÷èòü êîä äëÿ áëîãà
| Âñòàâêà ôîòîãðàôèè â òåêóùåì ðàçðåøåíèè |
Âñòàâêà ìèíèàòþðû |
HTML (äëÿ âñòàâêè â áëîã):
BBCode (äëÿ âñòàâêè â ôîðóì):
Ññûëêà íà ôîòî:
Ññûëêà íà ìèíèàòþðó:
- Ïîñëàòü ññûëêó äðóãó
| Êîììåíòàðèè ê ôîòîãðàôèè |