- Раздел: Другое, разное
- Дата съёмки: 16.07.2010 12:11
- Дата загрузки фото: 01.09.2010 21:50
- Оригинальная фотография: 640 x 360 (135 Кб)
- Технические характеристики:
- Фотоаппарат: Canon EOS 450D
- Выдержка: 1/4000
- Гиперфокальное расстояние: inf m
- Диафрагма: 2,8
- Светочувствительность: 100
- Фокусное расстояние: 50,0 mm (35 mm equivalent: 550,0 mm)
- Полный EXIF
- Adobe
- ColorTransform: YCbCr
- Composite
- Aperture: 2,8
- CircleOfConfusion: 0,003 mm
- FOV: 3,0 deg
- FocalLength35efl: 50,0 mm (35 mm equivalent: 550,0 mm)
- HyperfocalDistance: inf m
- ScaleFactor35efl: 11,3
- ShutterSpeed: 1/4000
- ExifIFD
- ApertureValue: 2,8
- ColorSpace: sRGB
- CreateDate: 2010:07:16 12:11:10
- CustomRendered: Normal
- DateTimeOriginal: 2010:07:16 12:11:10
- ExifImageHeight: 360
- ExifImageWidth: 640
- ExposureCompensation: 0
- ExposureMode: Auto
- ExposureProgram: Aperture-priority AE
- ExposureTime: 1/4000
- FNumber: 2,8
- Flash: Off, Did not fire
- FocalLength: 50,0 mm
- ISO: 100
- MaxApertureValue: 2,8
- MeteringMode: Multi-segment
- SceneCaptureType: Standard
- ShutterSpeedValue: 1/4000
- WhiteBalance: Auto
- ICC-header
- ICC-meas
- ICC-view
- IFD0
- BitsPerSample: 8 8 8
- ImageHeight: 2848
- ImageWidth: 4272
- Make: Canon
- Model: Canon EOS 450D
- ModifyDate: 2010:08:31 23:27:43
- Orientation: Horizontal (normal)
- PhotometricInterpretation: RGB
- SamplesPerPixel: 3
- IFD1
- IPTC
- DateCreated: 2010:07:16
- System
- XMP-aux
- Firmware: 1.0.9
- FlashCompensation: 0
- ImageNumber: 0
- Lens: 17-50mm
- LensID: 161
- LensInfo: 17/1 50/1 0/0 0/0
- SerialNumber: 980397873
- XMP-crs
- AlreadyApplied: True
- BlueHue: 0
- BlueSaturation: 0
- Brightness: +50
- ChromaticAberrationB: 0
- ChromaticAberrationR: 0
- Clarity: +19
- ColorNoiseReduction: 100
- ColorNoiseReductionDetail: 50
- Contrast: +25
- ConvertToGrayscale: False
- Defringe: 0
- Exposure: +0.36
- FillLight: 0
- GrainAmount: 0
- GreenHue: 0
- GreenSaturation: 0
- HasCrop: False
- HasSettings: True
- HighlightRecovery: 0
- HueAdjustmentAqua: 0
- HueAdjustmentBlue: 0
- HueAdjustmentGreen: 0
- HueAdjustmentMagenta: 0
- HueAdjustmentOrange: 0
- HueAdjustmentPurple: 0
- HueAdjustmentRed: 0
- HueAdjustmentYellow: 0
- LensManualDistortionAmount: 0
- LensProfileEnable: 0
- LensProfileSetup: LensDefaults
- LuminanceAdjustmentAqua: 0
- LuminanceAdjustmentBlue: -16
- LuminanceAdjustmentGreen: -6
- LuminanceAdjustmentMagenta: 0
- LuminanceAdjustmentOrange: 0
- LuminanceAdjustmentPurple: 0
- LuminanceAdjustmentRed: 0
- LuminanceAdjustmentYellow: 0
- LuminanceNoiseReductionContrast: 0
- LuminanceNoiseReductionDetail: 50
- LuminanceSmoothing: 12
- PaintCorrectionActive: true
- PaintCorrectionAmount: 1.000000
- PaintCorrectionBrightness: 0.000000
- PaintCorrectionClarity: 0.000000
- PaintCorrectionContrast: 0.000000
- PaintCorrectionExposure: 0.160000
- PaintCorrectionHue: 0.000000
- PaintCorrectionMaskCenterWeight: 0.000000
- PaintCorrectionMaskFlow: 1.000000
- PaintCorrectionMaskRadius: 0.012014
- PaintCorrectionMaskValue: 1.000000
- PaintCorrectionMaskWhat: Mask/Paint
- PaintCorrectionSaturation: 0.000000
- PaintCorrectionSharpness: 0.000000
- PaintCorrectionWhat: Correction
- ParametricDarks: -9
- ParametricHighlightSplit: 75
- ParametricHighlights: 0
- ParametricLights: +3
- ParametricMidtoneSplit: 50
- ParametricShadowSplit: 25
- ParametricShadows: 0
- PerspectiveHorizontal: 0
- PerspectiveRotate: 0.0
- PerspectiveScale: 100
- PerspectiveVertical: 0
- PostCropVignetteAmount: 0
- ProcessVersion: 5.7
- RedHue: 0
- RedSaturation: 0
- Saturation: +5
- SaturationAdjustmentAqua: 0
- SaturationAdjustmentBlue: +13
- SaturationAdjustmentGreen: +18
- SaturationAdjustmentMagenta: 0
- SaturationAdjustmentOrange: 0
- SaturationAdjustmentPurple: 0
- SaturationAdjustmentRed: 0
- SaturationAdjustmentYellow: +10
- ShadowTint: 0
- Shadows: 5
- SharpenDetail: 23
- SharpenEdgeMasking: 3
- SharpenRadius: +0.7
- Sharpness: 49
- SplitToningBalance: -12
- SplitToningHighlightHue: 48
- SplitToningHighlightSaturation: 24
- SplitToningShadowHue: 0
- SplitToningShadowSaturation: 0
- Temperature: 5400
- Tint: -5
- ToneCurve: 0, 0, 32, 22, 64, 56, 128, 128, 192, 196, 255, 255
- ToneCurveName: Medium Contrast
- Version: 6.1
- Vibrance: +20
- VignetteAmount: +7
- VignetteMidpoint: 30
- WhiteBalance: As Shot
- XMP-dc
- XMP-xmp
- CreateDate: 2010:07:16 12:11:10.21+03:00
- ModifyDate: 2010:08:31 23:27:43+03:00
- XMP-xmpMM
- Просмотров: 189
- Рейтинг: голосов еще нет
- Отзывов: отключены