- Раздел: Другое, разное
- Дата съёмки: 02.09.2010 11:20
- Дата загрузки фото: 02.09.2010 22:28
- Оригинальная фотография: 2048 x 1536 (236 Кб)
- Технические характеристики:
- Фотоаппарат: Panasonic DMC-GF1
- Выдержка: 1/30
- Диафрагма: 5,6
- Светочувствительность: 100
- Фокусное расстояние: 20,0 mm
- Полный EXIF
- Adobe
- ColorTransform: YCbCr
- Composite
- Aperture: 5,6
- FocalLength35efl: 20,0 mm
- ShutterSpeed: 1/30
- ExifIFD
- ApertureValue: 5,6
- CreateDate: 2010:09:02 11:20:12
- DateTimeOriginal: 2010:09:02 11:20:12
- ExposureCompensation: 0
- ExposureProgram: Aperture-priority AE
- ExposureTime: 1/30
- FNumber: 5,6
- Flash: On, Fired
- FocalLength: 20,0 mm
- ISO: 100
- MaxApertureValue: 1,7
- MeteringMode: Center-weighted average
- ShutterSpeedValue: 1/30
- ICC-header
- ICC-meas
- ICC-view
- IFD0
- Make: Panasonic
- Model: DMC-GF1
- ModifyDate: 2010:09:02 12:26:06
- IFD1
- System
- XMP-aux
- Lens: LUMIX G 20/F1.7
- LensSerialNumber: 09HG3284508
- XMP-crs
- AlreadyApplied: True
- BlueHue: 0
- BlueSaturation: 0
- Brightness: +18
- ChromaticAberrationB: 0
- ChromaticAberrationR: 0
- Clarity: 0
- ColorNoiseReduction: 0
- Contrast: +20
- ConvertToGrayscale: False
- Defringe: 0
- Exposure: -2.00
- FillLight: 0
- GrainAmount: 0
- GreenHue: 0
- GreenSaturation: 0
- HasCrop: False
- HasSettings: True
- HighlightRecovery: 25
- HueAdjustmentAqua: 0
- HueAdjustmentBlue: 0
- HueAdjustmentGreen: 0
- HueAdjustmentMagenta: 0
- HueAdjustmentOrange: 0
- HueAdjustmentPurple: 0
- HueAdjustmentRed: 0
- HueAdjustmentYellow: 0
- LensManualDistortionAmount: 0
- LensProfileEnable: 0
- LensProfileSetup: LensDefaults
- LuminanceAdjustmentAqua: 0
- LuminanceAdjustmentBlue: 0
- LuminanceAdjustmentGreen: 0
- LuminanceAdjustmentMagenta: 0
- LuminanceAdjustmentOrange: 0
- LuminanceAdjustmentPurple: 0
- LuminanceAdjustmentRed: 0
- LuminanceAdjustmentYellow: 0
- LuminanceSmoothing: 0
- ParametricDarks: 0
- ParametricHighlightSplit: 75
- ParametricHighlights: 0
- ParametricLights: 0
- ParametricMidtoneSplit: 50
- ParametricShadowSplit: 25
- ParametricShadows: 0
- PerspectiveHorizontal: 0
- PerspectiveRotate: 0.0
- PerspectiveScale: 100
- PerspectiveVertical: 0
- PostCropVignetteAmount: 0
- ProcessVersion: 5.7
- RawFileName: P1010425.RW2
- RedHue: 0
- RedSaturation: 0
- Saturation: 0
- SaturationAdjustmentAqua: 0
- SaturationAdjustmentBlue: 0
- SaturationAdjustmentGreen: 0
- SaturationAdjustmentMagenta: 0
- SaturationAdjustmentOrange: 0
- SaturationAdjustmentPurple: 0
- SaturationAdjustmentRed: 0
- SaturationAdjustmentYellow: 0
- ShadowTint: 0
- Shadows: 3
- SharpenDetail: 25
- SharpenEdgeMasking: 0
- SharpenRadius: +0.8
- Sharpness: 75
- SplitToningBalance: 0
- SplitToningHighlightHue: 0
- SplitToningHighlightSaturation: 0
- SplitToningShadowHue: 0
- SplitToningShadowSaturation: 0
- Temperature: 7300
- Tint: -21
- ToneCurve: 0, 0, 32, 22, 64, 56, 128, 128, 192, 196, 255, 255
- ToneCurveName: Medium Contrast
- Version: 6.1
- Vibrance: 0
- VignetteAmount: 0
- WhiteBalance: Custom
- XMP-exif
- DateTimeDigitized: 2010:09:02 11:20:12+04:00
- DateTimeOriginal: 2010:09:02 11:20:12+04:00
- ExifImageHeight: 1536
- ExifImageWidth: 2048
- FlashFired: True
- FlashFunction: False
- FlashMode: On
- FlashRedEyeMode: False
- FlashReturn: No return detection
- XMP-tiff
- ImageHeight: 1536
- ImageWidth: 2048
- XMP-xmp
- CreateDate: 2010:09:02 11:20:12+04:00
- ModifyDate: 2010:09:02 12:26:06+04:00
- Rating: 0
- Просмотров: 327
- Рейтинг: голосов еще нет
- Отзывов: 0