- Раздел: Другое, разное
- Дата съёмки: 21.08.2010 20:14
- Дата загрузки фото: 04.09.2010 18:14
- Оригинальная фотография: 1280 x 853 (400 Кб)
- Технические характеристики:
- Фотоаппарат: Sony DSLR-A900
- Выдержка: 1/80
- Гиперфокальное расстояние: inf m
- Диафрагма: 6,3
- Светочувствительность: 200
- Фокусное расстояние: 17,0 mm (35 mm equivalent: 17,0 mm)
- Полный EXIF
- Adobe
- ColorTransform: YCbCr
- Composite
- Aperture: 6,3
- CircleOfConfusion: 0,030 mm
- FOV: 93,0 deg
- FocalLength35efl: 17,0 mm (35 mm equivalent: 17,0 mm)
- HyperfocalDistance: inf m
- ScaleFactor35efl: 1,0
- ShutterSpeed: 1/80
- ExifIFD
- ApertureValue: 6,3
- BrightnessValue: 6,75
- ColorSpace: sRGB
- Contrast: Normal
- CreateDate: 2010:08:21 20:14:53
- CustomRendered: Normal
- DateTimeOriginal: 2010:08:21 20:14:53
- ExifImageHeight: 853
- ExifImageWidth: 1280
- ExposureCompensation: 0
- ExposureMode: Manual
- ExposureProgram: Manual
- ExposureTime: 1/80
- FNumber: 6,3
- Flash: Off, Did not fire
- FocalLength: 17,0 mm
- FocalLengthIn35mmFormat: 17 mm
- ISO: 200
- LightSource: Unknown
- MaxApertureValue: 2,8
- MeteringMode: Center-weighted average
- Saturation: Normal
- SceneCaptureType: Standard
- SceneType: Directly photographed
- Sharpness: Normal
- ShutterSpeedValue: 1/80
- WhiteBalance: Auto
- ICC-header
- ICC-meas
- ICC-view
- IFD0
- ImageDescription: SONY DSC
- Make: SONY
- Model: DSLR-A900
- ModifyDate: 2010:09:04 13:44:33
- Orientation: Horizontal (normal)
- IFD1
- IPTC
- Caption-Abstract: SONY DSC
- System
- XMP-crs
- AlreadyApplied: True
- BlueHue: 0
- BlueSaturation: 0
- Brightness: +50
- CameraProfile: ACR 4.6
- ChromaticAberrationB: 0
- ChromaticAberrationR: 0
- Clarity: 0
- ColorNoiseReduction: 25
- Contrast: +25
- ConvertToGrayscale: False
- Defringe: 0
- Exposure: -0.45
- FillLight: 0
- GreenHue: 0
- GreenSaturation: 0
- HasCrop: False
- HasSettings: True
- HighlightRecovery: 25
- HueAdjustmentAqua: 0
- HueAdjustmentBlue: 0
- HueAdjustmentGreen: 0
- HueAdjustmentMagenta: 0
- HueAdjustmentOrange: 0
- HueAdjustmentPurple: 0
- HueAdjustmentRed: 0
- HueAdjustmentYellow: 0
- LuminanceAdjustmentAqua: 0
- LuminanceAdjustmentBlue: 0
- LuminanceAdjustmentGreen: 0
- LuminanceAdjustmentMagenta: 0
- LuminanceAdjustmentOrange: 0
- LuminanceAdjustmentPurple: 0
- LuminanceAdjustmentRed: 0
- LuminanceAdjustmentYellow: 0
- LuminanceSmoothing: 0
- ParametricDarks: 0
- ParametricHighlightSplit: 75
- ParametricHighlights: 0
- ParametricLights: 0
- ParametricMidtoneSplit: 50
- ParametricShadowSplit: 25
- ParametricShadows: 0
- PostCropVignetteAmount: 0
- RawFileName: DSC09613.ARW
- RedHue: 0
- RedSaturation: 0
- Saturation: 0
- SaturationAdjustmentAqua: 0
- SaturationAdjustmentBlue: 0
- SaturationAdjustmentGreen: 0
- SaturationAdjustmentMagenta: 0
- SaturationAdjustmentOrange: 0
- SaturationAdjustmentPurple: 0
- SaturationAdjustmentRed: 0
- SaturationAdjustmentYellow: 0
- ShadowTint: 0
- Shadows: 5
- SharpenDetail: 25
- SharpenEdgeMasking: 0
- SharpenRadius: +1.0
- Sharpness: 25
- SplitToningBalance: 0
- SplitToningHighlightHue: 0
- SplitToningHighlightSaturation: 0
- SplitToningShadowHue: 0
- SplitToningShadowSaturation: 0
- Temperature: 5700
- Tint: +12
- ToneCurve: 0, 0, 32, 22, 64, 56, 128, 128, 192, 196, 255, 255
- ToneCurveName: Medium Contrast
- Version: 4.6
- Vibrance: +6
- VignetteAmount: 0
- WhiteBalance: As Shot
- XMP-dc
- Description: SONY DSC
- Format: image/jpeg
- XMP-exif
- DateTimeDigitized: 2010:08:21 20:14:53+03:00
- DateTimeOriginal: 2010:08:21 20:14:53+03:00
- FlashFired: False
- FlashFunction: False
- FlashMode: Off
- FlashRedEyeMode: False
- FlashReturn: No return detection
- XMP-tiff
- ImageHeight: 4032
- ImageWidth: 6048
- XMP-xmp
- CreateDate: 2010:09:04 13:44:33+03:00
- ModifyDate: 2010:09:04 13:44:33+03:00
- XMP-xmpMM
- DerivedFrom:
- Просмотров: 187
- Рейтинг: голосов еще нет
- Отзывов: отключены