- Раздел: Другое, разное
- Дата съёмки: 17.09.2010 13:48
- Дата загрузки фото: 19.09.2010 17:16
- Оригинальная фотография: 880 x 1280 (305 Кб)
- Технические характеристики:
- Фотоаппарат: Canon EOS 350D DIGITAL
- Выдержка: 1/640
- Гиперфокальное расстояние: inf m
- Диафрагма: 2,2
- Светочувствительность: 100
- Фокусное расстояние: 50,0 mm (35 mm equivalent: 200,0 mm)
- Экспокоррекция: -1/3
- Полный EXIF
- Adobe
- ColorTransform: Unknown (RGB or CMYK)
- Composite
- Aperture: 2,2
- CircleOfConfusion: 0,007 mm
- FOV: 10,0 deg
- FocalLength35efl: 50,0 mm (35 mm equivalent: 200,0 mm)
- HyperfocalDistance: inf m
- ScaleFactor35efl: 4,3
- ShutterSpeed: 1/640
- ExifIFD
- ApertureValue: 2,2
- ColorSpace: Uncalibrated
- CreateDate: 2010:09:17 13:48:14
- CustomRendered: Normal
- DateTimeOriginal: 2010:09:17 13:48:14
- ExifImageHeight: 1280
- ExifImageWidth: 880
- ExposureCompensation: -1/3
- ExposureMode: Auto
- ExposureProgram: Aperture-priority AE
- ExposureTime: 1/640
- FNumber: 2,2
- Flash: Off, Did not fire
- FocalLength: 50,0 mm
- ISO: 100
- MaxApertureValue: 1,4
- MeteringMode: Average
- SceneCaptureType: Standard
- ShutterSpeedValue: 1/640
- WhiteBalance: Auto
- ICC-header
- IFD0
- Artist: Yuras
- Make: Canon
- Model: Canon EOS 350D DIGITAL
- ModifyDate: 2010:09:19 16:15:18
- Orientation: Horizontal (normal)
- IFD1
- IPTC
- By-line: Yuras
- System
- XMP-aux
- Firmware: 1.0.3
- FlashCompensation: 0
- ImageNumber: 15
- Lens: 50.0 mm
- LensID: 65535
- LensInfo: 50/1 50/1 0/0 0/0
- OwnerName: Yuras
- SerialNumber: 230102161
- XMP-crs
- AlreadyApplied: True
- BlueHue: 0
- BlueSaturation: 0
- Brightness: +50
- ChromaticAberrationB: 0
- ChromaticAberrationR: 0
- Clarity: 0
- ColorNoiseReduction: 65
- Contrast: +25
- ConvertToGrayscale: True
- Defringe: 0
- Exposure: 0.00
- FillLight: 0
- GrainAmount: 0
- GrayMixerAqua: +65
- GrayMixerBlue: -24
- GrayMixerGreen: -84
- GrayMixerMagenta: -13
- GrayMixerOrange: +40
- GrayMixerPurple: -9
- GrayMixerRed: +28
- GrayMixerYellow: -40
- GreenHue: 0
- GreenSaturation: 0
- HasCrop: False
- HasSettings: True
- HighlightRecovery: 0
- LuminanceSmoothing: 25
- ParametricDarks: -11
- ParametricHighlightSplit: 75
- ParametricHighlights: +38
- ParametricLights: +15
- ParametricMidtoneSplit: 50
- ParametricShadowSplit: 25
- ParametricShadows: -28
- PostCropVignetteAmount: 0
- ProcessVersion: 5.0
- RawFileName: IMG_2063.CR2
- RedHue: 0
- RedSaturation: 0
- ShadowTint: 0
- Shadows: 5
- SharpenDetail: 38
- SharpenEdgeMasking: 6
- SharpenRadius: +0.7
- Sharpness: 46
- SplitToningBalance: 0
- SplitToningHighlightHue: 0
- SplitToningHighlightSaturation: 0
- SplitToningShadowHue: 0
- SplitToningShadowSaturation: 0
- Temperature: 5050
- Tint: +7
- ToneCurve: 0, 0, 32, 22, 64, 56, 128, 128, 192, 196, 255, 255
- ToneCurveName: Medium Contrast
- Version: 5.7
- VignetteAmount: 0
- WhiteBalance: As Shot
- XMP-dc
- Creator: Yuras
- Format: image/jpeg
- XMP-exif
- DateTimeDigitized: 2010:09:17 13:48:14+03:00
- DateTimeOriginal: 2010:09:17 13:48:14+03:00
- FlashFired: False
- FlashFunction: False
- FlashMode: Off
- FlashRedEyeMode: False
- FlashReturn: No return detection
- XMP-tiff
- XMP-xmp
- CreateDate: 2010:09:17 13:48:14+03:00
- ModifyDate: 2010:09:19 16:15:18+03:00
- Rating: 0
- XMP-xmpMM