Уважаемые друзья и участники проекта iXBT.photo! К сожалению, 1 марта 2026 года проект iXBT.photo прекратит свою работу и будет закрыт. Мы высоко ценим ваше участие и тот вклад, который вы внесли в развитие нашего сообщества. Пожалуйста, не забудьте сохранить ваши фотографии до этой даты.
С уважением, команда iXBT.com
| DSC_0118-2.jpg |
DSC_0118-2.jpg
- Раздел: Другое, разное
- Дата съёмки: 18.09.2010 12:28
- Дата загрузки фото: 21.09.2010 15:44
- Оригинальная фотография: 680 x 1024 (928 Кб)
- Технические характеристики:
- Фотоаппарат: Nikon D90
- Выдержка: 1/125
- Гиперфокальное расстояние: inf m
- Диафрагма: 5,3
- Светочувствительность: 100
- Фокусное расстояние: 66,0 mm (35 mm equivalent: 66,0 mm)
- Полный EXIF
- Adobe
- ColorTransform: YCbCr
- Composite
- Aperture: 5,3
- CircleOfConfusion: 0,020 mm
- DOF: inf (0,00 m - inf)
- FOV: 30,0 deg
- FocalLength35efl: 66,0 mm (35 mm equivalent: 66,0 mm)
- HyperfocalDistance: inf m
- ScaleFactor35efl: 1,5
- ShutterSpeed: 1/125
- ExifIFD
- ApertureValue: 5,3
- CFAPattern: [Green,Blue][Red,Green]
- Contrast: Normal
- CreateDate: 2010:09:18 12:28:10
- CustomRendered: Normal
- DateTimeOriginal: 2010:09:18 12:28:10
- DigitalZoomRatio: 1
- ExposureCompensation: 0
- ExposureMode: Auto
- ExposureProgram: Aperture-priority AE
- ExposureTime: 1/125
- FNumber: 5,3
- Flash: No Flash
- FocalLength: 66,0 mm
- FocalLengthIn35mmFormat: 99 mm
- GainControl: None
- ISO: 100
- LightSource: Unknown
- MaxApertureValue: 5,3
- MeteringMode: Multi-segment
- Saturation: Normal
- SceneCaptureType: Standard
- SceneType: Directly photographed
- SensingMethod: One-chip color area
- Sharpness: Normal
- ShutterSpeedValue: 1/125
- SubjectDistance: 4294967295 m
- SubjectDistanceRange: Unknown
- WhiteBalance: Auto
- ICC-header
- ICC-meas
- ICC-view
- IFD0
- Copyright: (C) Andrew Chekelek
- Make: NIKON CORPORATION
- Model: NIKON D90
- ModifyDate: 2010:09:21 16:42:34
- Software: Ver.1.00
- IFD1
- IPTC
- By-line: Andrew Chekelek
- CopyrightNotice: В© Andrew Chekelek
- Keywords: ÊðåñòèГГ», ÓëüÿГГ
- System
- XMP-aux
- ImageNumber: 2887
- Lens: 18.0-105.0 mm f/3.5-5.6
- LensID: 158
- LensInfo: 180/10 1050/10 35/10 56/10
- SerialNumber: 6526262
- XMP-crs
- AlreadyApplied: True
- BlueHue: 0
- BlueSaturation: 0
- Brightness: +35
- ChromaticAberrationB: 0
- ChromaticAberrationR: 0
- Clarity: 0
- ColorNoiseReduction: 25
- ColorNoiseReductionDetail: 50
- Contrast: +50
- ConvertToGrayscale: False
- CropAngle: 0
- CropBottom: 0.691664
- CropConstrainToWarp: 0
- CropHeight: 680
- CropLeft: 0.19566
- CropRight: 0.887324
- CropTop: 0
- CropUnit: pixels
- CropWidth: 1024
- Defringe: 0
- Exposure: +0.10
- FillLight: 0
- GrainAmount: 0
- GreenHue: 0
- GreenSaturation: 0
- HasCrop: True
- HasSettings: True
- HighlightRecovery: 0
- HueAdjustmentAqua: 0
- HueAdjustmentBlue: 0
- HueAdjustmentGreen: 0
- HueAdjustmentMagenta: 0
- HueAdjustmentOrange: -30
- HueAdjustmentPurple: 0
- HueAdjustmentRed: 0
- HueAdjustmentYellow: 0
- LensManualDistortionAmount: 0
- LensProfileEnable: 0
- LensProfileSetup: LensDefaults
- LuminanceAdjustmentAqua: 0
- LuminanceAdjustmentBlue: 0
- LuminanceAdjustmentGreen: 0
- LuminanceAdjustmentMagenta: 0
- LuminanceAdjustmentOrange: 0
- LuminanceAdjustmentPurple: 0
- LuminanceAdjustmentRed: 0
- LuminanceAdjustmentYellow: 0
- LuminanceSmoothing: 0
- ParametricDarks: 0
- ParametricHighlightSplit: 75
- ParametricHighlights: 0
- ParametricLights: 0
- ParametricMidtoneSplit: 50
- ParametricShadowSplit: 25
- ParametricShadows: 0
- PerspectiveHorizontal: 0
- PerspectiveRotate: 0.0
- PerspectiveScale: 100
- PerspectiveVertical: 0
- PostCropVignetteAmount: +17
- PostCropVignetteFeather: 50
- PostCropVignetteMidpoint: 50
- PostCropVignetteRoundness: 0
- PostCropVignetteStyle: 1
- ProcessVersion: 5.7
- RedHue: 0
- RedSaturation: 0
- Saturation: 0
- SaturationAdjustmentAqua: -100
- SaturationAdjustmentBlue: -100
- SaturationAdjustmentGreen: +20
- SaturationAdjustmentMagenta: -100
- SaturationAdjustmentOrange: +5
- SaturationAdjustmentPurple: -100
- SaturationAdjustmentRed: 0
- SaturationAdjustmentYellow: -100
- ShadowTint: 0
- Shadows: 20
- SharpenDetail: 25
- SharpenEdgeMasking: 0
- SharpenRadius: +1.0
- Sharpness: 25
- SplitToningBalance: 0
- SplitToningHighlightHue: 0
- SplitToningHighlightSaturation: 0
- SplitToningShadowHue: 0
- SplitToningShadowSaturation: 0
- Temperature: 4300
- Tint: -1
- ToneCurve: 0, 0, 32, 22, 64, 56, 128, 128, 192, 196, 255, 255
- ToneCurveName: Medium Contrast
- Version: 6.1
- Vibrance: 0
- VignetteAmount: +17
- VignetteMidpoint: 50
- WhiteBalance: As Shot
- XMP-dc
- Creator: Andrew Chekelek
- Rights: В© Andrew Chekelek
- Subject: Крестины, Ульяна
- XMP-exif
- DateTimeDigitized: 2010:09:18 12:28:10.00+06:00
- DateTimeOriginal: 2010:09:18 12:28:10.00+06:00
- ExifImageHeight: 1024
- ExifImageWidth: 680
- FlashFired: False
- FlashFunction: False
- FlashMode: Unknown
- FlashRedEyeMode: False
- FlashReturn: No return detection
- XMP-iptcCore
- CreatorCity: Ekaterinburg
- CreatorCountry: Russia
- CreatorWorkEmail: chekelek@mail.ru
- XMP-tiff
- ImageHeight: 1024
- ImageWidth: 680
- XMP-xmp
- CreateDate: 2010:09:18 12:28:10.00+06:00
- ModifyDate: 2010:09:21 16:42:34+06:00
- XMP-xmpRights
- Просмотров: 172
- Рейтинг: голосов еще нет
- Отзывов: 0
Получить код для блога
| Вставка фотографии в текущем разрешении |
Вставка миниатюры |
HTML (для вставки в блог):
BBCode (для вставки в форум):
Ссылка на фото:
Ссылка на миниатюру:
- Послать ссылку другу
| Комментарии к фотографии |