- Раздел: Тесты фототехники
- Дата съёмки: 20.09.2010 17:42
- Дата загрузки фото: 23.09.2010 23:18
- Оригинальная фотография: 2528 x 2528 (2,4 Мб)
- Технические характеристики:
- Фотоаппарат: Pentax K-7
- Выдержка: 1/40
- Гиперфокальное расстояние: inf m
- Диафрагма: 2,8
- Светочувствительность: 400
- Фокусное расстояние: 35,0 mm (35 mm equivalent: 35,0 mm)
- Полный EXIF
- Adobe
- ColorTransform: YCbCr
- Composite
- Aperture: 2,8
- CircleOfConfusion: 0,020 mm
- FOV: 54,0 deg
- FocalLength35efl: 35,0 mm (35 mm equivalent: 35,0 mm)
- GPSAltitude: 49 m Above Sea Level
- GPSDateTime: 2010:09:20 15:42:19Z
- GPSLatitude: 50 deg 56' 44,00" N
- GPSLatitudeRef: North
- GPSLongitude: 6 deg 58' 49,00" E
- GPSLongitudeRef: East
- GPSPosition: 50 deg 56' 44,00" N, 6 deg 58' 49,00" E
- HyperfocalDistance: inf m
- ScaleFactor35efl: 1,5
- ShutterSpeed: 1/40
- ExifIFD
- ApertureValue: 2,8
- CFAPattern: [Blue,Green][Green,Red]
- Contrast: Normal
- CreateDate: 2010:09:20 17:42:19
- CustomRendered: Normal
- DateTimeOriginal: 2010:09:20 17:42:19
- ExposureCompensation: 0
- ExposureMode: Auto
- ExposureProgram: Program AE
- ExposureTime: 1/40
- FNumber: 2,8
- Flash: Off, Did not fire
- FocalLength: 35,0 mm
- FocalLengthIn35mmFormat: 52 mm
- ISO: 400
- MeteringMode: Multi-segment
- Saturation: Normal
- SceneCaptureType: Standard
- SensingMethod: One-chip color area
- Sharpness: Normal
- ShutterSpeedValue: 1/40
- SubjectDistanceRange: Macro
- WhiteBalance: Auto
- GPS
- GPSAltitude: 49 m
- GPSAltitudeRef: Above Sea Level
- GPSDateStamp: 2010:09:20
- GPSLatitude: 50 deg 56' 44,00"
- GPSLongitude: 6 deg 58' 49,00"
- GPSMapDatum: WGS-84
- GPSSatellites: 0
- GPSTimeStamp: 15:42:19
- GPSVersionID: 2.2.0.0
- ICC-header
- ICC-meas
- ICC-view
- IFD0
- Copyright: (C) Falk Lumo
- ImageDescription: A cut model of the Pentax K-5 or K-7 as shown at Photokina 2010.
- Make: PENTAX
- Model: PENTAX K-7
- ModifyDate: 2010:09:22 21:18:48
- Software: K-7 Ver 1.10
- IFD1
- IPTC
- By-line: falklumo.com
- Caption-Abstract: A cut model of the Pentax K-5 or K-7 as shown at Photokina 2010.
- City: Köln
- CopyrightNotice: В© Falk Lumo
- Country-PrimaryLocationCode: DEU
- Country-PrimaryLocationName: Deutschland
- Keywords: Deutschland, Deutz, Köln, Nordrhein-Westfalen
- ObjectName: Pentax K-5/7 cut model
- Province-State: Nordrhein-Westfalen
- Sub-location: Deutz
- System
- XMP-aux
- Lens: smc PENTAX-DA 35mm F2.8 Macro Limited
- LensID: 7 233
- LensInfo: 35mm f/2.8
- XMP-crs
- AlreadyApplied: True
- BlueHue: 0
- BlueSaturation: 0
- Brightness: +95
- ChromaticAberrationB: 0
- ChromaticAberrationR: 0
- Clarity: +50
- ColorNoiseReduction: 25
- Contrast: +25
- ConvertToGrayscale: False
- CropAngle: -0.462986
- CropBottom: 0.993419
- CropHeight: 2528
- CropLeft: 0.206302
- CropRight: 0.751775
- CropTop: 0.185563
- CropUnit: pixels
- CropWidth: 2528
- Defringe: 0
- Exposure: 0.00
- FillLight: 0
- GreenHue: 0
- GreenSaturation: 0
- HasCrop: True
- HasSettings: True
- HighlightRecovery: 100
- HueAdjustmentAqua: 0
- HueAdjustmentBlue: 0
- HueAdjustmentGreen: 0
- HueAdjustmentMagenta: 0
- HueAdjustmentOrange: 0
- HueAdjustmentPurple: 0
- HueAdjustmentRed: 0
- HueAdjustmentYellow: 0
- LuminanceAdjustmentAqua: 0
- LuminanceAdjustmentBlue: 0
- LuminanceAdjustmentGreen: 0
- LuminanceAdjustmentMagenta: 0
- LuminanceAdjustmentOrange: 0
- LuminanceAdjustmentPurple: 0
- LuminanceAdjustmentRed: 0
- LuminanceAdjustmentYellow: 0
- LuminanceSmoothing: 0
- ParametricDarks: 0
- ParametricHighlightSplit: 75
- ParametricHighlights: 0
- ParametricLights: 0
- ParametricMidtoneSplit: 50
- ParametricShadowSplit: 25
- ParametricShadows: 0
- PostCropVignetteAmount: 0
- RedHue: 0
- RedSaturation: 0
- Saturation: 0
- SaturationAdjustmentAqua: 0
- SaturationAdjustmentBlue: 0
- SaturationAdjustmentGreen: 0
- SaturationAdjustmentMagenta: 0
- SaturationAdjustmentOrange: 0
- SaturationAdjustmentPurple: 0
- SaturationAdjustmentRed: 0
- SaturationAdjustmentYellow: 0
- ShadowTint: 0
- Shadows: 0
- SharpenDetail: 25
- SharpenEdgeMasking: 0
- SharpenRadius: +0.5
- Sharpness: 100
- SplitToningBalance: 0
- SplitToningHighlightHue: 0
- SplitToningHighlightSaturation: 0
- SplitToningShadowHue: 0
- SplitToningShadowSaturation: 0
- Temperature: 3200
- Tint: +10
- ToneCurve: 0, 0, 32, 22, 64, 56, 128, 128, 192, 196, 255, 255
- ToneCurveName: Medium Contrast
- Version: 5.5
- Vibrance: 0
- VignetteAmount: 0
- WhiteBalance: Custom
- XMP-dc
- Creator: falklumo.com
- Description: A cut model of the Pentax K-5 or K-7 as shown at Photokina 2010.
- Rights: В© Falk Lumo
- Subject: Deutschland, Deutz, Köln, Nordrhein-Westfalen
- Title: Pentax K-5/7 cut model
- XMP-exif
- DateTimeDigitized: 2010:09:20 17:42:19+02:00
- DateTimeOriginal: 2010:09:20 17:42:19+02:00
- ExifImageHeight: 2528
- ExifImageWidth: 2528
- FlashFired: False
- FlashFunction: False
- FlashMode: Off
- FlashRedEyeMode: False
- FlashReturn: No return detection
- GPSLatitude: 50 deg 56' 44,79" N
- GPSLongitude: 6 deg 58' 49,73" E
- XMP-iptcCore
- CountryCode: DEU
- Location: Deutz
- XMP-tiff
- ImageHeight: 2528
- ImageWidth: 2528
- XMP-xmp
- CreateDate: 2010:09:20 17:42:19+02:00
- ModifyDate: 2010:09:22 21:18:48+02:00
- XMP-xmpRights