- Раздел: Город
- Дата съёмки: 07.10.2010 20:28
- Дата загрузки фото: 07.10.2010 23:58
- Оригинальная фотография: 1279 x 853 (1,3 Мб)
- Технические характеристики:
- Фотоаппарат: Canon EOS 500D
- Выдержка: 15,0
- Гиперфокальное расстояние: inf m
- Диафрагма: 8,0
- Светочувствительность: 100
- Фокусное расстояние: 25,0 mm (35 mm equivalent: 125,0 mm)
- Экспокоррекция: -2
- Полный EXIF
- Adobe
- ColorTransform: YCbCr
- Composite
- Aperture: 8,0
- CircleOfConfusion: 0,005 mm
- DOF: inf (0,00 m - inf)
- FOV: 16,0 deg
- FocalLength35efl: 25,0 mm (35 mm equivalent: 125,0 mm)
- HyperfocalDistance: inf m
- LightValue: 2,1
- ScaleFactor35efl: 5,9
- ShutterSpeed: 15,0
- ExifIFD
- ApertureValue: 8,0
- CreateDate: 2010:10:07 20:28:31
- CustomRendered: Normal
- DateTimeOriginal: 2010:10:07 20:28:31
- ExposureCompensation: -2
- ExposureMode: Auto
- ExposureProgram: Aperture-priority AE
- ExposureTime: 15,0
- FNumber: 8,0
- Flash: Off, Did not fire
- FocalLength: 25,0 mm
- ISO: 100
- LensInfo: 18-55mm f/?
- LensModel: EF-S18-55mm f/3.5-5.6 IS
- MaxApertureValue: 4,0
- MeteringMode: Multi-segment
- OwnerName: Vinogradov Konstantin
- SceneCaptureType: Standard
- SensitivityType: Unknown
- SerialNumber: 980364544
- ShutterSpeedValue: 15,0
- SubjectDistance: 4294967295 m
- WhiteBalance: Auto
- ICC-header
- ICC-meas
- ICC-view
- IFD0
- Artist: Vinogradov Konstantin
- Copyright: Vinogradov Konstantin
- Make: Canon
- Model: Canon EOS 500D
- ModifyDate: 2010:10:07 22:57:23
- IFD1
- IPTC
- By-line: Vinogradov Konstantin
- CopyrightNotice: Vinogradov Konstantin
- System
- XMP-aux
- ApproximateFocusDistance: 4294967295
- Firmware: 1.0.9
- FlashCompensation: 0
- ImageNumber: 0
- Lens: EF-S18-55mm f/3.5-5.6 IS
- LensID: 48
- XMP-crs
- AlreadyApplied: True
- BlueHue: 0
- BlueSaturation: 0
- Brightness: +50
- CameraProfile: Camera Standard
- ChromaticAberrationB: 0
- ChromaticAberrationR: 0
- Clarity: 0
- ColorNoiseReduction: 25
- ColorNoiseReductionDetail: 50
- Contrast: +25
- ConvertToGrayscale: False
- CropAngle: -1.9
- CropBottom: 0.952599
- CropConstrainToWarp: 0
- CropHeight: 853
- CropLeft: 0.013167
- CropRight: 0.986833
- CropTop: 0.047401
- CropUnit: pixels
- CropWidth: 1279
- Defringe: 0
- Exposure: +0.38
- FillLight: 40
- GrainAmount: 0
- GreenHue: 0
- GreenSaturation: 0
- HasCrop: True
- HasSettings: True
- HighlightRecovery: 0
- HueAdjustmentAqua: 0
- HueAdjustmentBlue: 0
- HueAdjustmentGreen: 0
- HueAdjustmentMagenta: 0
- HueAdjustmentOrange: 0
- HueAdjustmentPurple: 0
- HueAdjustmentRed: 0
- HueAdjustmentYellow: 0
- LensManualDistortionAmount: 0
- LensProfileEnable: 0
- LensProfileSetup: LensDefaults
- LuminanceAdjustmentAqua: 0
- LuminanceAdjustmentBlue: 0
- LuminanceAdjustmentGreen: 0
- LuminanceAdjustmentMagenta: 0
- LuminanceAdjustmentOrange: 0
- LuminanceAdjustmentPurple: 0
- LuminanceAdjustmentRed: 0
- LuminanceAdjustmentYellow: 0
- LuminanceSmoothing: 0
- ParametricDarks: 0
- ParametricHighlightSplit: 75
- ParametricHighlights: 0
- ParametricLights: 0
- ParametricMidtoneSplit: 50
- ParametricShadowSplit: 25
- ParametricShadows: 0
- PerspectiveHorizontal: 0
- PerspectiveRotate: 0.0
- PerspectiveScale: 100
- PerspectiveVertical: 0
- PostCropVignetteAmount: 0
- ProcessVersion: 5.7
- RedHue: 0
- RedSaturation: 0
- Saturation: +17
- SaturationAdjustmentAqua: 0
- SaturationAdjustmentBlue: 0
- SaturationAdjustmentGreen: 0
- SaturationAdjustmentMagenta: 0
- SaturationAdjustmentOrange: 0
- SaturationAdjustmentPurple: 0
- SaturationAdjustmentRed: 0
- SaturationAdjustmentYellow: 0
- ShadowTint: 0
- Shadows: 5
- SharpenDetail: 25
- SharpenEdgeMasking: 0
- SharpenRadius: +1.0
- Sharpness: 25
- SplitToningBalance: 0
- SplitToningHighlightHue: 0
- SplitToningHighlightSaturation: 0
- SplitToningShadowHue: 0
- SplitToningShadowSaturation: 0
- Temperature: 3900
- Tint: 0
- ToneCurve: 0, 0, 32, 22, 64, 56, 128, 128, 192, 196, 255, 255
- ToneCurveName: Medium Contrast
- Version: 6.2
- Vibrance: 0
- VignetteAmount: 0
- WhiteBalance: Custom
- XMP-dc
- Creator: Vinogradov Konstantin
- Rights: Vinogradov Konstantin
- XMP-exif
- DateTimeDigitized: 2010:10:07 20:28:31.67+04:00
- DateTimeOriginal: 2010:10:07 20:28:31.67+04:00
- ExifImageHeight: 853
- ExifImageWidth: 1279
- FlashFired: False
- FlashFunction: False
- FlashMode: Off
- FlashRedEyeMode: False
- FlashReturn: No return detection
- XMP-tiff
- ImageHeight: 853
- ImageWidth: 1279
- XMP-xmp
- CreateDate: 2010:10:07 20:28:31.67+04:00
- ModifyDate: 2010:10:07 22:57:23+04:00
- Просмотров: 216
- Рейтинг: голосов еще нет
- Отзывов: отключены