- Раздел: Город
- Дата съёмки: 17.10.2010 16:32
- Дата загрузки фото: 18.10.2010 22:16
- Оригинальная фотография: 1600 x 1067 (2,1 Мб)
- Технические характеристики:
- Фотоаппарат: Canon EOS 7D
- Выдержка: 1/50
- Гиперфокальное расстояние: inf m
- Диафрагма: 3,2
- Светочувствительность: 100
- Фокусное расстояние: 17,0 mm (35 mm equivalent: 85,0 mm)
- Экспокоррекция: +1/3
- Полный EXIF
- Adobe
- ColorTransform: YCbCr
- Composite
- Aperture: 3,2
- CircleOfConfusion: 0,006 mm
- FOV: 23,0 deg
- FocalLength35efl: 17,0 mm (35 mm equivalent: 85,0 mm)
- HyperfocalDistance: inf m
- ScaleFactor35efl: 5,1
- ShutterSpeed: 1/50
- ExifIFD
- ApertureValue: 3,2
- CreateDate: 2010:10:17 16:32:19
- CustomRendered: Normal
- DateTimeOriginal: 2010:10:17 16:32:19
- ExposureCompensation: +1/3
- ExposureMode: Auto
- ExposureProgram: Aperture-priority AE
- ExposureTime: 1/50
- FNumber: 3,2
- Flash: Off, Did not fire
- FocalLength: 17,0 mm
- ISO: 100
- LensInfo: 17-50mm f/?
- LensModel: 17-50mm
- MaxApertureValue: 2,8
- MeteringMode: Multi-segment
- OwnerName: Vasiliy A. Timofeyev
- SceneCaptureType: Standard
- SensitivityType: Unknown
- SerialNumber: 280215638
- ShutterSpeedValue: 1/50
- WhiteBalance: Auto
- ICC-header
- ICC-meas
- ICC-view
- IFD0
- Artist: Vasiliy A. Timofeyev
- Copyright: (C)2010 Vasiliy A. Timofeev
- ImageDescription: ???? ??????
- Make: Canon
- Model: Canon EOS 7D
- ModifyDate: 2010:10:18 21:56:19
- IFD1
- IPTC
- By-line: Vasiliy A. Timofeyev
- Caption-Abstract: Ïà ðê Ïîáåäû
- CopyrightNotice: В©2010 Vasiliy A. Timofeev
- ObjectName: Ïà ðê Ïîáåäû
- System
- XMP-aux
- Firmware: 1.1.0
- FlashCompensation: 0
- ImageNumber: 0
- Lens: 17-50mm
- LensID: 161
- XMP-crs
- AlreadyApplied: True
- BlueHue: 0
- BlueSaturation: 0
- Brightness: +50
- CameraProfile: ACR 3.6
- ChromaticAberrationB: 0
- ChromaticAberrationR: 0
- Clarity: 0
- ColorNoiseReduction: 25
- ColorNoiseReductionDetail: 50
- Contrast: +71
- ConvertToGrayscale: False
- Defringe: 0
- Exposure: +0.41
- FillLight: 32
- GrainAmount: 0
- GreenHue: +23
- GreenSaturation: -49
- HasCrop: False
- HasSettings: True
- HighlightRecovery: 62
- HueAdjustmentAqua: 0
- HueAdjustmentBlue: 0
- HueAdjustmentGreen: 0
- HueAdjustmentMagenta: +7
- HueAdjustmentOrange: +7
- HueAdjustmentPurple: 0
- HueAdjustmentRed: +13
- HueAdjustmentYellow: +1
- LensManualDistortionAmount: 0
- LensProfileEnable: 0
- LensProfileSetup: LensDefaults
- LuminanceAdjustmentAqua: 0
- LuminanceAdjustmentBlue: -6
- LuminanceAdjustmentGreen: 0
- LuminanceAdjustmentMagenta: +2
- LuminanceAdjustmentOrange: +2
- LuminanceAdjustmentPurple: -21
- LuminanceAdjustmentRed: +4
- LuminanceAdjustmentYellow: 0
- LuminanceSmoothing: 0
- ParametricDarks: -8
- ParametricHighlightSplit: 75
- ParametricHighlights: +48
- ParametricLights: +13
- ParametricMidtoneSplit: 50
- ParametricShadowSplit: 25
- ParametricShadows: +23
- PerspectiveHorizontal: 0
- PerspectiveRotate: 0.0
- PerspectiveScale: 100
- PerspectiveVertical: 0
- PostCropVignetteAmount: 0
- ProcessVersion: 5.7
- RedHue: 0
- RedSaturation: 0
- Saturation: 0
- SaturationAdjustmentAqua: 0
- SaturationAdjustmentBlue: +44
- SaturationAdjustmentGreen: 0
- SaturationAdjustmentMagenta: +5
- SaturationAdjustmentOrange: +5
- SaturationAdjustmentPurple: +22
- SaturationAdjustmentRed: +10
- SaturationAdjustmentYellow: +1
- ShadowTint: 0
- Shadows: 52
- SharpenDetail: 25
- SharpenEdgeMasking: 0
- SharpenRadius: +1.0
- Sharpness: 25
- SplitToningBalance: 0
- SplitToningHighlightHue: 87
- SplitToningHighlightSaturation: 21
- SplitToningShadowHue: 241
- SplitToningShadowSaturation: 63
- Temperature: 6574
- Tint: +3
- ToneCurve: 0, 0, 32, 16, 64, 50, 128, 128, 192, 202, 255, 255
- ToneCurveName: Strong Contrast
- Version: 6.2
- Vibrance: 0
- VignetteAmount: -57
- VignetteMidpoint: 50
- WhiteBalance: Custom
- XMP-dc
- Creator: Vasiliy A. Timofeyev
- Description: Парк Победы
- Rights: В©2010 Vasiliy A. Timofeev
- Title: Парк Победы
- XMP-exif
- DateTimeDigitized: 2010:10:17 16:32:19.00+04:00
- DateTimeOriginal: 2010:10:17 16:32:19.00+04:00
- ExifImageHeight: 1067
- ExifImageWidth: 1600
- FlashFired: False
- FlashFunction: False
- FlashMode: Off
- FlashRedEyeMode: False
- FlashReturn: No return detection
- XMP-tiff
- ImageHeight: 1067
- ImageWidth: 1600
- XMP-xmp
- CreateDate: 2010:10:17 16:32:19.00+04:00
- ModifyDate: 2010:10:18 21:56:19+04:00
- Просмотров: 261
- Рейтинг: голосов еще нет
- Отзывов: 0