- Раздел: Город
- Дата съёмки: 17.10.2010 17:28
- Дата загрузки фото: 18.10.2010 22:57
- Оригинальная фотография: 1600 x 1067 (775 Кб)
- Технические характеристики:
- Фотоаппарат: Canon EOS 7D
- Выдержка: 1/80
- Гиперфокальное расстояние: inf m
- Диафрагма: 2,8
- Светочувствительность: 200
- Фокусное расстояние: 50,0 mm (35 mm equivalent: 250,0 mm)
- Полный EXIF
- Adobe
- ColorTransform: YCbCr
- Composite
- Aperture: 2,8
- CircleOfConfusion: 0,006 mm
- FOV: 8,0 deg
- FocalLength35efl: 50,0 mm (35 mm equivalent: 250,0 mm)
- HyperfocalDistance: inf m
- ScaleFactor35efl: 5,1
- ShutterSpeed: 1/80
- ExifIFD
- ApertureValue: 2,8
- CreateDate: 2010:10:17 17:28:24
- CustomRendered: Normal
- DateTimeOriginal: 2010:10:17 17:28:24
- ExposureCompensation: 0
- ExposureMode: Auto
- ExposureProgram: Aperture-priority AE
- ExposureTime: 1/80
- FNumber: 2,8
- Flash: Off, Did not fire
- FocalLength: 50,0 mm
- ISO: 200
- LensInfo: 17-50mm f/?
- LensModel: 17-50mm
- MaxApertureValue: 2,8
- MeteringMode: Multi-segment
- OwnerName: Vasiliy A. Timofeyev
- SceneCaptureType: Standard
- SensitivityType: Unknown
- SerialNumber: 280215638
- ShutterSpeedValue: 1/80
- WhiteBalance: Auto
- ICC-header
- ICC-meas
- ICC-view
- IFD0
- Artist: Vasiliy A. Timofeyev
- Copyright: (C)2010 Vasiliy A. Timofeev
- ImageDescription: ???? ??????
- Make: Canon
- Model: Canon EOS 7D
- ModifyDate: 2010:10:18 21:59:13
- IFD1
- IPTC
- By-line: Vasiliy A. Timofeyev
- Caption-Abstract: Ïà ðê Ïîáåäû
- CopyrightNotice: В©2010 Vasiliy A. Timofeev
- ObjectName: Ïà ðê Ïîáåäû
- System
- XMP-aux
- Firmware: 1.1.0
- FlashCompensation: 0
- ImageNumber: 0
- Lens: 17-50mm
- LensID: 161
- XMP-crs
- AlreadyApplied: True
- BlueHue: 0
- BlueSaturation: 0
- Brightness: +50
- ChromaticAberrationB: 0
- ChromaticAberrationR: 0
- Clarity: +5
- ColorNoiseReduction: 25
- ColorNoiseReductionDetail: 50
- Contrast: +41
- ConvertToGrayscale: False
- Defringe: 0
- Exposure: +0.60
- FillLight: 0
- GrainAmount: 0
- GreenHue: 0
- GreenSaturation: 0
- HasCrop: False
- HasSettings: True
- HighlightRecovery: 0
- HueAdjustmentAqua: 0
- HueAdjustmentBlue: 0
- HueAdjustmentGreen: 0
- HueAdjustmentMagenta: 0
- HueAdjustmentOrange: 0
- HueAdjustmentPurple: 0
- HueAdjustmentRed: 0
- HueAdjustmentYellow: 0
- LensManualDistortionAmount: 0
- LensProfileEnable: 0
- LensProfileSetup: LensDefaults
- LuminanceAdjustmentAqua: 0
- LuminanceAdjustmentBlue: 0
- LuminanceAdjustmentGreen: 0
- LuminanceAdjustmentMagenta: 0
- LuminanceAdjustmentOrange: 0
- LuminanceAdjustmentPurple: 0
- LuminanceAdjustmentRed: 0
- LuminanceAdjustmentYellow: 0
- LuminanceNoiseReductionContrast: 0
- LuminanceNoiseReductionDetail: 50
- LuminanceSmoothing: 41
- ParametricDarks: 0
- ParametricHighlightSplit: 75
- ParametricHighlights: 0
- ParametricLights: 0
- ParametricMidtoneSplit: 50
- ParametricShadowSplit: 25
- ParametricShadows: 0
- PerspectiveHorizontal: 0
- PerspectiveRotate: 0.0
- PerspectiveScale: 100
- PerspectiveVertical: 0
- PostCropVignetteAmount: 0
- ProcessVersion: 5.7
- RedHue: 0
- RedSaturation: 0
- Saturation: +5
- SaturationAdjustmentAqua: 0
- SaturationAdjustmentBlue: 0
- SaturationAdjustmentGreen: 0
- SaturationAdjustmentMagenta: 0
- SaturationAdjustmentOrange: 0
- SaturationAdjustmentPurple: 0
- SaturationAdjustmentRed: 0
- SaturationAdjustmentYellow: 0
- ShadowTint: 0
- Shadows: 17
- SharpenDetail: 25
- SharpenEdgeMasking: 0
- SharpenRadius: +1.0
- Sharpness: 86
- SplitToningBalance: 0
- SplitToningHighlightHue: 0
- SplitToningHighlightSaturation: 0
- SplitToningShadowHue: 0
- SplitToningShadowSaturation: 0
- Temperature: 4800
- Tint: +1
- ToneCurve: 0, 0, 32, 22, 64, 56, 128, 128, 192, 196, 255, 255
- ToneCurveName: Medium Contrast
- Version: 6.2
- Vibrance: +5
- VignetteAmount: 0
- WhiteBalance: As Shot
- XMP-dc
- Creator: Vasiliy A. Timofeyev
- Description: Парк Победы
- Rights: В©2010 Vasiliy A. Timofeev
- Title: Парк Победы
- XMP-exif
- DateTimeDigitized: 2010:10:17 17:28:24.69+04:00
- DateTimeOriginal: 2010:10:17 17:28:24.69+04:00
- ExifImageHeight: 1067
- ExifImageWidth: 1600
- FlashFired: False
- FlashFunction: False
- FlashMode: Off
- FlashRedEyeMode: False
- FlashReturn: No return detection
- XMP-tiff
- ImageHeight: 1067
- ImageWidth: 1600
- XMP-xmp
- CreateDate: 2010:10:17 17:28:24.69+04:00
- ModifyDate: 2010:10:18 21:59:13+04:00
- Просмотров: 250
- Рейтинг: голосов еще нет
- Отзывов: 0