- Раздел: Тесты фототехники
- Дата съёмки: 28.10.2010 01:53
- Дата загрузки фото: 28.10.2010 17:34
- Оригинальная фотография: 2592 x 3872 (4,8 Мб)
- Технические характеристики:
- Фотоаппарат: Sony DSLR-A100
- Выдержка: 1,0
- Диафрагма: 1,0
- Светочувствительность: 100
- Полный EXIF
- Adobe
- ColorTransform: YCbCr
- Composite
- Aperture: 1,0
- LightValue: 0,0
- ShutterSpeed: 1,0
- ExifIFD
- ApertureValue: 1,0
- BrightnessValue: -0,63
- Contrast: Normal
- CreateDate: 2010:10:28 01:53:18
- CustomRendered: Normal
- DateTimeOriginal: 2010:10:28 01:53:18
- DigitalZoomRatio: 0
- ExposureCompensation: 0
- ExposureMode: Manual
- ExposureProgram: Manual
- ExposureTime: 1,0
- FNumber: 1,0
- Flash: Off, Did not fire
- GainControl: None
- ISO: 100
- LightSource: Tungsten (Incandescent)
- MaxApertureValue: 1,0
- MeteringMode: Spot
- Saturation: Normal
- SceneCaptureType: Standard
- SceneType: Directly photographed
- Sharpness: Normal
- ShutterSpeedValue: 1,0
- SubjectArea: 1149 1296 329 393
- WhiteBalance: Manual
- ICC-header
- ICC-meas
- ICC-view
- IFD0
- ImageDescription: SONY DSC
- Make: SONY
- Model: DSLR-A100
- ModifyDate: 2010:10:28 04:07:46
- Software: DSLR-A100 v1.04
- IFD1
- IPTC
- Caption-Abstract: SONY DSC
- System
- XMP-crs
- AlreadyApplied: True
- BlueHue: 0
- BlueSaturation: 0
- Brightness: +50
- ChromaticAberrationB: +18
- ChromaticAberrationR: -23
- Clarity: 0
- ColorNoiseReduction: 25
- Contrast: +25
- ConvertToGrayscale: False
- Defringe: 0
- Exposure: 0.00
- FillLight: 52
- GreenHue: 0
- GreenSaturation: 0
- HasCrop: False
- HasSettings: True
- HighlightRecovery: 0
- HueAdjustmentAqua: 0
- HueAdjustmentBlue: 0
- HueAdjustmentGreen: 0
- HueAdjustmentMagenta: 0
- HueAdjustmentOrange: 0
- HueAdjustmentPurple: 0
- HueAdjustmentRed: 0
- HueAdjustmentYellow: 0
- LuminanceAdjustmentAqua: 0
- LuminanceAdjustmentBlue: 0
- LuminanceAdjustmentGreen: 0
- LuminanceAdjustmentMagenta: 0
- LuminanceAdjustmentOrange: 0
- LuminanceAdjustmentPurple: 0
- LuminanceAdjustmentRed: 0
- LuminanceAdjustmentYellow: 0
- LuminanceSmoothing: 0
- ParametricDarks: 0
- ParametricHighlightSplit: 75
- ParametricHighlights: 0
- ParametricLights: 0
- ParametricMidtoneSplit: 50
- ParametricShadowSplit: 25
- ParametricShadows: 0
- PostCropVignetteAmount: 0
- RawFileName: 8m-s8-1sek.ARW
- RedHue: 0
- RedSaturation: 0
- Saturation: 0
- SaturationAdjustmentAqua: 0
- SaturationAdjustmentBlue: 0
- SaturationAdjustmentGreen: 0
- SaturationAdjustmentMagenta: 0
- SaturationAdjustmentOrange: 0
- SaturationAdjustmentPurple: 0
- SaturationAdjustmentRed: 0
- SaturationAdjustmentYellow: 0
- ShadowTint: 0
- Shadows: 8
- SharpenDetail: 25
- SharpenEdgeMasking: 0
- SharpenRadius: +1.0
- Sharpness: 60
- SplitToningBalance: 0
- SplitToningHighlightHue: 0
- SplitToningHighlightSaturation: 0
- SplitToningShadowHue: 0
- SplitToningShadowSaturation: 0
- Temperature: 2850
- Tint: +14
- ToneCurve: 0, 0, 32, 22, 64, 56, 128, 128, 192, 196, 255, 255
- ToneCurveName: Medium Contrast
- Version: 5.6
- Vibrance: 0
- VignetteAmount: 0
- WhiteBalance: As Shot
- XMP-dc
- XMP-exif
- DateTimeDigitized: 2010:10:28 01:53:18+03:00
- DateTimeOriginal: 2010:10:28 01:53:18+03:00
- ExifImageHeight: 3872
- ExifImageWidth: 2592
- FlashFired: False
- FlashFunction: False
- FlashMode: Off
- FlashRedEyeMode: False
- FlashReturn: No return detection
- SubjectArea: 1149, 1296, 329, 393
- XMP-tiff
- ImageHeight: 3872
- ImageWidth: 2592
- XMP-xmp
- CreateDate: 2010:10:28 01:53:18+03:00
- CreatorTool: DSLR-A100 v1.04
- ModifyDate: 2010:10:28 04:07:46+03:00
- Просмотров: 595
- Рейтинг: голосов еще нет
- Отзывов: 0