*** |
![](img/title-line.gif) |
![](img/title-shadow.gif) | |
***
- Раздел: Портрет
- Дата съёмки: 18.07.2010 06:45
- Дата загрузки фото: 08.11.2010 09:51
- Оригинальная фотография: 768 x 1024 (405 Кб)
- Технические характеристики:
- Фотоаппарат: Canon PowerShot A620
- Выдержка: 1/400
- Гиперфокальное расстояние: inf m
- Диафрагма: 7,1
- Фокусное расстояние: 29,0 mm (35 mm equivalent: 406,0 mm)
- Полный EXIF
- Composite
- Aperture: 7,1
- CircleOfConfusion: 0,002 mm
- FOV: 5,0 deg
- FocalLength35efl: 29,0 mm (35 mm equivalent: 406,0 mm)
- HyperfocalDistance: inf m
- ScaleFactor35efl: 14,4
- ShutterSpeed: 1/400
- ICC-header
- IPTC
- Caption-Abstract: OLYMPUS DIGITAL CAMERA
- CopyrightNotice: ÄåГГЁГ± Ñåêêåð Impression Freedom
- System
- XMP-crs
- AlreadyApplied: True
- BlueHue: 0
- BlueSaturation: 0
- Brightness: -2
- CameraProfile: Embedded
- ChromaticAberrationB: 0
- ChromaticAberrationR: 0
- Clarity: +13
- ColorNoiseReduction: 0
- Contrast: +3
- ConvertToGrayscale: False
- Defringe: 0
- Exposure: +0.33
- FillLight: 0
- GreenHue: 0
- GreenSaturation: 0
- HasCrop: False
- HasSettings: True
- HighlightRecovery: 0
- HueAdjustmentAqua: 0
- HueAdjustmentBlue: 0
- HueAdjustmentGreen: 0
- HueAdjustmentMagenta: 0
- HueAdjustmentOrange: 0
- HueAdjustmentPurple: 0
- HueAdjustmentRed: 0
- HueAdjustmentYellow: 0
- IncrementalTemperature: -6
- IncrementalTint: +41
- LuminanceAdjustmentAqua: 0
- LuminanceAdjustmentBlue: +32
- LuminanceAdjustmentGreen: 0
- LuminanceAdjustmentMagenta: 0
- LuminanceAdjustmentOrange: 0
- LuminanceAdjustmentPurple: 0
- LuminanceAdjustmentRed: 0
- LuminanceAdjustmentYellow: 0
- LuminanceSmoothing: 0
- ParametricDarks: +1
- ParametricHighlightSplit: 75
- ParametricHighlights: 0
- ParametricLights: +41
- ParametricMidtoneSplit: 50
- ParametricShadowSplit: 25
- ParametricShadows: -8
- PostCropVignetteAmount: 0
- RedHue: 0
- RedSaturation: 0
- Saturation: -100
- SaturationAdjustmentAqua: 0
- SaturationAdjustmentBlue: +55
- SaturationAdjustmentGreen: +100
- SaturationAdjustmentMagenta: 0
- SaturationAdjustmentOrange: 0
- SaturationAdjustmentPurple: 0
- SaturationAdjustmentRed: 0
- SaturationAdjustmentYellow: 0
- ShadowTint: 0
- Shadows: 15
- SharpenDetail: 25
- SharpenEdgeMasking: 0
- SharpenRadius: +1.0
- Sharpness: 0
- SplitToningBalance: -51
- SplitToningHighlightHue: 47
- SplitToningHighlightSaturation: 66
- SplitToningShadowHue: 34
- SplitToningShadowSaturation: 9
- ToneCurve: 0, 0, 255, 255
- ToneCurveName: Linear
- Version: 5.6
- Vibrance: 0
- VignetteAmount: 0
- WhiteBalance: Custom
- XMP-dc
- Description: OLYMPUS DIGITAL CAMERA
- Rights: Денис Секкер Impression Freedom
- XMP-exif
- ApertureValue: 7,1
- CustomRendered: Normal
- DateTimeDigitized: 2010:07:18 06:45:13+03:00
- DateTimeOriginal: 2010:07:18 06:45:13+03:00
- DigitalZoomRatio: 1
- ExifImageHeight: 1024
- ExifImageWidth: 768
- ExposureCompensation: 0
- ExposureMode: Auto
- ExposureTime: 1/400
- FNumber: 7,1
- FlashFired: False
- FlashFunction: False
- FlashMode: Off
- FlashRedEyeMode: False
- FlashReturn: No return detection
- FocalLength: 29,2 mm
- MaxApertureValue: 4,1
- MeteringMode: Multi-segment
- SceneCaptureType: Standard
- SensingMethod: One-chip color area
- ShutterSpeedValue: 1/400
- WhiteBalance: Manual
- XMP-tiff
- ImageHeight: 1024
- ImageWidth: 768
- Make: Canon
- Model: Canon PowerShot A620
- XMP-xmp
- CreateDate: 2010:07:18 06:45:13+03:00
- ModifyDate: 2010:07:18 10:58:04+03:00
- Просмотров: 315
- Рейтинг: голосов еще нет
- Отзывов: 0
Получить код для блога
Вставка фотографии в текущем разрешении |
Вставка миниатюры |
HTML (для вставки в блог):
BBCode (для вставки в форум):
Ссылка на фото:
Ссылка на миниатюру:
- Послать ссылку другу
Комментарии к фотографии |