- Раздел: Портрет
- Дата съёмки: 28.07.2010 05:54
- Дата загрузки фото: 13.11.2010 21:43
- Оригинальная фотография: 768 x 947 (531 Кб)
- Технические характеристики:
- Фотоаппарат: Canon PowerShot A620
- Выдержка: 1/400
- Гиперфокальное расстояние: inf m
- Диафрагма: 4,1
- Фокусное расстояние: 29,0 mm (35 mm equivalent: 435,0 mm)
- Полный EXIF
- Adobe
- ColorTransform: YCbCr
- Composite
- Aperture: 4,1
- CircleOfConfusion: 0,002 mm
- FOV: 4,0 deg
- FocalLength35efl: 29,0 mm (35 mm equivalent: 435,0 mm)
- HyperfocalDistance: inf m
- ScaleFactor35efl: 15,1
- ShutterSpeed: 1/400
- ExifIFD
- ApertureValue: 4,1
- CreateDate: 2010:07:28 05:54:21
- CustomRendered: Normal
- DateTimeOriginal: 2010:07:28 05:54:21
- DigitalZoomRatio: 1
- ExposureCompensation: 0
- ExposureMode: Auto
- ExposureTime: 1/400
- FNumber: 4,1
- Flash: On, Fired
- FocalLength: 29,2 mm
- MaxApertureValue: 4,1
- MeteringMode: Multi-segment
- SceneCaptureType: Standard
- SensingMethod: One-chip color area
- SensitivityType: Unknown
- ShutterSpeedValue: 1/400
- WhiteBalance: Manual
- ICC-header
- ICC-meas
- ICC-view
- IFD0
- Make: Canon
- Model: Canon PowerShot A620
- ModifyDate: 2010:11:13 18:26:42
- Software: PortraitProfessional
- IFD1
- System
- XMP-crs
- AlreadyApplied: True
- BlueHue: 0
- BlueSaturation: 0
- Brightness: +7
- CameraProfile: Embedded
- ChromaticAberrationB: 0
- ChromaticAberrationR: 0
- Clarity: +67
- ColorNoiseReduction: 0
- Contrast: +2
- ConvertToGrayscale: True
- CropAngle: 0
- CropBottom: 1
- CropConstrainToWarp: 0
- CropHeight: 947
- CropLeft: 0
- CropRight: 0.976608
- CropTop: 0.096491
- CropUnit: pixels
- CropWidth: 768
- Defringe: 0
- Exposure: +0.19
- FillLight: 0
- GradientBasedCorrActive: true
- GradientBasedCorrAmount: 1.000000
- GradientBasedCorrBrightness: 0.000000
- GradientBasedCorrClarity: -1.000000
- GradientBasedCorrContrast: 0.000000
- GradientBasedCorrExposure: 0.000000
- GradientBasedCorrHue: 240.000000
- GradientBasedCorrMaskFullX: 0.066359
- GradientBasedCorrMaskFullY: 1.001160
- GradientBasedCorrMaskValue: 1.000000
- GradientBasedCorrMaskWhat: Mask/Gradient
- GradientBasedCorrMaskZeroX: 0.194053
- GradientBasedCorrMaskZeroY: 0.691496
- GradientBasedCorrSaturation: 0.000000
- GradientBasedCorrSharpness: 0.250000
- GradientBasedCorrWhat: Correction
- GrainAmount: 0
- GrayMixerAqua: 0
- GrayMixerBlue: +33
- GrayMixerGreen: -10
- GrayMixerMagenta: +76
- GrayMixerOrange: +26
- GrayMixerPurple: -29
- GrayMixerRed: +26
- GrayMixerYellow: +10
- GreenHue: 0
- GreenSaturation: 0
- HasCrop: True
- HasSettings: True
- HighlightRecovery: 100
- IncrementalTemperature: 0
- IncrementalTint: 0
- LensManualDistortionAmount: 0
- LensProfileEnable: 0
- LensProfileSetup: LensDefaults
- LuminanceNoiseReductionContrast: 0
- LuminanceNoiseReductionDetail: 50
- LuminanceSmoothing: 20
- PaintCorrectionActive: true
- PaintCorrectionAmount: 1.000000
- PaintCorrectionBrightness: 0.000000
- PaintCorrectionClarity: 0.663333
- PaintCorrectionContrast: 0.000000
- PaintCorrectionExposure: 0.000000
- PaintCorrectionHue: 0.000000
- PaintCorrectionMaskCenterWeight: 0.000000
- PaintCorrectionMaskFlow: 1.000000
- PaintCorrectionMaskRadius: 0.022170
- PaintCorrectionMaskValue: 1.000000
- PaintCorrectionMaskWhat: Mask/Paint
- PaintCorrectionSaturation: 0.000000
- PaintCorrectionSharpness: 0.000000
- PaintCorrectionWhat: Correction
- ParametricDarks: -47
- ParametricHighlightSplit: 75
- ParametricHighlights: +10
- ParametricLights: +3
- ParametricMidtoneSplit: 50
- ParametricShadowSplit: 25
- ParametricShadows: -41
- PerspectiveHorizontal: 0
- PerspectiveRotate: 0.0
- PerspectiveScale: 100
- PerspectiveVertical: 0
- PostCropVignetteAmount: 0
- ProcessVersion: 5.7
- RedHue: 0
- RedSaturation: 0
- ShadowTint: 0
- Shadows: 0
- SharpenDetail: 33
- SharpenEdgeMasking: 0
- SharpenRadius: +1.0
- Sharpness: 61
- SplitToningBalance: 0
- SplitToningHighlightHue: 0
- SplitToningHighlightSaturation: 0
- SplitToningShadowHue: 0
- SplitToningShadowSaturation: 0
- ToneCurve: 0, 0, 255, 255
- ToneCurveName: Linear
- Version: 6.2
- VignetteAmount: 0
- WhiteBalance: As Shot
- XMP-exif
- DateTimeDigitized: 2010:07:28 05:54:21+03:00
- DateTimeOriginal: 2010:07:28 05:54:21+03:00
- ExifImageHeight: 947
- ExifImageWidth: 768
- FlashFired: True
- FlashFunction: False
- FlashMode: On
- FlashRedEyeMode: False
- FlashReturn: No return detection
- XMP-tiff
- ImageHeight: 947
- ImageWidth: 768
- XMP-xmp
- CreateDate: 2010:07:28 05:54:21+03:00
- ModifyDate: 2010:11:13 18:26:42+02:00
- Просмотров: 252
- Рейтинг: голосов еще нет
- Отзывов: 0