» Участники » Donnie Brasco » пробы HDR » IMGP3094_0_1_2_3_tonemapped.jpg |
IMGP3094_0_1_2_3_tonemapped.jpg |
IMGP3094_0_1_2_3_tonemapped.jpg
- Раздел: Другое, разное
- Дата съёмки: 23.11.2010 13:04
- Дата загрузки фото: 23.11.2010 21:10
- Оригинальная фотография: 819 x 544 (511 Кб)
- Технические характеристики:
- Фотоаппарат: Pentax K-x
- Выдержка: 1/40
- Диафрагма: 5,6
- Светочувствительность: 100
- Фокусное расстояние: 77,0 mm
- Полный EXIF
- Adobe
- ColorTransform: YCbCr
- Composite
- Aperture: 5,6
- FocalLength35efl: 77,0 mm
- ShutterSpeed: 1/40
- ExifIFD
- ApertureValue: 5,6
- DateTimeOriginal: 2010:11:23 13:04:07
- ExposureTime: 1/40
- FNumber: 5,6
- FocalLength: 77,0 mm
- ISO: 100
- ShutterSpeedValue: 1/40
- ICC-header
- ICC-meas
- ICC-view
- IFD0
- Model: PENTAX K-x
- ModifyDate: 2010:11:23 16:58:22
- IFD1
- System
- XMP-crs
- AlreadyApplied: True
- BlueHue: 0
- BlueSaturation: 0
- Brightness: 0
- CameraProfile: Embedded
- ChromaticAberrationB: -88
- ChromaticAberrationR: +21
- Clarity: 0
- ColorNoiseReduction: 0
- Contrast: +16
- ConvertToGrayscale: False
- Defringe: 0
- Exposure: 0.00
- FillLight: 18
- GreenHue: 0
- GreenSaturation: 0
- HasCrop: False
- HasSettings: True
- HighlightRecovery: 0
- HueAdjustmentAqua: 0
- HueAdjustmentBlue: 0
- HueAdjustmentGreen: 0
- HueAdjustmentMagenta: 0
- HueAdjustmentOrange: 0
- HueAdjustmentPurple: 0
- HueAdjustmentRed: 0
- HueAdjustmentYellow: 0
- IncrementalTemperature: +10
- IncrementalTint: 0
- LuminanceAdjustmentAqua: 0
- LuminanceAdjustmentBlue: 0
- LuminanceAdjustmentGreen: 0
- LuminanceAdjustmentMagenta: 0
- LuminanceAdjustmentOrange: 0
- LuminanceAdjustmentPurple: 0
- LuminanceAdjustmentRed: 0
- LuminanceAdjustmentYellow: 0
- LuminanceSmoothing: 0
- PaintCorrectionActive: true
- PaintCorrectionAmount: 1.000000
- PaintCorrectionBrightness: 0.125000
- PaintCorrectionClarity: 0.000000
- PaintCorrectionContrast: 0.000000
- PaintCorrectionExposure: 0.000000
- PaintCorrectionHue: 240.000000
- PaintCorrectionMaskCenterWeight: 0.000000
- PaintCorrectionMaskFlow: 1.000000
- PaintCorrectionMaskRadius: 0.066725
- PaintCorrectionMaskValue: 1.000000
- PaintCorrectionMaskWhat: Mask/Paint
- PaintCorrectionSaturation: 0.000000
- PaintCorrectionSharpness: 0.000000
- PaintCorrectionWhat: Correction
- ParametricDarks: -5
- ParametricHighlightSplit: 75
- ParametricHighlights: +7
- ParametricLights: +14
- ParametricMidtoneSplit: 50
- ParametricShadowSplit: 25
- ParametricShadows: 0
- PostCropVignetteAmount: 0
- RedHue: 0
- RedSaturation: 0
- Saturation: 0
- SaturationAdjustmentAqua: 0
- SaturationAdjustmentBlue: 0
- SaturationAdjustmentGreen: 0
- SaturationAdjustmentMagenta: 0
- SaturationAdjustmentOrange: 0
- SaturationAdjustmentPurple: 0
- SaturationAdjustmentRed: 0
- SaturationAdjustmentYellow: 0
- ShadowTint: 0
- Shadows: 0
- SharpenDetail: 25
- SharpenEdgeMasking: 0
- SharpenRadius: +1.0
- Sharpness: 0
- SplitToningBalance: 0
- SplitToningHighlightHue: 0
- SplitToningHighlightSaturation: 0
- SplitToningShadowHue: 0
- SplitToningShadowSaturation: 0
- ToneCurve: 0, 0, 255, 255
- ToneCurveName: Linear
- Version: 5.7
- Vibrance: 0
- VignetteAmount: 0
- WhiteBalance: Custom
- XMP-exif
- DateTimeOriginal: 2010:11:23 13:04:07+03:00
- ExifImageHeight: 544
- ExifImageWidth: 819
- XMP-pmtm
- BlackClip: 0.003450
- ColorSaturation: 44.0
- ColorTemperature: 1.1
- Gamma: 1.0
- HighlightsSmoothing: 0.0
- Luminosity: -0.5
- Method: Details Enhancer
- Microcontrast: -10.0
- Microsmoothing: 1.5
- SaturationHighlights: -10.0
- SaturationShadows: 2.9
- ShadowsClipping: 0.0
- ShadowsSmoothing: 0.0
- Smoothing: High
- Strength: 100.0
- Version: 3.2
- WhiteClip: 0.785800
- XMP-tiff
- ImageHeight: 544
- ImageWidth: 819
- XMP-xmp
- CreateDate: 2010:11:23 13:04:07+03:00
- ModifyDate: 2010:11:23 16:58:22+03:00
- Просмотров: 201
- Рейтинг: голосов еще нет
- Отзывов: 0
Получить код для блога
Вставка фотографии в текущем разрешении |
Вставка миниатюры |
HTML (для вставки в блог):
BBCode (для вставки в форум):
Ссылка на фото:
Ссылка на миниатюру:
- Послать ссылку другу
Комментарии к фотографии |