» Участники » Donnie Brasco » пробы HDR » IMGP3176_3_4_5_tonemappedddd.jpg |
IMGP3176_3_4_5_tonemappedddd.jpg |
IMGP3176_3_4_5_tonemappedddd.jpg
- Раздел: Другое, разное
- Дата съёмки: 25.11.2010 19:29
- Дата загрузки фото: 25.11.2010 22:46
- Оригинальная фотография: 819 x 544 (243 Кб)
- Технические характеристики:
- Фотоаппарат: Pentax K-x
- Выдержка: 4,0
- Диафрагма: 8,0
- Светочувствительность: 400
- Фокусное расстояние: 18,0 mm
- Полный EXIF
- Adobe
- ColorTransform: YCbCr
- Composite
- Aperture: 8,0
- FocalLength35efl: 18,0 mm
- LightValue: 2,0
- ShutterSpeed: 4,0
- ExifIFD
- ApertureValue: 8,0
- DateTimeOriginal: 2010:11:25 19:29:14
- ExposureTime: 4,0
- FNumber: 8,0
- FocalLength: 18,0 mm
- ISO: 400
- ShutterSpeedValue: 4,0
- ICC-header
- ICC-meas
- ICC-view
- IFD0
- Model: PENTAX K-x
- ModifyDate: 2010:11:25 22:45:56
- IFD1
- System
- XMP-crs
- AlreadyApplied: True
- BlueHue: 0
- BlueSaturation: 0
- Brightness: 0
- CameraProfile: Embedded
- ChromaticAberrationB: 0
- ChromaticAberrationR: 0
- Clarity: 0
- ColorNoiseReduction: 0
- Contrast: 0
- ConvertToGrayscale: False
- Defringe: 0
- Exposure: 0.00
- FillLight: 0
- GreenHue: 0
- GreenSaturation: 0
- HasCrop: False
- HasSettings: True
- HighlightRecovery: 0
- HueAdjustmentAqua: 0
- HueAdjustmentBlue: 0
- HueAdjustmentGreen: 0
- HueAdjustmentMagenta: 0
- HueAdjustmentOrange: 0
- HueAdjustmentPurple: 0
- HueAdjustmentRed: 0
- HueAdjustmentYellow: 0
- IncrementalTemperature: -5
- IncrementalTint: 0
- LuminanceAdjustmentAqua: 0
- LuminanceAdjustmentBlue: 0
- LuminanceAdjustmentGreen: 0
- LuminanceAdjustmentMagenta: 0
- LuminanceAdjustmentOrange: 0
- LuminanceAdjustmentPurple: 0
- LuminanceAdjustmentRed: 0
- LuminanceAdjustmentYellow: 0
- LuminanceSmoothing: 0
- ParametricDarks: 0
- ParametricHighlightSplit: 75
- ParametricHighlights: 0
- ParametricLights: +21
- ParametricMidtoneSplit: 50
- ParametricShadowSplit: 25
- ParametricShadows: 0
- PostCropVignetteAmount: 0
- RedHue: 0
- RedSaturation: 0
- Saturation: 0
- SaturationAdjustmentAqua: 0
- SaturationAdjustmentBlue: 0
- SaturationAdjustmentGreen: 0
- SaturationAdjustmentMagenta: 0
- SaturationAdjustmentOrange: 0
- SaturationAdjustmentPurple: 0
- SaturationAdjustmentRed: 0
- SaturationAdjustmentYellow: 0
- ShadowTint: 0
- Shadows: 0
- SharpenDetail: 25
- SharpenEdgeMasking: 0
- SharpenRadius: +1.0
- Sharpness: 0
- SplitToningBalance: 0
- SplitToningHighlightHue: 0
- SplitToningHighlightSaturation: 0
- SplitToningShadowHue: 0
- SplitToningShadowSaturation: 0
- ToneCurve: 0, 0, 255, 255
- ToneCurveName: Linear
- Version: 5.7
- Vibrance: 0
- VignetteAmount: 0
- WhiteBalance: Custom
- XMP-dc
- XMP-exif
- ColorSpace: Unknown (-1)
- DateTimeOriginal: 2010:11:25 19:29:14+03:00
- ExifImageHeight: 544
- ExifImageWidth: 819
- XMP-pmtm
- BlackClip: 0.000000
- ColorSaturation: 63.0
- ColorTemperature: 0.1
- Gamma: 1.0
- HighlightsSmoothing: 0.0
- Luminosity: -10.0
- Method: Details Enhancer
- Microcontrast: -7.6
- Microsmoothing: 1.5
- SaturationHighlights: 0.4
- SaturationShadows: -0.8
- ShadowsClipping: 0.0
- ShadowsSmoothing: 0.0
- Smoothing: High
- Strength: 29.0
- Version: 3.2
- WhiteClip: 1.944200
- XMP-tiff
- ImageHeight: 544
- ImageWidth: 819
- XMP-xmp
- CreateDate: 2010:11:25 19:29:14+03:00
- ModifyDate: 2010:11:25 22:45:56+03:00
- XMP-xmpMM
- Просмотров: 225
- Рейтинг: голосов еще нет
- Отзывов: 0
Получить код для блога
Вставка фотографии в текущем разрешении |
Вставка миниатюры |
HTML (для вставки в блог):
BBCode (для вставки в форум):
Ссылка на фото:
Ссылка на миниатюру:
- Послать ссылку другу
Комментарии к фотографии |