SAM_1916.jpg |
SAM_1916.jpg
- Раздел: Активный отдых, туризм
- Дата съёмки: 11.12.2010 16:44
- Дата загрузки фото: 14.12.2010 14:16
- Оригинальная фотография: 2554 x 1915 (827 Кб)
- Технические характеристики:
- Фотоаппарат: Samsung EX1
- Выдержка: 1/500
- Гиперфокальное расстояние: inf m
- Диафрагма: 4,4
- Светочувствительность: 80
- Фокусное расстояние: 9,0 mm (35 mm equivalent: 36,0 mm)
- Полный EXIF
- Adobe
- ColorTransform: YCbCr
- Composite
- Aperture: 4,4
- CircleOfConfusion: 0,006 mm
- FOV: 53,0 deg
- FocalLength35efl: 9,0 mm (35 mm equivalent: 36,0 mm)
- HyperfocalDistance: inf m
- ScaleFactor35efl: 4,7
- ShutterSpeed: 1/500
- ExifIFD
- ApertureValue: 4,4
- ColorSpace: Uncalibrated
- Contrast: Normal
- DateTimeOriginal: 2010:12:11 16:44:24
- DigitalZoomRatio: 1
- ExifImageHeight: 1915
- ExifImageWidth: 2554
- ExposureCompensation: 0
- ExposureMode: Auto bracket
- ExposureProgram: Program AE
- ExposureTime: 1/500
- FNumber: 4,4
- Flash: No Flash
- FocalLength: 9,1 mm
- FocalLengthIn35mmFormat: 42 mm
- ISO: 80
- LensInfo: 5.2-15.6mm f/1.8-2.4
- LensModel: Schneider KREUZNACH 3x ZOOM 5.2-15.6mm 1:1.8-2.4 DUAL IS
- LightSource: Unknown
- MeteringMode: Multi-segment
- Saturation: Normal
- SceneCaptureType: Standard
- SensitivityType: Unknown
- SerialNumber: DY049P000000
- Sharpness: Normal
- ShutterSpeedValue: 1/500
- WhiteBalance: Auto
- ICC-header
- IFD0
- BitsPerSample: 8 8 8
- ImageHeight: 2736
- ImageWidth: 3648
- Make: SAMSUNG
- Model: EX1
- ModifyDate: 2010:12:12 14:22:23
- Orientation: Horizontal (normal)
- PhotometricInterpretation: RGB
- PlanarConfiguration: Chunky
- SamplesPerPixel: 3
- IFD1
- IPTC
- DateCreated: 2010:12:11
- System
- XMP-aux
- Firmware: EX1_005291
- Lens: Schneider KREUZNACH 3x ZOOM 5.2-15.6mm 1:1.8-2.4 DUAL IS
- XMP-crs
- AlreadyApplied: True
- BlueHue: 0
- BlueSaturation: 0
- Brightness: +50
- ChromaticAberrationB: 0
- ChromaticAberrationR: 0
- Clarity: 0
- ColorNoiseReduction: 25
- ColorNoiseReductionDetail: 50
- Contrast: +53
- ConvertToGrayscale: False
- Defringe: 0
- Exposure: 0.00
- FillLight: 0
- GrainAmount: 0
- GreenHue: 0
- GreenSaturation: 0
- HasCrop: False
- HasSettings: True
- HighlightRecovery: 14
- HueAdjustmentAqua: 0
- HueAdjustmentBlue: 0
- HueAdjustmentGreen: 0
- HueAdjustmentMagenta: 0
- HueAdjustmentOrange: 0
- HueAdjustmentPurple: 0
- HueAdjustmentRed: 0
- HueAdjustmentYellow: 0
- LensManualDistortionAmount: 0
- LensProfileEnable: 0
- LensProfileSetup: LensDefaults
- LuminanceAdjustmentAqua: 0
- LuminanceAdjustmentBlue: 0
- LuminanceAdjustmentGreen: 0
- LuminanceAdjustmentMagenta: 0
- LuminanceAdjustmentOrange: 0
- LuminanceAdjustmentPurple: 0
- LuminanceAdjustmentRed: 0
- LuminanceAdjustmentYellow: 0
- LuminanceSmoothing: 0
- ParametricDarks: 0
- ParametricHighlightSplit: 75
- ParametricHighlights: 0
- ParametricLights: 0
- ParametricMidtoneSplit: 50
- ParametricShadowSplit: 25
- ParametricShadows: 0
- PerspectiveHorizontal: 0
- PerspectiveRotate: 0.0
- PerspectiveScale: 100
- PerspectiveVertical: 0
- PostCropVignetteAmount: 0
- ProcessVersion: 5.7
- RawFileName: SAM_1916.SRW
- RedHue: 0
- RedSaturation: 0
- Saturation: 0
- SaturationAdjustmentAqua: 0
- SaturationAdjustmentBlue: 0
- SaturationAdjustmentGreen: 0
- SaturationAdjustmentMagenta: 0
- SaturationAdjustmentOrange: 0
- SaturationAdjustmentPurple: 0
- SaturationAdjustmentRed: 0
- SaturationAdjustmentYellow: 0
- ShadowTint: 0
- Shadows: 5
- SharpenDetail: 25
- SharpenEdgeMasking: 0
- SharpenRadius: +1.0
- Sharpness: 25
- SplitToningBalance: 0
- SplitToningHighlightHue: 0
- SplitToningHighlightSaturation: 0
- SplitToningShadowHue: 0
- SplitToningShadowSaturation: 0
- Temperature: 4650
- Tint: -7
- ToneCurve: 0, 0, 32, 22, 64, 56, 128, 128, 192, 196, 255, 255
- ToneCurveName: Medium Contrast
- Version: 6.2
- Vibrance: 0
- VignetteAmount: 0
- WhiteBalance: As Shot
- XMP-dc
- XMP-xmp
- CreateDate: 2010:12:11 16:44:24+02:00
- ModifyDate: 2010:12:12 14:22:23+02:00
- Rating: 0
- XMP-xmpMM
- Просмотров: 252
- Рейтинг: голосов еще нет
- Отзывов: 0
Получить код для блога
Вставка фотографии в текущем разрешении |
Вставка миниатюры |
HTML (для вставки в блог):
BBCode (для вставки в форум):
Ссылка на фото:
Ссылка на миниатюру:
- Послать ссылку другу
Комментарии к фотографии |