- Раздел: Животные
- Дата съёмки: 22.12.2010 15:23
- Дата загрузки фото: 31.12.2010 19:33
- Оригинальная фотография: 2912 x 2000 (1,6 Мб)
- Технические характеристики:
- Фотоаппарат: Canon EOS Kiss X3
- Выдержка: 1/125
- Гиперфокальное расстояние: inf m
- Диафрагма: 8,0
- Светочувствительность: 200
- Фокусное расстояние: 300,0 mm (35 mm equivalent: 600,0 mm)
- Экспокоррекция: -1/3
- Полный EXIF
- Adobe
- ColorTransform: YCbCr
- Composite
- Aperture: 8,0
- CircleOfConfusion: 0,012 mm
- DOF: inf (0,00 m - inf)
- FOV: 3,0 deg
- FocalLength35efl: 300,0 mm (35 mm equivalent: 600,0 mm)
- HyperfocalDistance: inf m
- ScaleFactor35efl: 2,6
- ShutterSpeed: 1/125
- ExifIFD
- ApertureValue: 8,0
- CreateDate: 2010:12:22 15:23:34
- CustomRendered: Normal
- DateTimeOriginal: 2010:12:22 15:23:34
- ExposureCompensation: -1/3
- ExposureMode: Auto
- ExposureProgram: Aperture-priority AE
- ExposureTime: 1/125
- FNumber: 8,0
- Flash: Off, Did not fire
- FocalLength: 300,0 mm
- ISO: 200
- LensInfo: 70-300mm f/?
- LensModel: 70-300mm
- MaxApertureValue: 5,4
- MeteringMode: Multi-segment
- OwnerName: Michael Ortenberg
- SceneCaptureType: Standard
- SensitivityType: Unknown
- SerialNumber: 310109437
- ShutterSpeedValue: 1/125
- SubjectDistance: 5,9 m
- WhiteBalance: Auto
- ICC-header
- ICC-meas
- ICC-view
- IFD0
- Artist: Photographer: Michael Ortenberg
- Copyright: Copyright: Michael Ortenberg
- Make: Canon
- Model: Canon EOS Kiss X3
- ModifyDate: 2010:12:22 20:47:07
- IFD1
- IPTC
- By-line: Photographer: Michael Ortenberg
- CopyrightNotice: Copyright: Michael Ortenberg
- System
- XMP-aux
- ApproximateFocusDistance: 5,9
- Firmware: 1.1.0
- FlashCompensation: 0
- ImageNumber: 0
- Lens: 70-300mm
- LensID: 156
- XMP-crs
- AlreadyApplied: True
- BlueHue: 0
- BlueSaturation: +6
- Brightness: +50
- ChromaticAberrationB: 0
- ChromaticAberrationR: 0
- Clarity: +13
- ColorNoiseReduction: 25
- ColorNoiseReductionDetail: 50
- Contrast: +64
- ConvertToGrayscale: False
- CropAngle: 0
- CropBottom: 0.782493
- CropConstrainToWarp: 0
- CropHeight: 2000
- CropLeft: 0.187445
- CropRight: 0.800177
- CropTop: 0.151194
- CropUnit: pixels
- CropWidth: 2912
- Defringe: 0
- Exposure: 0.00
- FillLight: 0
- GrainAmount: 0
- GreenHue: 0
- GreenSaturation: 0
- HasCrop: True
- HasSettings: True
- HighlightRecovery: 0
- HueAdjustmentAqua: 0
- HueAdjustmentBlue: 0
- HueAdjustmentGreen: 0
- HueAdjustmentMagenta: 0
- HueAdjustmentOrange: 0
- HueAdjustmentPurple: 0
- HueAdjustmentRed: 0
- HueAdjustmentYellow: 0
- LensManualDistortionAmount: 0
- LensProfileChromaticAberrationScale: 100
- LensProfileDistortionScale: 100
- LensProfileEnable: 1
- LensProfileFilename: Canon (TAMRON SP 70-300mm F4-5.6 Di VC USD A005E) - RAW.lcp
- LensProfileSetup: Custom
- LensProfileVignettingScale: 100
- LuminanceAdjustmentAqua: 0
- LuminanceAdjustmentBlue: 0
- LuminanceAdjustmentGreen: 0
- LuminanceAdjustmentMagenta: 0
- LuminanceAdjustmentOrange: 0
- LuminanceAdjustmentPurple: 0
- LuminanceAdjustmentRed: 0
- LuminanceAdjustmentYellow: 0
- LuminanceSmoothing: 0
- ParametricDarks: 0
- ParametricHighlightSplit: 75
- ParametricHighlights: 0
- ParametricLights: 0
- ParametricMidtoneSplit: 50
- ParametricShadowSplit: 25
- ParametricShadows: 0
- PerspectiveHorizontal: 0
- PerspectiveRotate: 0.0
- PerspectiveScale: 100
- PerspectiveVertical: 0
- PostCropVignetteAmount: 0
- ProcessVersion: 5.7
- RedHue: 0
- RedSaturation: 0
- Saturation: +10
- SaturationAdjustmentAqua: 0
- SaturationAdjustmentBlue: 0
- SaturationAdjustmentGreen: 0
- SaturationAdjustmentMagenta: 0
- SaturationAdjustmentOrange: 0
- SaturationAdjustmentPurple: 0
- SaturationAdjustmentRed: 0
- SaturationAdjustmentYellow: 0
- ShadowTint: 0
- Shadows: 5
- SharpenDetail: 38
- SharpenEdgeMasking: 8
- SharpenRadius: +1.0
- Sharpness: 43
- SplitToningBalance: 0
- SplitToningHighlightHue: 0
- SplitToningHighlightSaturation: 0
- SplitToningShadowHue: 0
- SplitToningShadowSaturation: 0
- Temperature: 4550
- Tint: +13
- ToneCurve: 0, 0, 32, 22, 64, 56, 128, 128, 192, 196, 255, 255
- ToneCurveName: Medium Contrast
- Version: 6.3
- Vibrance: +8
- VignetteAmount: 0
- WhiteBalance: As Shot
- XMP-dc
- Creator: Photographer: Michael Ortenberg
- Rights: Copyright: Michael Ortenberg
- XMP-exif
- DateTimeDigitized: 2010:12:22 15:23:34.56+02:00
- DateTimeOriginal: 2010:12:22 15:23:34.56+02:00
- ExifImageHeight: 2000
- ExifImageWidth: 2912
- FlashFired: False
- FlashFunction: False
- FlashMode: Off
- FlashRedEyeMode: False
- FlashReturn: No return detection
- XMP-tiff
- ImageHeight: 2000
- ImageWidth: 2912
- XMP-xmp
- CreateDate: 2010:12:22 15:23:34.56+02:00
- ModifyDate: 2010:12:22 20:47:07+02:00
- Просмотров: 267
- Рейтинг: голосов еще нет
- Отзывов: 0