Уважаемые друзья и участники проекта iXBT.photo! К сожалению, 1 марта 2026 года проект iXBT.photo прекратит свою работу и будет закрыт. Мы высоко ценим ваше участие и тот вклад, который вы внесли в развитие нашего сообщества. Пожалуйста, не забудьте сохранить ваши фотографии до этой даты.
С уважением, команда iXBT.com
| DxO.jpg |
DxO.jpg
- Раздел: Другое, разное
- Дата съёмки: 09.05.2010 22:03
- Дата загрузки фото: 11.01.2011 12:58
- Оригинальная фотография: 4272 x 2848 (2,6 Мб)
- Технические характеристики:
- Фотоаппарат: Sony DSLR-A700
- Выдержка: 1/30
- Гиперфокальное расстояние: inf m
- Диафрагма: 3,2
- Светочувствительность: 800
- Фокусное расстояние: 24,0 mm (35 mm equivalent: 24,0 mm)
- Полный EXIF
- Composite
- Aperture: 3,2
- CircleOfConfusion: 0,020 mm
- FOV: 73,0 deg
- FocalLength35efl: 24,0 mm (35 mm equivalent: 24,0 mm)
- HyperfocalDistance: inf m
- LensID: Minolta AF 17-35mm F2.8-4 (D)
- ScaleFactor35efl: 1,5
- ShutterSpeed: 1/30
- ExifIFD
- BrightnessValue: 0
- ColorSpace: Uncalibrated
- CompressedBitsPerPixel: 8
- Contrast: Normal
- CreateDate: 2010:05:09 22:03:09
- CustomRendered: Normal
- DateTimeOriginal: 2010:05:09 22:03:09
- DigitalZoomRatio: 0
- ExifImageHeight: 2856
- ExifImageWidth: 4288
- ExposureCompensation: 0
- ExposureMode: Manual
- ExposureProgram: Manual
- ExposureTime: 1/30
- FNumber: 3,2
- Flash: Off, Did not fire
- FocalLength: 24,0 mm
- FocalLengthIn35mmFormat: 36 mm
- ISO: 800
- LightSource: Unknown
- MaxApertureValue: 3,2
- MeteringMode: Multi-segment
- Saturation: Normal
- SceneCaptureType: Standard
- SceneType: Directly photographed
- Sharpness: Hard
- UserComment:
- WhiteBalance: Auto
- ICC-header
- IFD0
- ImageDescription: SONY DSC
- Make: SONY
- Model: DSLR-A700
- ModifyDate: 2010:05:09 22:03:09
- Orientation: Horizontal (normal)
- OtherImageLength: 456783
- OtherImageStart: 155713
- Software: DxO Optics Pro 6.5.2 build 8036
- IFD1
- SubfileType: Reduced-resolution image
- Sony
- AFAreaMode: Wide
- AFIlluminator: Auto
- AFWithShutter: On
- AspectRatio: Unknown (0)
- Brightness: -10
- ColorCompensationFilter: 0
- ColorReproduction: яШяЫ
- ColorTemperature: Auto
- Contrast: -10
- CreativeStyle: Unknown (0)
- DriveMode: Unknown (0)
- DynamicRangeOptimizer: Standard
- DynamicRangeOptimizerLevel: 0
- DynamicRangeOptimizerMode: Off
- ExposureLevelIncrements: Unknown (0)
- ExposureProgram: Auto
- FileFormat: ARW 2.0
- FlashExposureComp: undef
- FlashMode: ADI
- FocusMode: Manual
- HighISONoiseReduction: 0
- ISOSetting: Auto
- ImageStabilization: Off
- ImageStyle: Unknown (0)
- LensType: Minolta AF 17-35mm F2.8-4 (D)
- LocalAFAreaPoint: Unknown (0)
- LongExposureNoiseReduction: Off
- MeteringMode: Unknown (0)
- PrioritySetupShutterRelease: AF
- Quality: RAW
- Rotation: Horizontal (normal)
- Saturation: -10
- SceneMode: Standard
- Sharpness: -10
- SonyModelID: DSLR-A700
- Teleconverter: None
- WhiteBalanceFineTune: 0
- ZoneMatching: ISO Setting Used
- ZoneMatchingValue: -10
- System
- XMP-aux
- Lens: 17-35mm F2.8-4
- LensID: 38
- LensInfo: 17-35mm f/2.8-4
- XMP-crs
- AlreadyApplied: False
- BlueHue: 0
- BlueSaturation: 0
- Brightness: +66
- ChromaticAberrationB: 0
- ChromaticAberrationR: 0
- Clarity: 0
- ColorNoiseReduction: 25
- ColorNoiseReductionDetail: 50
- Contrast: +27
- ConvertToGrayscale: False
- Defringe: 0
- Exposure: +0.70
- FillLight: 0
- GrainAmount: 0
- GreenHue: 0
- GreenSaturation: 0
- HasCrop: False
- HasSettings: True
- HighlightRecovery: 28
- HueAdjustmentAqua: 0
- HueAdjustmentBlue: 0
- HueAdjustmentGreen: 0
- HueAdjustmentMagenta: 0
- HueAdjustmentOrange: 0
- HueAdjustmentPurple: 0
- HueAdjustmentRed: 0
- HueAdjustmentYellow: 0
- LensManualDistortionAmount: 0
- LensProfileEnable: 0
- LensProfileSetup: LensDefaults
- LuminanceAdjustmentAqua: 0
- LuminanceAdjustmentBlue: 0
- LuminanceAdjustmentGreen: 0
- LuminanceAdjustmentMagenta: 0
- LuminanceAdjustmentOrange: 0
- LuminanceAdjustmentPurple: 0
- LuminanceAdjustmentRed: 0
- LuminanceAdjustmentYellow: 0
- LuminanceSmoothing: 0
- ParametricDarks: 0
- ParametricHighlightSplit: 75
- ParametricHighlights: 0
- ParametricLights: 0
- ParametricMidtoneSplit: 50
- ParametricShadowSplit: 25
- ParametricShadows: 0
- PerspectiveHorizontal: 0
- PerspectiveRotate: 0.0
- PerspectiveScale: 100
- PerspectiveVertical: 0
- PostCropVignetteAmount: 0
- ProcessVersion: 5.7
- RawFileName: _DSC9809.ARW
- RedHue: 0
- RedSaturation: 0
- Saturation: 0
- SaturationAdjustmentAqua: 0
- SaturationAdjustmentBlue: 0
- SaturationAdjustmentGreen: 0
- SaturationAdjustmentMagenta: 0
- SaturationAdjustmentOrange: 0
- SaturationAdjustmentPurple: 0
- SaturationAdjustmentRed: 0
- SaturationAdjustmentYellow: 0
- ShadowTint: 0
- Shadows: 0
- SharpenDetail: 25
- SharpenEdgeMasking: 0
- SharpenRadius: +1.0
- Sharpness: 25
- SplitToningBalance: 0
- SplitToningHighlightHue: 0
- SplitToningHighlightSaturation: 0
- SplitToningShadowHue: 0
- SplitToningShadowSaturation: 0
- Temperature: 4500
- Tint: 0
- ToneCurve: 0, 0, 32, 22, 64, 56, 128, 128, 192, 196, 255, 255
- ToneCurveName: Medium Contrast
- Version: 6.3
- Vibrance: 0
- VignetteAmount: 0
- WhiteBalance: As Shot
- XMP-dc
- XMP-exif
- ApertureValue: 3,2
- DateTimeOriginal: 2010:05:09 22:03:09+04:00
- FlashFired: False
- FlashFunction: False
- FlashMode: Off
- FlashRedEyeMode: False
- FlashReturn: No return detection
- ShutterSpeedValue: 1/30
- XMP-tiff
- XMP-xmp
- CreateDate: 2010:05:09 22:03:09+04:00
- CreatorTool: DSLR-A700 v04
- ModifyDate: 2010:05:09 22:03:09+04:00
- Rating: 0
- Просмотров: 732
- Рейтинг: голосов еще нет
- Отзывов: отключены
Получить код для блога
| Вставка фотографии в текущем разрешении |
Вставка миниатюры |
HTML (для вставки в блог):
BBCode (для вставки в форум):
Ссылка на фото:
Ссылка на миниатюру:
- Послать ссылку другу
| Комментарии к фотографии |