- Раздел: Другое, разное
- Дата съёмки: 12.01.2011 21:39
- Дата загрузки фото: 14.01.2011 01:19
- Оригинальная фотография: 3264 x 4896 (11,3 Мб)
- Технические характеристики:
- Фотоаппарат: Canon EOS-1D Mark IV
- Выдержка: 1/100
- Гиперфокальное расстояние: inf m
- Диафрагма: 2,0
- Светочувствительность: 3200
- Фокусное расстояние: 50,0 mm (35 mm equivalent: 50,0 mm)
- Полный EXIF
- Adobe
- ColorTransform: YCbCr
- Composite
- Aperture: 2,0
- CircleOfConfusion: 0,027 mm
- DOF: inf (0,00 m - inf)
- FOV: 39,0 deg
- FocalLength35efl: 50,0 mm (35 mm equivalent: 50,0 mm)
- HyperfocalDistance: inf m
- ScaleFactor35efl: 1,1
- ShutterSpeed: 1/100
- ExifIFD
- ApertureValue: 2,0
- ColorSpace: sRGB
- CreateDate: 2011:01:12 21:39:04
- CustomRendered: Normal
- DateTimeOriginal: 2011:01:12 21:39:04
- ExifImageHeight: 4896
- ExifImageWidth: 3264
- ExposureCompensation: 0
- ExposureMode: Manual
- ExposureProgram: Manual
- ExposureTime: 1/100
- FNumber: 2,0
- Flash: Off, Did not fire
- FocalLength: 50,0 mm
- ISO: 3200
- LensInfo: 50mm f/?
- LensModel: 50mm
- MaxApertureValue: 1,4
- MeteringMode: Center-weighted average
- SceneCaptureType: Standard
- SensitivityType: Unknown
- SerialNumber: 930900609
- ShutterSpeedValue: 1/100
- SubjectDistance: 2,98 m
- WhiteBalance: Auto
- ICC-header
- ICC-meas
- ICC-view
- IFD0
- Artist: Dmitry aka Managger
- Copyright: (c) managger
- Make: Canon
- Model: Canon EOS-1D Mark IV
- ModifyDate: 2011:01:13 18:19:24
- Orientation: Horizontal (normal)
- IFD1
- IPTC
- By-line: Dmitry aka Managger
- CopyrightNotice: (c) managger
- DateCreated: 2011:01:12
- System
- XMP-aux
- ApproximateFocusDistance: 2,98
- Firmware: 1.0.8
- FlashCompensation: 0
- ImageNumber: 0
- Lens: 50mm
- LensID: 169
- XMP-crs
- AlreadyApplied: True
- BlueHue: 0
- BlueSaturation: 0
- Brightness: +50
- ChromaticAberrationB: 0
- ChromaticAberrationR: 0
- Clarity: 0
- ColorNoiseReduction: 0
- Contrast: +25
- ConvertToGrayscale: False
- Defringe: 0
- Exposure: +1.00
- FillLight: 0
- GrainAmount: 0
- GreenHue: 0
- GreenSaturation: 0
- HasCrop: False
- HasSettings: True
- HighlightRecovery: 33
- HueAdjustmentAqua: 0
- HueAdjustmentBlue: 0
- HueAdjustmentGreen: 0
- HueAdjustmentMagenta: 0
- HueAdjustmentOrange: 0
- HueAdjustmentPurple: 0
- HueAdjustmentRed: 0
- HueAdjustmentYellow: 0
- LensManualDistortionAmount: 0
- LensProfileEnable: 0
- LensProfileSetup: LensDefaults
- LuminanceAdjustmentAqua: 0
- LuminanceAdjustmentBlue: 0
- LuminanceAdjustmentGreen: 0
- LuminanceAdjustmentMagenta: 0
- LuminanceAdjustmentOrange: 0
- LuminanceAdjustmentPurple: 0
- LuminanceAdjustmentRed: 0
- LuminanceAdjustmentYellow: 0
- LuminanceSmoothing: 0
- ParametricDarks: 0
- ParametricHighlightSplit: 75
- ParametricHighlights: 0
- ParametricLights: 0
- ParametricMidtoneSplit: 50
- ParametricShadowSplit: 25
- ParametricShadows: 0
- PerspectiveHorizontal: 0
- PerspectiveRotate: 0.0
- PerspectiveScale: 100
- PerspectiveVertical: 0
- PostCropVignetteAmount: 0
- ProcessVersion: 5.7
- RawFileName: 1DIV3079.CR2
- RedHue: 0
- RedSaturation: 0
- Saturation: 0
- SaturationAdjustmentAqua: 0
- SaturationAdjustmentBlue: 0
- SaturationAdjustmentGreen: 0
- SaturationAdjustmentMagenta: 0
- SaturationAdjustmentOrange: 0
- SaturationAdjustmentPurple: 0
- SaturationAdjustmentRed: 0
- SaturationAdjustmentYellow: 0
- ShadowTint: 0
- Shadows: 0
- SharpenDetail: 0
- SharpenEdgeMasking: 0
- SharpenRadius: +0.5
- Sharpness: 0
- SplitToningBalance: 0
- SplitToningHighlightHue: 0
- SplitToningHighlightSaturation: 0
- SplitToningShadowHue: 0
- SplitToningShadowSaturation: 0
- Temperature: 2850
- Tint: 0
- ToneCurve: 0, 0, 32, 22, 64, 56, 128, 128, 192, 196, 255, 255
- ToneCurveName: Medium Contrast
- Version: 6.2
- Vibrance: 0
- VignetteAmount: 0
- WhiteBalance: Tungsten
- XMP-dc
- Creator: Dmitry aka Managger
- Format: image/jpeg
- Rights: (c) managger
- XMP-xmp
- CreateDate: 2011:01:12 21:39:04.86+03:00
- ModifyDate: 2011:01:13 18:19:24+03:00
- Rating: 0
- XMP-xmpMM
- Просмотров: 117
- Рейтинг: голосов еще нет
- Отзывов: отключены