- Раздел: Портрет
- Дата съёмки: 09.02.2011 12:06
- Дата загрузки фото: 09.02.2011 13:28
- Оригинальная фотография: 1333 x 2000 (1,4 Мб)
- Технические характеристики:
- Фотоаппарат: Canon EOS-1D Mark III
- Выдержка: 1/800
- Гиперфокальное расстояние: inf m
- Диафрагма: 1,4
- Светочувствительность: 100
- Фокусное расстояние: 35,0 mm (35 mm equivalent: 70,0 mm)
- Полный EXIF
- Composite
- Aperture: 1,4
- CircleOfConfusion: 0,012 mm
- DOF: inf (0,00 m - inf)
- FOV: 28,0 deg
- FocalLength35efl: 35,0 mm (35 mm equivalent: 70,0 mm)
- HyperfocalDistance: inf m
- ScaleFactor35efl: 2,5
- ShutterSpeed: 1/800
- ExifIFD
- ApertureValue: 1,4
- BrightnessValue: 0
- ColorSpace: Unknown (0)
- CompressedBitsPerPixel: 0
- CreateDate: 2011:02:09 12:06:49
- DateTimeOriginal: 2011:02:09 12:06:49
- ExifImageHeight: 2000
- ExifImageWidth: 1333
- ExposureCompensation: 0
- ExposureIndex: 0
- ExposureProgram: Aperture-priority AE
- ExposureTime: 1/800
- FNumber: 1,4
- Flash: No Flash
- FocalLength: 35,0 mm
- ISO: 100, 100
- LightSource: Unknown
- MaxApertureValue: 1,4
- MeteringMode: Multi-segment
- SceneType: Unknown (0)
- SensingMethod: Unknown (0)
- ShutterSpeedValue: 1/800
- SubjectDistance: 2,03 m
- ICC-header
- ICC-meas
- ICC-view
- IFD0
- Artist: demakov.ru
- Make: Canon
- Model: Canon EOS-1D Mark III
- ModifyDate: 2011:02:09 13:26:24
- Orientation: Horizontal (normal)
- PrimaryChromaticities: 0 0 0 0 0 0
- ReferenceBlackWhite: 0 0 0 0 0 0
- Software: ACD Systems Digital Imaging
- WhitePoint: 0 0
- IPTC
- System
- XMP-aux
- ApproximateFocusDistance: 2,03
- Firmware: 1.3.0
- FlashCompensation: 0
- ImageNumber: 0
- Lens: EF35mm f/1.4L USM
- LensID: 180
- LensInfo: 35mm f/?
- OwnerName: demakov.ru
- SerialNumber: 543680
- XMP-crs
- AlreadyApplied: True
- BlueHue: +11
- BlueSaturation: -70
- Brightness: +57
- ChromaticAberrationB: 0
- ChromaticAberrationR: 0
- Clarity: +29
- ColorNoiseReduction: 25
- ColorNoiseReductionDetail: 50
- Contrast: +40
- ConvertToGrayscale: False
- CropAngle: 0
- CropBottom: 0.995402
- CropConstrainToWarp: 0
- CropHeight: 2020
- CropLeft: 0
- CropRight: 0.77931
- CropTop: 0.216092
- CropUnit: pixels
- CropWidth: 3030
- Defringe: 0
- Exposure: +0.89
- FillLight: 0
- GrainAmount: 10
- GrainFrequency: 50
- GrainSize: 25
- GreenHue: +11
- GreenSaturation: +25
- HasCrop: True
- HasSettings: True
- HighlightRecovery: 0
- HueAdjustmentAqua: 0
- HueAdjustmentBlue: 0
- HueAdjustmentGreen: 0
- HueAdjustmentMagenta: 0
- HueAdjustmentOrange: 0
- HueAdjustmentPurple: 0
- HueAdjustmentRed: 0
- HueAdjustmentYellow: 0
- LensManualDistortionAmount: 0
- LensProfileEnable: 0
- LensProfileSetup: LensDefaults
- LuminanceAdjustmentAqua: 0
- LuminanceAdjustmentBlue: 0
- LuminanceAdjustmentGreen: 0
- LuminanceAdjustmentMagenta: 0
- LuminanceAdjustmentOrange: 0
- LuminanceAdjustmentPurple: 0
- LuminanceAdjustmentRed: 0
- LuminanceAdjustmentYellow: 0
- LuminanceSmoothing: 0
- ParametricDarks: -3
- ParametricHighlightSplit: 75
- ParametricHighlights: 0
- ParametricLights: 0
- ParametricMidtoneSplit: 50
- ParametricShadowSplit: 25
- ParametricShadows: -14
- PerspectiveHorizontal: 0
- PerspectiveRotate: 0.0
- PerspectiveScale: 100
- PerspectiveVertical: 0
- PostCropVignetteAmount: -18
- PostCropVignetteFeather: 50
- PostCropVignetteHighlightContrast: 0
- PostCropVignetteMidpoint: 50
- PostCropVignetteRoundness: 0
- PostCropVignetteStyle: 1
- ProcessVersion: 5.7
- RedHue: +96
- RedSaturation: +3
- Saturation: -100
- SaturationAdjustmentAqua: 0
- SaturationAdjustmentBlue: 0
- SaturationAdjustmentGreen: 0
- SaturationAdjustmentMagenta: 0
- SaturationAdjustmentOrange: 0
- SaturationAdjustmentPurple: 0
- SaturationAdjustmentRed: 0
- SaturationAdjustmentYellow: 0
- ShadowTint: +8
- Shadows: 11
- SharpenDetail: 25
- SharpenEdgeMasking: 0
- SharpenRadius: +1.0
- Sharpness: 0
- SplitToningBalance: 0
- SplitToningHighlightHue: 51
- SplitToningHighlightSaturation: 25
- SplitToningShadowHue: 0
- SplitToningShadowSaturation: 0
- Temperature: 12500
- Tint: +35
- ToneCurve: 0, 0, 255, 255
- ToneCurveName: Linear
- Version: 6.2
- Vibrance: 0
- VignetteAmount: 0
- WhiteBalance: Custom
- XMP-dc
- XMP-exif
- CustomRendered: Normal
- DateTimeDigitized: 2011:02:09 12:06:49.25+3:00
- DateTimeOriginal: 2011:02:09 12:06:49.25+3:00
- ExifImageHeight: 3030
- ExifImageWidth: 2020
- ExposureMode: Auto
- FlashFired: False
- FlashFunction: False
- FlashMode: Unknown
- FlashRedEyeMode: False
- FlashReturn: No return detection
- ISO: 100
- SceneCaptureType: Standard
- WhiteBalance: Auto
- XMP-tiff
- ImageHeight: 3030
- ImageWidth: 2020
- XMP-x
- XMP-xmp
- CreateDate: 2011:02:09 12:06:49.25+03:00
- ModifyDate: 2011:02:09 13:25:54.0+3:00