- Раздел: Другое, разное
- Дата съёмки: 15.02.2011 16:26
- Дата загрузки фото: 18.02.2011 00:59
- Оригинальная фотография: 2000 x 1500 (1,4 Мб)
- Технические характеристики:
- Фотоаппарат: Samsung EX1
- Выдержка: 1/15
- Гиперфокальное расстояние: inf m
- Диафрагма: 2,4
- Светочувствительность: 800
- Фокусное расстояние: 15,0 mm (35 mm equivalent: 60,0 mm)
- Полный EXIF
- Adobe
- ColorTransform: YCbCr
- Composite
- Aperture: 2,4
- CircleOfConfusion: 0,006 mm
- FOV: 33,0 deg
- FocalLength35efl: 15,0 mm (35 mm equivalent: 60,0 mm)
- HyperfocalDistance: inf m
- ScaleFactor35efl: 4,8
- ShutterSpeed: 1/15
- ExifIFD
- ApertureValue: 2,4
- Contrast: Normal
- DateTimeOriginal: 2011:02:15 16:26:49
- DigitalZoomRatio: 1
- ExposureCompensation: 0
- ExposureMode: Unknown (3)
- ExposureProgram: Aperture-priority AE
- ExposureTime: 1/15
- FNumber: 2,4
- Flash: No Flash
- FocalLength: 15,6 mm
- FocalLengthIn35mmFormat: 72 mm
- ISO: 800
- LensInfo: 5.2-15.6mm f/1.8-2.4
- LensModel: Schneider KREUZNACH 3x ZOOM 5.2-15.6mm 1:1.8-2.4 DUAL IS
- LightSource: Unknown
- MeteringMode: Multi-segment
- Saturation: Normal
- SceneCaptureType: Standard
- SensitivityType: Unknown
- SerialNumber: DY049P000000
- Sharpness: Normal
- ShutterSpeedValue: 1/15
- WhiteBalance: Auto
- ICC-header
- ICC-meas
- ICC-view
- IFD0
- Make: SAMSUNG
- Model: EX1
- ModifyDate: 2011:02:17 23:28:57
- IFD1
- System
- XMP-aux
- Firmware: EX1_008261
- Lens: Schneider KREUZNACH 3x ZOOM 5.2-15.6mm 1:1.8-2.4 DUAL IS
- XMP-crs
- AlreadyApplied: True
- BlueHue: 0
- BlueSaturation: 0
- Brightness: +21
- ChromaticAberrationB: 0
- ChromaticAberrationR: 0
- Clarity: +25
- ColorNoiseReduction: 10
- ColorNoiseReductionDetail: 50
- Contrast: +20
- ConvertToGrayscale: False
- CropAngle: 1.24495
- CropBottom: 1
- CropConstrainToWarp: 0
- CropHeight: 1500
- CropLeft: 0.022
- CropRight: 0.978
- CropTop: 0
- CropUnit: pixels
- CropWidth: 2000
- Defringe: 0
- Exposure: +0.76
- FillLight: 25
- GrainAmount: 40
- GrainFrequency: 50
- GrainSize: 25
- GreenHue: 0
- GreenSaturation: 0
- HasCrop: True
- HasSettings: True
- HighlightRecovery: 61
- HueAdjustmentAqua: 0
- HueAdjustmentBlue: 0
- HueAdjustmentGreen: 0
- HueAdjustmentMagenta: 0
- HueAdjustmentOrange: 0
- HueAdjustmentPurple: 0
- HueAdjustmentRed: 0
- HueAdjustmentYellow: 0
- LensManualDistortionAmount: 0
- LensProfileChromaticAberrationScale: 100
- LensProfileDistortionScale: 100
- LensProfileEnable: 0
- LensProfileFilename: Samsung EX1 - RAW.lcp
- LensProfileSetup: LensDefaults
- LensProfileVignettingScale: 100
- LuminanceAdjustmentAqua: 0
- LuminanceAdjustmentBlue: 0
- LuminanceAdjustmentGreen: 0
- LuminanceAdjustmentMagenta: 0
- LuminanceAdjustmentOrange: 0
- LuminanceAdjustmentPurple: 0
- LuminanceAdjustmentRed: 0
- LuminanceAdjustmentYellow: 0
- LuminanceSmoothing: 0
- ParametricDarks: -24
- ParametricHighlightSplit: 75
- ParametricHighlights: +49
- ParametricLights: -3
- ParametricMidtoneSplit: 50
- ParametricShadowSplit: 25
- ParametricShadows: +33
- PerspectiveHorizontal: 0
- PerspectiveRotate: 0.0
- PerspectiveScale: 100
- PerspectiveVertical: 0
- PostCropVignetteAmount: -25
- PostCropVignetteFeather: 50
- PostCropVignetteHighlightContrast: 0
- PostCropVignetteMidpoint: 50
- PostCropVignetteRoundness: 0
- PostCropVignetteStyle: 1
- ProcessVersion: 5.7
- RedHue: 0
- RedSaturation: 0
- Saturation: -100
- SaturationAdjustmentAqua: 0
- SaturationAdjustmentBlue: 0
- SaturationAdjustmentGreen: 0
- SaturationAdjustmentMagenta: 0
- SaturationAdjustmentOrange: -10
- SaturationAdjustmentPurple: 0
- SaturationAdjustmentRed: -7
- SaturationAdjustmentYellow: 0
- ShadowTint: 0
- Shadows: 56
- SharpenDetail: 25
- SharpenEdgeMasking: 0
- SharpenRadius: +1.0
- Sharpness: 10
- SplitToningBalance: 0
- SplitToningHighlightHue: 0
- SplitToningHighlightSaturation: 0
- SplitToningShadowHue: 0
- SplitToningShadowSaturation: 0
- Temperature: 4000
- Tint: -105
- ToneCurve: 0, 0, 32, 22, 64, 56, 128, 128, 192, 196, 255, 255
- ToneCurveName: Medium Contrast
- Version: 6.3
- Vibrance: 0
- VignetteAmount: 0
- WhiteBalance: Custom
- XMP-exif
- DateTimeOriginal: 2011:02:15 16:26:49+02:00
- ExifImageHeight: 1500
- ExifImageWidth: 2000
- FlashFired: False
- FlashFunction: False
- FlashMode: Unknown
- FlashRedEyeMode: False
- FlashReturn: No return detection
- XMP-tiff
- ImageHeight: 1500
- ImageWidth: 2000
- XMP-xmp
- CreateDate: 2011:02:15 16:26:49+02:00
- ModifyDate: 2011:02:17 23:28:57+02:00
- Просмотров: 250
- Рейтинг: голосов еще нет
- Отзывов: 0