- Раздел: Другое, разное
- Дата съёмки: 04.02.2011 14:05
- Дата загрузки фото: 18.02.2011 01:09
- Оригинальная фотография: 2000 x 2000 (1,3 Мб)
- Технические характеристики:
- Фотоаппарат: Samsung EX1
- Выдержка: 1/90
- Гиперфокальное расстояние: inf m
- Диафрагма: 2,0
- Светочувствительность: 1600
- Фокусное расстояние: 7,0 mm (35 mm equivalent: 35,0 mm)
- Экспокоррекция: -0,3
- Полный EXIF
- Adobe
- ColorTransform: YCbCr
- Composite
- Aperture: 2,0
- CircleOfConfusion: 0,006 mm
- FOV: 54,0 deg
- FocalLength35efl: 7,0 mm (35 mm equivalent: 35,0 mm)
- HyperfocalDistance: inf m
- ScaleFactor35efl: 5,1
- ShutterSpeed: 1/90
- ExifIFD
- ApertureValue: 2,0
- Contrast: Normal
- DateTimeOriginal: 2011:02:04 14:05:49
- DigitalZoomRatio: 1
- ExposureCompensation: -0,3
- ExposureMode: Unknown (4)
- ExposureProgram: Shutter speed priority AE
- ExposureTime: 1/90
- FNumber: 2,0
- Flash: No Flash
- FocalLength: 7,8 mm
- FocalLengthIn35mmFormat: 36 mm
- ISO: 1600
- LensInfo: 5.2-15.6mm f/1.8-2.4
- LensModel: Schneider KREUZNACH 3x ZOOM 5.2-15.6mm 1:1.8-2.4 DUAL IS
- LightSource: Unknown
- MeteringMode: Spot
- Saturation: Normal
- SceneCaptureType: Standard
- SensitivityType: Unknown
- SerialNumber: DY049P000000
- Sharpness: Normal
- ShutterSpeedValue: 1/90
- WhiteBalance: Auto
- ICC-header
- ICC-meas
- ICC-view
- IFD0
- Make: SAMSUNG
- Model: EX1
- ModifyDate: 2011:02:18 00:04:08
- IFD1
- System
- XMP-aux
- Firmware: EX1_008261
- Lens: Schneider KREUZNACH 3x ZOOM 5.2-15.6mm 1:1.8-2.4 DUAL IS
- XMP-crs
- AlreadyApplied: True
- BlueHue: 0
- BlueSaturation: 0
- Brightness: +21
- ChromaticAberrationB: 0
- ChromaticAberrationR: 0
- Clarity: 0
- ColorNoiseReduction: 10
- ColorNoiseReductionDetail: 50
- Contrast: +20
- ConvertToGrayscale: False
- CropAngle: 0.337506
- CropBottom: 0.997509
- CropConstrainToWarp: 0
- CropHeight: 2000
- CropLeft: 0.150358
- CropRight: 0.856489
- CropTop: 0.044844
- CropUnit: pixels
- CropWidth: 2000
- Defringe: 0
- Exposure: +0.76
- FillLight: 30
- GrainAmount: 0
- GreenHue: 0
- GreenSaturation: 0
- HasCrop: True
- HasSettings: True
- HighlightRecovery: 100
- HueAdjustmentAqua: 0
- HueAdjustmentBlue: 0
- HueAdjustmentGreen: 0
- HueAdjustmentMagenta: 0
- HueAdjustmentOrange: 0
- HueAdjustmentPurple: 0
- HueAdjustmentRed: 0
- HueAdjustmentYellow: 0
- LensManualDistortionAmount: 0
- LensProfileChromaticAberrationScale: 100
- LensProfileDistortionScale: 100
- LensProfileEnable: 1
- LensProfileFilename: Samsung EX1 - RAW.lcp
- LensProfileSetup: LensDefaults
- LensProfileVignettingScale: 100
- LuminanceAdjustmentAqua: 0
- LuminanceAdjustmentBlue: 0
- LuminanceAdjustmentGreen: 0
- LuminanceAdjustmentMagenta: 0
- LuminanceAdjustmentOrange: 0
- LuminanceAdjustmentPurple: 0
- LuminanceAdjustmentRed: 0
- LuminanceAdjustmentYellow: 0
- LuminanceNoiseReductionContrast: 0
- LuminanceNoiseReductionDetail: 50
- LuminanceSmoothing: 10
- PaintCorrectionActive: true
- PaintCorrectionAmount: 1.000000
- PaintCorrectionBrightness: 0.000000
- PaintCorrectionClarity: 0.000000
- PaintCorrectionContrast: 0.000000
- PaintCorrectionExposure: 0.129412
- PaintCorrectionHue: 240.000000
- PaintCorrectionMaskCenterWeight: 0.064651
- PaintCorrectionMaskFlow: 1.000000
- PaintCorrectionMaskRadius: 0.067868
- PaintCorrectionMaskValue: 0.597701
- PaintCorrectionMaskWhat: Mask/Paint
- PaintCorrectionSaturation: 0.000000
- PaintCorrectionSharpness: 0.000000
- PaintCorrectionWhat: Correction
- ParametricDarks: -24
- ParametricHighlightSplit: 75
- ParametricHighlights: +49
- ParametricLights: -3
- ParametricMidtoneSplit: 50
- ParametricShadowSplit: 25
- ParametricShadows: +33
- PerspectiveHorizontal: +2
- PerspectiveRotate: 0.0
- PerspectiveScale: 100
- PerspectiveVertical: +2
- PostCropVignetteAmount: -30
- PostCropVignetteFeather: 50
- PostCropVignetteHighlightContrast: 0
- PostCropVignetteMidpoint: 50
- PostCropVignetteRoundness: 0
- PostCropVignetteStyle: 1
- ProcessVersion: 5.7
- RedHue: 0
- RedSaturation: 0
- Saturation: -100
- SaturationAdjustmentAqua: 0
- SaturationAdjustmentBlue: 0
- SaturationAdjustmentGreen: 0
- SaturationAdjustmentMagenta: 0
- SaturationAdjustmentOrange: -10
- SaturationAdjustmentPurple: 0
- SaturationAdjustmentRed: -7
- SaturationAdjustmentYellow: 0
- ShadowTint: 0
- Shadows: 10
- SharpenDetail: 25
- SharpenEdgeMasking: 0
- SharpenRadius: +1.0
- Sharpness: 10
- SplitToningBalance: 0
- SplitToningHighlightHue: 0
- SplitToningHighlightSaturation: 0
- SplitToningShadowHue: 0
- SplitToningShadowSaturation: 0
- Temperature: 4000
- Tint: -105
- ToneCurve: 0, 0, 32, 22, 64, 56, 128, 128, 192, 196, 255, 255
- ToneCurveName: Medium Contrast
- Version: 6.3
- Vibrance: 0
- VignetteAmount: 0
- WhiteBalance: Custom
- XMP-exif
- DateTimeOriginal: 2011:02:04 14:05:49+02:00
- ExifImageHeight: 2000
- ExifImageWidth: 2000
- FlashFired: False
- FlashFunction: False
- FlashMode: Unknown
- FlashRedEyeMode: False
- FlashReturn: No return detection
- XMP-tiff
- ImageHeight: 2000
- ImageWidth: 2000
- XMP-xmp
- CreateDate: 2011:02:04 14:05:49+02:00
- ModifyDate: 2011:02:18 00:04:08+02:00
- Просмотров: 228
- Рейтинг: голосов еще нет
- Отзывов: 0