| » Участники » semnorton » Альбом #1 » Всем привет из Египта! |
Уважаемые друзья и участники проекта iXBT.photo! К сожалению, 1 марта 2026 года проект iXBT.photo прекратит свою работу и будет закрыт. Мы высоко ценим ваше участие и тот вклад, который вы внесли в развитие нашего сообщества. Пожалуйста, не забудьте сохранить ваши фотографии до этой даты.
С уважением, команда iXBT.com
| Всем привет из Египта! |
Всем привет из Египта!
- Раздел: Другое, разное
- Дата съёмки: 06.02.2011 12:15
- Дата загрузки фото: 20.02.2011 11:42
- Оригинальная фотография: 900 x 579 (310 Кб)
- Технические характеристики:
- Фотоаппарат: Nikon D300S
- Выдержка: 1/20
- Гиперфокальное расстояние: inf m
- Диафрагма: 3,2
- Светочувствительность: 100
- Фокусное расстояние: 85,0 mm (35 mm equivalent: 85,0 mm)
- Полный EXIF
- Adobe
- ColorTransform: YCbCr
- Composite
- Aperture: 3,2
- CircleOfConfusion: 0,020 mm
- DOF: inf (0,00 m - inf)
- FOV: 23,0 deg
- FocalLength35efl: 85,0 mm (35 mm equivalent: 85,0 mm)
- HyperfocalDistance: inf m
- ScaleFactor35efl: 1,5
- ShutterSpeed: 1/20
- ExifIFD
- ApertureValue: 3,2
- CFAPattern: [Red,Green][Green,Blue]
- ColorSpace: Uncalibrated
- Contrast: Normal
- CreateDate: 2011:02:06 12:15:57
- CustomRendered: Normal
- DateTimeOriginal: 2011:02:06 12:15:57
- DigitalZoomRatio: 1
- ExifImageHeight: 579
- ExifImageWidth: 900
- ExposureCompensation: 0
- ExposureMode: Manual
- ExposureProgram: Manual
- ExposureTime: 1/20
- FNumber: 3,2
- Flash: No Flash
- FocalLength: 85,0 mm
- FocalLengthIn35mmFormat: 127 mm
- GainControl: None
- ISO: 100
- LightSource: Fine Weather
- MaxApertureValue: 1,7
- MeteringMode: Center-weighted average
- Saturation: Normal
- SceneCaptureType: Standard
- SceneType: Directly photographed
- SensingMethod: One-chip color area
- Sharpness: Normal
- ShutterSpeedValue: 1/20
- SubjectDistance: 1,19 m
- SubjectDistanceRange: Unknown
- WhiteBalance: Manual
- ICC-header
- ICC-view
- IFD0
- Artist: Valery K
- Copyright: SEM NORTON
- Make: NIKON CORPORATION
- Model: NIKON D300S
- ModifyDate: 2011:02:06 13:43:02
- Orientation: Horizontal (normal)
- IFD1
- IPTC
- By-line: Valery K
- CopyrightNotice: SEM NORTON
- System
- XMP-aux
- ImageNumber: 16011
- Lens: 85.0 mm f/1.8
- LensID: 56
- LensInfo: 85mm f/1.8
- SerialNumber: 6029769
- XMP-crs
- AlreadyApplied: True
- BlueHue: -5
- BlueSaturation: +2
- Brightness: +50
- ChromaticAberrationB: 0
- ChromaticAberrationR: 0
- Clarity: +45
- ColorNoiseReduction: 45
- Contrast: +25
- ConvertToGrayscale: False
- CropAngle: 0
- CropBottom: 0.969027
- CropLeft: 0
- CropRight: 1
- CropTop: 0
- Defringe: 1
- Exposure: +0.15
- FillLight: 8
- GradientBasedCorrActive: true
- GradientBasedCorrAmount: 1.000000
- GradientBasedCorrBrightness: -0.100000
- GradientBasedCorrClarity: 0.346322
- GradientBasedCorrContrast: 0.149425
- GradientBasedCorrExposure: -0.112500
- GradientBasedCorrHue: 73.000000
- GradientBasedCorrMaskFullX: 0.456437
- GradientBasedCorrMaskFullY: 0.013485
- GradientBasedCorrMaskValue: 1.000000
- GradientBasedCorrMaskWhat: Mask/Gradient
- GradientBasedCorrMaskZeroX: 0.457498
- GradientBasedCorrMaskZeroY: 0.354700
- GradientBasedCorrSaturation: 0.000000
- GradientBasedCorrSharpness: 0.000000
- GradientBasedCorrWhat: Correction
- GreenHue: -45
- GreenSaturation: -48
- HasCrop: True
- HasSettings: True
- HighlightRecovery: 61
- HueAdjustmentAqua: 0
- HueAdjustmentBlue: 0
- HueAdjustmentGreen: 0
- HueAdjustmentMagenta: 0
- HueAdjustmentOrange: 0
- HueAdjustmentPurple: 0
- HueAdjustmentRed: 0
- HueAdjustmentYellow: 0
- LuminanceAdjustmentAqua: -17
- LuminanceAdjustmentBlue: -32
- LuminanceAdjustmentGreen: 0
- LuminanceAdjustmentMagenta: 0
- LuminanceAdjustmentOrange: 0
- LuminanceAdjustmentPurple: -9
- LuminanceAdjustmentRed: 0
- LuminanceAdjustmentYellow: 0
- LuminanceSmoothing: 16
- PaintCorrectionActive: true
- PaintCorrectionAmount: 1.000000
- PaintCorrectionBrightness: 0.089000
- PaintCorrectionClarity: 0.000000
- PaintCorrectionContrast: 0.000000
- PaintCorrectionExposure: 0.333000
- PaintCorrectionHue: 240.000000
- PaintCorrectionMaskCenterWeight: 0.000000
- PaintCorrectionMaskFlow: 0.656000
- PaintCorrectionMaskRadius: 0.026712
- PaintCorrectionMaskValue: 1.000000
- PaintCorrectionMaskWhat: Mask/Paint
- PaintCorrectionSaturation: 0.000000
- PaintCorrectionSharpness: 0.000000
- PaintCorrectionWhat: Correction
- ParametricDarks: -7
- ParametricHighlightSplit: 65
- ParametricHighlights: -4
- ParametricLights: +16
- ParametricMidtoneSplit: 34
- ParametricShadowSplit: 10
- ParametricShadows: -62
- PostCropVignetteAmount: 0
- RawFileName: _DSC4943.dng
- RedHue: +8
- RedSaturation: -23
- Saturation: 0
- SaturationAdjustmentAqua: +43
- SaturationAdjustmentBlue: +62
- SaturationAdjustmentGreen: +9
- SaturationAdjustmentMagenta: 0
- SaturationAdjustmentOrange: 0
- SaturationAdjustmentPurple: +17
- SaturationAdjustmentRed: 0
- SaturationAdjustmentYellow: 0
- ShadowTint: 0
- Shadows: 5
- SharpenDetail: 27
- SharpenEdgeMasking: 0
- SharpenRadius: +1.4
- Sharpness: 51
- SplitToningBalance: 0
- SplitToningHighlightHue: 0
- SplitToningHighlightSaturation: 0
- SplitToningShadowHue: 0
- SplitToningShadowSaturation: 0
- Temperature: 5650
- Tint: +10
- ToneCurve: 0, 0, 255, 255
- ToneCurveName: Linear
- Version: 4.6
- Vibrance: +7
- VignetteAmount: +27
- VignetteMidpoint: 51
- WhiteBalance: Custom
- XMP-dc
- Creator: Valery K
- Format: image/jpeg
- Rights: SEM NORTON
- XMP-exif
- ColorSpace: Unknown (-1)
- DateTimeDigitized: 2011:02:06 12:15:57.33+05:00
- DateTimeOriginal: 2011:02:06 12:15:57.33+05:00
- FlashFired: False
- FlashFunction: False
- FlashMode: Unknown
- FlashRedEyeMode: False
- FlashReturn: No return detection
- XMP-tiff
- BitsPerSample: 8, 8, 8
- ImageHeight: 2760
- ImageWidth: 4288
- PhotometricInterpretation: RGB
- PlanarConfiguration: Chunky
- SamplesPerPixel: 3
- XMP-xmp
- CreateDate: 2011:02:06 13:43:02+05:00
- ModifyDate: 2011:02:06 13:43:02+05:00
- Rating: 0
- XMP-xmpMM
Получить код для блога
| Вставка фотографии в текущем разрешении |
Вставка миниатюры |
HTML (для вставки в блог):
BBCode (для вставки в форум):
Ссылка на фото:
Ссылка на миниатюру:
- Послать ссылку другу
| Комментарии к фотографии |