| » Участники » pain8 » мой fz45 » выхода нет... |
Уважаемые друзья и участники проекта iXBT.photo! К сожалению, 1 марта 2026 года проект iXBT.photo прекратит свою работу и будет закрыт. Мы высоко ценим ваше участие и тот вклад, который вы внесли в развитие нашего сообщества. Пожалуйста, не забудьте сохранить ваши фотографии до этой даты.
С уважением, команда iXBT.com
| выхода нет... |
выхода нет...
- Раздел: Хобби
- Дата съёмки: 01.03.2011 16:16
- Дата загрузки фото: 01.03.2011 22:24
- Оригинальная фотография: 3000 x 1951 (2,9 Мб)
- Технические характеристики:
- Фотоаппарат: Panasonic DMC-FZ45
- Выдержка: 1/320
- Гиперфокальное расстояние: inf m
- Диафрагма: 4,0
- Светочувствительность: 80
- Фокусное расстояние: 54,0 mm (35 mm equivalent: 270,0 mm)
- Полный EXIF
- Adobe
- ColorTransform: Unknown (RGB or CMYK)
- Composite
- Aperture: 4,0
- CircleOfConfusion: 0,005 mm
- FOV: 7,0 deg
- FocalLength35efl: 54,0 mm (35 mm equivalent: 270,0 mm)
- HyperfocalDistance: inf m
- ScaleFactor35efl: 5,9
- ShutterSpeed: 1/320
- ExifIFD
- ApertureValue: 4,0
- ColorSpace: Uncalibrated
- CreateDate: 2011:03:01 16:16:09
- DateTimeOriginal: 2011:03:01 16:16:09
- ExifImageHeight: 1951
- ExifImageWidth: 3000
- ExposureCompensation: 0
- ExposureProgram: Manual
- ExposureTime: 1/320
- FNumber: 4,0
- Flash: Off, Did not fire
- FocalLength: 54,7 mm
- FocalLengthIn35mmFormat: 316 mm
- ISO: 80
- MaxApertureValue: 2,8
- MeteringMode: Multi-segment
- SensitivityType: Unknown
- ShutterSpeedValue: 1/320
- ICC-header
- IFD0
- BitsPerSample: 8
- ImageHeight: 2880
- ImageWidth: 4320
- Make: Panasonic
- Model: DMC-FZ45
- ModifyDate: 2011:03:01 18:52:14
- Orientation: Horizontal (normal)
- PhotometricInterpretation: BlackIsZero
- PlanarConfiguration: Chunky
- SamplesPerPixel: 1
- IFD1
- IPTC
- DateCreated: 2011:03:01
- System
- XMP-crs
- AlreadyApplied: True
- BlueHue: 0
- BlueSaturation: 0
- Brightness: +61
- ChromaticAberrationB: 0
- ChromaticAberrationR: 0
- Clarity: +45
- ColorNoiseReduction: 100
- ColorNoiseReductionDetail: 0
- Contrast: +47
- ConvertToGrayscale: True
- Defringe: 0
- Exposure: -0.45
- FillLight: 0
- GrainAmount: 0
- GrayMixerAqua: -19
- GrayMixerBlue: +9
- GrayMixerGreen: -26
- GrayMixerMagenta: +5
- GrayMixerOrange: -18
- GrayMixerPurple: +16
- GrayMixerRed: -8
- GrayMixerYellow: -22
- GreenHue: 0
- GreenSaturation: 0
- HasCrop: False
- HasSettings: True
- HighlightRecovery: 3
- LensManualDistortionAmount: 0
- LensProfileEnable: 0
- LensProfileSetup: LensDefaults
- LuminanceNoiseReductionContrast: 0
- LuminanceNoiseReductionDetail: 50
- LuminanceSmoothing: 52
- ParametricDarks: 0
- ParametricHighlightSplit: 75
- ParametricHighlights: 0
- ParametricLights: 0
- ParametricMidtoneSplit: 50
- ParametricShadowSplit: 25
- ParametricShadows: 0
- PerspectiveHorizontal: 0
- PerspectiveRotate: 0.0
- PerspectiveScale: 100
- PerspectiveVertical: 0
- PostCropVignetteAmount: 0
- ProcessVersion: 5.7
- RawFileName: P1030450.RW2
- RedHue: 0
- RedSaturation: 0
- ShadowTint: 0
- Shadows: 3
- SharpenDetail: 25
- SharpenEdgeMasking: 0
- SharpenRadius: +1.0
- Sharpness: 0
- SplitToningBalance: 0
- SplitToningHighlightHue: 0
- SplitToningHighlightSaturation: 0
- SplitToningShadowHue: 0
- SplitToningShadowSaturation: 0
- Temperature: 4650
- Tint: +4
- ToneCurve: 0, 0, 32, 22, 64, 56, 128, 128, 192, 196, 255, 255
- ToneCurveName: Medium Contrast
- Version: 6.2
- VignetteAmount: 0
- WhiteBalance: As Shot
- XMP-dc
- XMP-xmp
- CreateDate: 2011:03:01 16:16:09+03:00
- ModifyDate: 2011:03:01 18:52:14+03:00
- Rating: 0
- XMP-xmpMM
- Просмотров: 554
- Рейтинг: голосов еще нет
- Отзывов: 0
Получить код для блога
| Вставка фотографии в текущем разрешении |
Вставка миниатюры |
HTML (для вставки в блог):
BBCode (для вставки в форум):
Ссылка на фото:
Ссылка на миниатюру:
- Послать ссылку другу
| Комментарии к фотографии |