- Раздел: Другое, разное
- Дата съёмки: 05.03.2011 21:41
- Дата загрузки фото: 07.03.2011 20:49
- Оригинальная фотография: 1600 x 1067 (2,1 Мб)
- Технические характеристики:
- Фотоаппарат: Canon EOS 7D
- Выдержка: 1/250
- Гиперфокальное расстояние: inf m
- Диафрагма: 7,1
- Светочувствительность: 100
- Фокусное расстояние: 24,0 mm (35 mm equivalent: 120,0 mm)
- Полный EXIF
- Adobe
- ColorTransform: YCbCr
- Composite
- Aperture: 7,1
- CircleOfConfusion: 0,006 mm
- FOV: 17,0 deg
- FocalLength35efl: 24,0 mm (35 mm equivalent: 120,0 mm)
- HyperfocalDistance: inf m
- ScaleFactor35efl: 5,1
- ShutterSpeed: 1/250
- ExifIFD
- ApertureValue: 7,1
- ColorSpace: Uncalibrated
- CreateDate: 2011:03:05 21:41:01
- CustomRendered: Normal
- DateTimeOriginal: 2011:03:05 21:41:01
- ExifImageHeight: 1067
- ExifImageWidth: 1600
- ExposureCompensation: 0
- ExposureMode: Auto
- ExposureProgram: Aperture-priority AE
- ExposureTime: 1/250
- FNumber: 7,1
- Flash: On, Fired
- FocalLength: 24,0 mm
- ISO: 100
- LensInfo: 24-105mm f/?
- LensModel: EF24-105mm f/4L IS USM
- MaxApertureValue: 4,0
- MeteringMode: Multi-segment
- SceneCaptureType: Standard
- SensitivityType: Unknown
- SerialNumber: 1580807926
- ShutterSpeedValue: 1/250
- SubjectDistance: 0,71 m
- WhiteBalance: Manual
- ICC-header
- IFD0
- Artist: Pavel "Myth" YB
- Make: Canon
- Model: Canon EOS 7D
- ModifyDate: 2011:03:07 19:50:14
- Orientation: Horizontal (normal)
- IFD1
- IPTC
- By-line: Pavel "Myth" YB
- DateCreated: 2011:03:05
- System
- XMP-aux
- ApproximateFocusDistance: 0,71
- Firmware: 1.2.2
- FlashCompensation: 0
- ImageNumber: 0
- Lens: EF24-105mm f/4L IS USM
- LensID: 237
- XMP-crs
- AlreadyApplied: True
- BlueHue: 0
- BlueSaturation: 0
- Brightness: +74
- ChromaticAberrationB: 0
- ChromaticAberrationR: 0
- Clarity: 0
- ColorNoiseReduction: 25
- ColorNoiseReductionDetail: 50
- Contrast: +32
- ConvertToGrayscale: False
- Defringe: 0
- Exposure: 0.00
- FillLight: 10
- GrainAmount: 0
- GreenHue: 0
- GreenSaturation: 0
- HasCrop: False
- HasSettings: True
- HighlightRecovery: 15
- HueAdjustmentAqua: 0
- HueAdjustmentBlue: 0
- HueAdjustmentGreen: 0
- HueAdjustmentMagenta: 0
- HueAdjustmentOrange: 0
- HueAdjustmentPurple: 0
- HueAdjustmentRed: 0
- HueAdjustmentYellow: 0
- LensManualDistortionAmount: 0
- LensProfileChromaticAberrationScale: 100
- LensProfileDistortionScale: 100
- LensProfileEnable: 1
- LensProfileFilename: Canon EOS-1Ds Mark III (Canon EF 24-105mm f4 L IS USM) - RAW.lcp
- LensProfileSetup: LensDefaults
- LensProfileVignettingScale: 100
- LuminanceAdjustmentAqua: 0
- LuminanceAdjustmentBlue: 0
- LuminanceAdjustmentGreen: 0
- LuminanceAdjustmentMagenta: 0
- LuminanceAdjustmentOrange: 0
- LuminanceAdjustmentPurple: 0
- LuminanceAdjustmentRed: 0
- LuminanceAdjustmentYellow: 0
- LuminanceNoiseReductionContrast: 0
- LuminanceNoiseReductionDetail: 50
- LuminanceSmoothing: 10
- ParametricDarks: 0
- ParametricHighlightSplit: 75
- ParametricHighlights: 0
- ParametricLights: 0
- ParametricMidtoneSplit: 50
- ParametricShadowSplit: 25
- ParametricShadows: 0
- PerspectiveHorizontal: 0
- PerspectiveRotate: 0.0
- PerspectiveScale: 100
- PerspectiveVertical: 0
- PostCropVignetteAmount: 0
- ProcessVersion: 5.7
- RawFileName: IMG_1228.CR2
- RedHue: 0
- RedSaturation: 0
- Saturation: 0
- SaturationAdjustmentAqua: 0
- SaturationAdjustmentBlue: 0
- SaturationAdjustmentGreen: 0
- SaturationAdjustmentMagenta: 0
- SaturationAdjustmentOrange: 0
- SaturationAdjustmentPurple: 0
- SaturationAdjustmentRed: 0
- SaturationAdjustmentYellow: 0
- ShadowTint: 0
- Shadows: 1
- SharpenDetail: 25
- SharpenEdgeMasking: 0
- SharpenRadius: +1.0
- Sharpness: 25
- SplitToningBalance: 0
- SplitToningHighlightHue: 0
- SplitToningHighlightSaturation: 0
- SplitToningShadowHue: 0
- SplitToningShadowSaturation: 0
- Temperature: 5001
- Tint: +10
- ToneCurve: 0, 0, 32, 22, 64, 56, 128, 128, 192, 196, 255, 255
- ToneCurveName: Medium Contrast
- Version: 6.3
- Vibrance: 0
- VignetteAmount: 0
- WhiteBalance: Custom
- XMP-dc
- Creator: Pavel "Myth" YB
- Format: image/jpeg
- XMP-xmp
- CreateDate: 2011:03:05 21:41:01.00+03:00
- ModifyDate: 2011:03:07 19:50:14+03:00
- Rating: 0
- XMP-xmpMM
- Просмотров: 332
- Рейтинг: голосов еще нет
- Отзывов: 0