- Раздел: Другое, разное
- Дата съёмки: 07.03.2011 15:43
- Дата загрузки фото: 11.03.2011 12:59
- Оригинальная фотография: 4951 x 3302 (3,2 Мб)
- Технические характеристики:
- Фотоаппарат: Canon EOS 60D
- Выдержка: 1/160
- Гиперфокальное расстояние: inf m
- Диафрагма: 8,0
- Светочувствительность: 100
- Фокусное расстояние: 10,0 mm (35 mm equivalent: 10,0 mm)
- Экспокоррекция: -1/3
- Полный EXIF
- Adobe
- ColorTransform: YCbCr
- Composite
- Aperture: 8,0
- CircleOfConfusion: 0,018 mm
- DOF: inf (0,00 m - inf)
- FOV: 121,0 deg
- FocalLength35efl: 10,0 mm (35 mm equivalent: 10,0 mm)
- HyperfocalDistance: inf m
- ScaleFactor35efl: 1,6
- ShutterSpeed: 1/160
- ExifIFD
- ApertureValue: 8,0
- ColorSpace: sRGB
- CreateDate: 2011:03:07 15:43:30
- CustomRendered: Normal
- DateTimeOriginal: 2011:03:07 15:43:30
- ExifImageHeight: 3302
- ExifImageWidth: 4951
- ExposureCompensation: -1/3
- ExposureMode: Auto
- ExposureProgram: Aperture-priority AE
- ExposureTime: 1/160
- FNumber: 8,0
- Flash: Off, Did not fire
- FocalLength: 10,0 mm
- ISO: 100
- LensInfo: 10-20mm f/?
- LensModel: 10-20mm
- LensSerialNumber: 0000000000
- MaxApertureValue: 4,0
- MeteringMode: Center-weighted average
- RecommendedExposureIndex: 100
- SceneCaptureType: Standard
- SensitivityType: Recommended Exposure Index
- SerialNumber: 0380236238
- ShutterSpeedValue: 1/160
- SubjectDistance: 2,09 m
- WhiteBalance: Auto
- ICC-header
- ICC-meas
- ICC-view
- IFD0
- Artist: PolTergejst
- Copyright: 2011 (c) poltergejst.info
- Make: Canon
- Model: Canon EOS 60D
- ModifyDate: 2011:03:11 14:57:55
- Orientation: Horizontal (normal)
- IFD1
- IPTC
- By-line: PolTergejst
- CopyrightNotice: 2011 (c) poltergejst.info
- DateCreated: 2011:03:07
- System
- XMP-aux
- ApproximateFocusDistance: 2,09
- Firmware: 1.0.5
- FlashCompensation: 0
- ImageNumber: 0
- Lens: 10-20mm
- LensID: 152
- XMP-crs
- AlreadyApplied: True
- BlueHue: 0
- BlueSaturation: 0
- Brightness: +31
- CameraProfile: Matrix
- ChromaticAberrationB: 0
- ChromaticAberrationR: 0
- Clarity: 0
- ColorNoiseReduction: 25
- ColorNoiseReductionDetail: 50
- Contrast: +17
- ConvertToGrayscale: False
- CropAngle: 1.810856
- CropBottom: 1
- CropConstrainToWarp: 1
- CropLeft: 0.0327
- CropRight: 0.9673
- CropTop: 0
- Defringe: 0
- Exposure: 0.00
- FillLight: 49
- GrainAmount: 0
- GreenHue: 0
- GreenSaturation: 0
- HasCrop: True
- HasSettings: True
- HighlightRecovery: 79
- HueAdjustmentAqua: 0
- HueAdjustmentBlue: 0
- HueAdjustmentGreen: 0
- HueAdjustmentMagenta: 0
- HueAdjustmentOrange: 0
- HueAdjustmentPurple: 0
- HueAdjustmentRed: 0
- HueAdjustmentYellow: 0
- LensManualDistortionAmount: 0
- LensProfileEnable: 0
- LensProfileSetup: LensDefaults
- LuminanceAdjustmentAqua: 0
- LuminanceAdjustmentBlue: 0
- LuminanceAdjustmentGreen: 0
- LuminanceAdjustmentMagenta: 0
- LuminanceAdjustmentOrange: 0
- LuminanceAdjustmentPurple: 0
- LuminanceAdjustmentRed: 0
- LuminanceAdjustmentYellow: 0
- LuminanceSmoothing: 0
- ParametricDarks: 0
- ParametricHighlightSplit: 75
- ParametricHighlights: 0
- ParametricLights: 0
- ParametricMidtoneSplit: 50
- ParametricShadowSplit: 25
- ParametricShadows: 0
- PerspectiveHorizontal: 0
- PerspectiveRotate: 0.0
- PerspectiveScale: 100
- PerspectiveVertical: 0
- PostCropVignetteAmount: 0
- ProcessVersion: 5.7
- RawFileName: IMG_0998.CR2
- RedHue: 0
- RedSaturation: 0
- Saturation: 0
- SaturationAdjustmentAqua: 0
- SaturationAdjustmentBlue: 0
- SaturationAdjustmentGreen: 0
- SaturationAdjustmentMagenta: 0
- SaturationAdjustmentOrange: 0
- SaturationAdjustmentPurple: 0
- SaturationAdjustmentRed: 0
- SaturationAdjustmentYellow: 0
- ShadowTint: 0
- Shadows: 17
- SharpenDetail: 0
- SharpenEdgeMasking: 0
- SharpenRadius: +0.5
- Sharpness: 0
- SplitToningBalance: 0
- SplitToningHighlightHue: 0
- SplitToningHighlightSaturation: 0
- SplitToningShadowHue: 0
- SplitToningShadowSaturation: 0
- Temperature: 5650
- Tint: +1
- ToneCurve: 0, 0, 32, 22, 64, 56, 128, 128, 192, 196, 255, 255
- ToneCurveName: Medium Contrast
- Version: 6.3
- Vibrance: 0
- VignetteAmount: 0
- WhiteBalance: As Shot
- XMP-dc
- Creator: PolTergejst
- Format: image/jpeg
- Rights: 2011 (c) poltergejst.info
- XMP-xmp
- CreateDate: 2011:03:07 15:43:30.03+05:00
- ModifyDate: 2011:03:11 14:57:55+05:00
- Rating: 0
- XMP-xmpMM
- Просмотров: 472
- Рейтинг: голосов еще нет
- Отзывов: 0