- Раздел: Натюрморт
- Дата съёмки: 04.12.2010 01:58
- Дата загрузки фото: 15.03.2011 00:10
- Оригинальная фотография: 815 x 1200 (343 Кб)
- Технические характеристики:
- Фотоаппарат: Canon
- Выдержка: 20,0
- Гиперфокальное расстояние: inf m
- Диафрагма: 5,6
- Светочувствительность: 100
- Фокусное расстояние: 73,0 mm (35 mm equivalent: 365,0 mm)
- Полный EXIF
- Adobe
- ColorTransform: YCbCr
- Composite
- Aperture: 5,6
- CircleOfConfusion: 0,006 mm
- FOV: 5,0 deg
- FocalLength35efl: 73,0 mm (35 mm equivalent: 365,0 mm)
- HyperfocalDistance: inf m
- LightValue: 0,3
- ScaleFactor35efl: 5,2
- ShutterSpeed: 20,0
- ExifIFD
- ApertureValue: 5,6
- ColorSpace: sRGB
- CreateDate: 2010:12:04 01:58:52
- CustomRendered: Normal
- DateTimeOriginal: 2010:12:04 01:58:52
- ExifImageHeight: 1200
- ExifImageWidth: 815
- ExposureCompensation: 0
- ExposureMode: Manual
- ExposureProgram: Manual
- ExposureTime: 20,0
- FNumber: 5,6
- Flash: Off, Did not fire
- FocalLength: 73,0 mm
- ISO: 100
- MaxApertureValue: 4,0
- MeteringMode: Spot
- SceneCaptureType: Standard
- ShutterSpeedValue: 20,0
- SubjectDistance: 0,8 m
- WhiteBalance: Auto
- ICC-header
- ICC-meas
- ICC-view
- IFD0
- Make: Canon
- Model:
- ModifyDate: 2010:12:04 03:32:11
- Orientation: Horizontal (normal)
- IFD1
- IPTC
- DateCreated: 2010:12:04
- ObjectName:
- System
- XMP-aux
- ApproximateFocusDistance: 0,8
- Firmware: 1.1.1
- FlashCompensation: 0
- ImageNumber: 0
- Lens: EF24-105mm f/4L IS USM
- LensID: 237
- LensInfo: 24-105mm f/?
- SerialNumber: 2231214667
- XMP-crs
- AlreadyApplied: True
- BlueHue: 0
- BlueSaturation: 0
- Brightness: +56
- CameraProfile: ACR 4.4
- ChromaticAberrationB: 0
- ChromaticAberrationR: 0
- Clarity: +96
- ColorNoiseReduction: 81
- Contrast: +67
- ConvertToGrayscale: False
- Defringe: 0
- Exposure: -2.17
- FillLight: 8
- GrainAmount: 1
- GrainFrequency: 84
- GrainSize: 25
- GreenHue: 0
- GreenSaturation: 0
- HasCrop: False
- HasSettings: True
- HighlightRecovery: 57
- HueAdjustmentAqua: 0
- HueAdjustmentBlue: 0
- HueAdjustmentGreen: 0
- HueAdjustmentMagenta: 0
- HueAdjustmentOrange: 0
- HueAdjustmentPurple: 0
- HueAdjustmentRed: 0
- HueAdjustmentYellow: 0
- LensManualDistortionAmount: 0
- LensProfileEnable: 0
- LensProfileSetup: LensDefaults
- LuminanceAdjustmentAqua: +20
- LuminanceAdjustmentBlue: -22
- LuminanceAdjustmentGreen: +25
- LuminanceAdjustmentMagenta: -39
- LuminanceAdjustmentOrange: -6
- LuminanceAdjustmentPurple: -20
- LuminanceAdjustmentRed: 0
- LuminanceAdjustmentYellow: -27
- LuminanceSmoothing: 100
- ParametricDarks: +60
- ParametricHighlightSplit: 75
- ParametricHighlights: -27
- ParametricLights: +6
- ParametricMidtoneSplit: 50
- ParametricShadowSplit: 25
- ParametricShadows: -32
- PerspectiveHorizontal: 0
- PerspectiveRotate: 0.0
- PerspectiveScale: 100
- PerspectiveVertical: 0
- PostCropVignetteAmount: 0
- ProcessVersion: 5.0
- RedHue: 0
- RedSaturation: 0
- Saturation: -94
- SaturationAdjustmentAqua: 0
- SaturationAdjustmentBlue: 0
- SaturationAdjustmentGreen: 0
- SaturationAdjustmentMagenta: 0
- SaturationAdjustmentOrange: 0
- SaturationAdjustmentPurple: 0
- SaturationAdjustmentRed: 0
- SaturationAdjustmentYellow: 0
- ShadowTint: 0
- Shadows: 0
- SharpenDetail: 74
- SharpenEdgeMasking: 0
- SharpenRadius: +0.5
- Sharpness: 139
- SplitToningBalance: -34
- SplitToningHighlightHue: 89
- SplitToningHighlightSaturation: 15
- SplitToningShadowHue: 0
- SplitToningShadowSaturation: 0
- Temperature: 9433
- Tint: -9
- ToneCurve: 0, 0, 255, 255
- ToneCurveName: Linear
- Version: 6.2
- Vibrance: +29
- VignetteAmount: 0
- WhiteBalance: Custom
- XMP-dc
- XMP-exif
- DateTimeDigitized: 2010:12:04 01:58:52.18+3:00
- DateTimeOriginal: 2010:12:04 01:58:52.18+3:00
- FlashFired: False
- FlashFunction: False
- FlashMode: Off
- FlashRedEyeMode: False
- FlashReturn: No return detection
- XMP-tiff
- XMP-x
- XMP-xmp
- CreateDate: 2010:12:04 01:58:52.18+03:00
- ModifyDate: 2010:12:04 03:32:11.0+3:00
- XMP-xmpMM