- Раздел: Путешествия
- Дата съёмки: 22.02.2011 17:10
- Дата загрузки фото: 18.03.2011 05:26
- Оригинальная фотография: 800 x 533 (116 Кб)
- Технические характеристики:
- Фотоаппарат: Canon EOS REBEL T2i
- Выдержка: 1/60
- Гиперфокальное расстояние: inf m
- Диафрагма: 8,0
- Светочувствительность: 800
- Фокусное расстояние: 300,0 mm (35 mm equivalent: 3000,0 mm)
- Полный EXIF
- Adobe
- ColorTransform: YCbCr
- Composite
- Aperture: 8,0
- CircleOfConfusion: 0,003 mm
- DOF: inf (0,00 m - inf)
- FOV: 0,0 deg
- FocalLength35efl: 300,0 mm (35 mm equivalent: 3000,0 mm)
- HyperfocalDistance: inf m
- ScaleFactor35efl: 10,2
- ShutterSpeed: 1/60
- ExifIFD
- ApertureValue: 8,0
- ColorSpace: Uncalibrated
- CreateDate: 2011:02:22 17:10:43
- CustomRendered: Normal
- DateTimeOriginal: 2011:02:22 17:10:43
- ExifImageHeight: 533
- ExifImageWidth: 800
- ExposureCompensation: 0
- ExposureMode: Auto
- ExposureProgram: Aperture-priority AE
- ExposureTime: 1/60
- FNumber: 8,0
- Flash: Off, Did not fire
- FocalLength: 300,0 mm
- ISO: 800
- LensInfo: 70-300mm f/?
- LensModel: EF70-300mm f/4-5.6 IS USM
- MaxApertureValue: 5,7
- MeteringMode: Multi-segment
- SceneCaptureType: Standard
- SensitivityType: Unknown
- SerialNumber: 1222502897
- ShutterSpeedValue: 1/60
- SubjectDistance: 12,9 m
- WhiteBalance: Auto
- ICC-header
- IFD0
- BitsPerSample: 8 8 8
- ImageHeight: 3456
- ImageWidth: 5184
- Make: Canon
- Model: Canon EOS REBEL T2i
- ModifyDate: 2011:03:18 04:58:14
- Orientation: Horizontal (normal)
- PhotometricInterpretation: RGB
- SamplesPerPixel: 3
- IFD1
- IPTC
- DateCreated: 2011:02:22
- System
- XMP-aux
- ApproximateFocusDistance: 12,9
- Firmware: 1.0.9
- FlashCompensation: 0
- ImageNumber: 0
- Lens: EF70-300mm f/4-5.6 IS USM
- LensID: 238
- XMP-crs
- AlreadyApplied: True
- BlueHue: 0
- BlueSaturation: 0
- Brightness: +119
- ChromaticAberrationB: 0
- ChromaticAberrationR: 0
- Clarity: +80
- ColorNoiseReduction: 25
- ColorNoiseReductionDetail: 50
- Contrast: +25
- ConvertToGrayscale: False
- Defringe: 0
- Exposure: -3.05
- FillLight: 28
- GrainAmount: 0
- GreenHue: 0
- GreenSaturation: 0
- HasCrop: False
- HasSettings: True
- HighlightRecovery: 0
- HueAdjustmentAqua: 0
- HueAdjustmentBlue: 0
- HueAdjustmentGreen: 0
- HueAdjustmentMagenta: 0
- HueAdjustmentOrange: 0
- HueAdjustmentPurple: 0
- HueAdjustmentRed: 0
- HueAdjustmentYellow: 0
- LensManualDistortionAmount: 0
- LensProfileEnable: 0
- LensProfileSetup: LensDefaults
- LuminanceAdjustmentAqua: 0
- LuminanceAdjustmentBlue: 0
- LuminanceAdjustmentGreen: 0
- LuminanceAdjustmentMagenta: 0
- LuminanceAdjustmentOrange: 0
- LuminanceAdjustmentPurple: 0
- LuminanceAdjustmentRed: 0
- LuminanceAdjustmentYellow: 0
- LuminanceSmoothing: 0
- ParametricDarks: 0
- ParametricHighlightSplit: 75
- ParametricHighlights: 0
- ParametricLights: 0
- ParametricMidtoneSplit: 50
- ParametricShadowSplit: 25
- ParametricShadows: 0
- PerspectiveHorizontal: 0
- PerspectiveRotate: 0.0
- PerspectiveScale: 100
- PerspectiveVertical: 0
- PostCropVignetteAmount: 0
- ProcessVersion: 5.7
- RawFileName: 02.22.11.17.10.43.CR2
- RedHue: 0
- RedSaturation: 0
- Saturation: 0
- SaturationAdjustmentAqua: 0
- SaturationAdjustmentBlue: 0
- SaturationAdjustmentGreen: 0
- SaturationAdjustmentMagenta: 0
- SaturationAdjustmentOrange: 0
- SaturationAdjustmentPurple: 0
- SaturationAdjustmentRed: 0
- SaturationAdjustmentYellow: 0
- ShadowTint: 0
- Shadows: 16
- SharpenDetail: 25
- SharpenEdgeMasking: 0
- SharpenRadius: +1.0
- Sharpness: 25
- SplitToningBalance: 0
- SplitToningHighlightHue: 0
- SplitToningHighlightSaturation: 0
- SplitToningShadowHue: 0
- SplitToningShadowSaturation: 0
- Temperature: 5450
- Tint: +2
- ToneCurve: 0, 0, 32, 22, 64, 56, 128, 128, 192, 196, 255, 255
- ToneCurveName: Medium Contrast
- Version: 6.3
- Vibrance: 0
- VignetteAmount: 0
- WhiteBalance: As Shot
- XMP-dc
- XMP-xmp
- CreateDate: 2011:02:22 17:10:43.95+03:00
- ModifyDate: 2011:03:18 04:58:14+03:00
- Rating: 0
- XMP-xmpMM
- Просмотров: 302
- Рейтинг: голосов еще нет
- Отзывов: 0