- Раздел: Тесты фототехники
- Дата съёмки: 18.03.2011 18:28
- Дата загрузки фото: 20.03.2011 05:58
- Оригинальная фотография: 4272 x 2856 (6,7 Мб)
- Технические характеристики:
- Фотоаппарат: LEICA CAMERA AG LEICA X1
- Выдержка: 1/125
- Диафрагма: 4,5
- Светочувствительность: 100
- Полный EXIF
- Adobe
- ColorTransform: YCbCr
- Composite
- Aperture: 4,5
- ShutterSpeed: 1/125
- ExifIFD
- ApertureValue: 4,5
- ColorSpace: sRGB
- Contrast: Normal
- CreateDate: 2011:03:18 18:28:48
- CustomRendered: Normal
- DateTimeOriginal: 2011:03:18 18:28:48
- DigitalZoomRatio: 1
- ExifImageHeight: 2856
- ExifImageWidth: 4272
- ExposureCompensation: 0
- ExposureProgram: Program AE
- ExposureTime: 1/125
- FNumber: 4,5
- Flash: Off, Did not fire
- FocalLengthIn35mmFormat: 35 mm
- ISO: 100
- LightSource: Unknown
- MaxApertureValue: 2,8
- MeteringMode: Center-weighted average
- Saturation: Normal
- SceneCaptureType: Landscape
- SensingMethod: One-chip color area
- Sharpness: Soft
- ShutterSpeedValue: 1/125
- WhiteBalance: Auto
- ICC-header
- ICC-meas
- ICC-view
- IFD0
- Make: LEICA CAMERA AG
- MakerNoteSafety: Safe
- Model: LEICA X1
- ModifyDate: 2011:03:19 22:47:39
- Orientation: Horizontal (normal)
- IFD1
- IPTC
- System
- XMP-aux
- Lens: 24.0 mm f/2.8
- LensInfo: 24mm f/2.8
- SerialNumber: 000003822769
- XMP-crs
- AlreadyApplied: True
- BlueHue: 0
- BlueSaturation: 0
- Brightness: 0
- CameraProfile: Embedded
- ChromaticAberrationB: 0
- ChromaticAberrationR: -13
- Clarity: 0
- ColorNoiseReduction: 25
- Contrast: +40
- ConvertToGrayscale: False
- Defringe: 0
- Exposure: -0.05
- FillLight: 7
- GreenHue: 0
- GreenSaturation: 0
- HasCrop: False
- HasSettings: True
- HighlightRecovery: 9
- HueAdjustmentAqua: 0
- HueAdjustmentBlue: 0
- HueAdjustmentGreen: 0
- HueAdjustmentMagenta: 0
- HueAdjustmentOrange: 0
- HueAdjustmentPurple: 0
- HueAdjustmentRed: 0
- HueAdjustmentYellow: 0
- LuminanceAdjustmentAqua: 0
- LuminanceAdjustmentBlue: 0
- LuminanceAdjustmentGreen: 0
- LuminanceAdjustmentMagenta: 0
- LuminanceAdjustmentOrange: 0
- LuminanceAdjustmentPurple: 0
- LuminanceAdjustmentRed: 0
- LuminanceAdjustmentYellow: 0
- LuminanceSmoothing: 0
- ParametricDarks: 0
- ParametricHighlightSplit: 75
- ParametricHighlights: 0
- ParametricLights: 0
- ParametricMidtoneSplit: 50
- ParametricShadowSplit: 25
- ParametricShadows: 0
- PostCropVignetteAmount: 0
- RawFileName: L1000719.DNG
- RedHue: 0
- RedSaturation: 0
- Saturation: 0
- SaturationAdjustmentAqua: 0
- SaturationAdjustmentBlue: 0
- SaturationAdjustmentGreen: 0
- SaturationAdjustmentMagenta: 0
- SaturationAdjustmentOrange: 0
- SaturationAdjustmentPurple: 0
- SaturationAdjustmentRed: 0
- SaturationAdjustmentYellow: 0
- ShadowTint: 0
- Shadows: 2
- SharpenDetail: 25
- SharpenEdgeMasking: 0
- SharpenRadius: +0.5
- Sharpness: 32
- SplitToningBalance: 0
- SplitToningHighlightHue: 0
- SplitToningHighlightSaturation: 0
- SplitToningShadowHue: 0
- SplitToningShadowSaturation: 0
- Temperature: 4050
- Tint: +17
- ToneCurve: 0, 0, 32, 22, 61, 47, 128, 124, 196, 194, 255, 255
- ToneCurveName: Custom
- Version: 5.0
- Vibrance: 0
- VignetteAmount: 0
- WhiteBalance: As Shot
- XMP-dc
- XMP-exif
- DateTimeDigitized: 2011:03:18 18:28:48+10:00
- DateTimeOriginal: 2011:03:18 18:28:48+10:00
- FlashFired: False
- FlashFunction: False
- FlashMode: Off
- FlashRedEyeMode: False
- FlashReturn: No return detection
- XMP-tiff
- XMP-xmp
- CreateDate: 2011:03:18 18:28:48+10:00
- CreatorTool: 1.0
- ModifyDate: 2011:03:19 22:47:39+10:00
- Rating: 0
- XMP-xmpMM
- Просмотров: 799
- Рейтинг: голосов еще нет
- Отзывов: 1