- Раздел: Путешествия
- Дата съёмки: 22.02.2011 14:06
- Дата загрузки фото: 20.03.2011 15:10
- Оригинальная фотография: 800 x 533 (233 Кб)
- Технические характеристики:
- Фотоаппарат: Canon EOS 5D
- Выдержка: 1/3200
- Гиперфокальное расстояние: inf m
- Диафрагма: 5,6
- Светочувствительность: 250
- Фокусное расстояние: 32,0 mm (35 mm equivalent: 160,0 mm)
- Экспокоррекция: -2/3
- Полный EXIF
- Adobe
- ColorTransform: YCbCr
- Composite
- Aperture: 5,6
- CircleOfConfusion: 0,005 mm
- FOV: 12,0 deg
- FocalLength35efl: 32,0 mm (35 mm equivalent: 160,0 mm)
- HyperfocalDistance: inf m
- ScaleFactor35efl: 5,5
- ShutterSpeed: 1/3200
- ExifIFD
- ApertureValue: 5,6
- ColorSpace: Uncalibrated
- CreateDate: 2011:02:22 14:06:19
- CustomRendered: Normal
- DateTimeOriginal: 2011:02:22 14:06:19
- ExifImageHeight: 533
- ExifImageWidth: 800
- ExposureCompensation: -2/3
- ExposureMode: Auto
- ExposureProgram: Aperture-priority AE
- ExposureTime: 1/3200
- FNumber: 5,6
- Flash: Off, Did not fire
- FocalLength: 32,0 mm
- ISO: 250
- LensInfo: 24-105mm f/?
- LensModel: EF24-105mm f/4L IS USM
- MaxApertureValue: 4,0
- MeteringMode: Multi-segment
- SceneCaptureType: Standard
- SensitivityType: Unknown
- SerialNumber: 1020707638
- ShutterSpeedValue: 1/3200
- WhiteBalance: Auto
- ICC-header
- IFD0
- BitsPerSample: 8 8 8
- ImageHeight: 2912
- ImageWidth: 4368
- Make: Canon
- Model: Canon EOS 5D
- ModifyDate: 2011:03:20 14:40:45
- Orientation: Horizontal (normal)
- PhotometricInterpretation: RGB
- SamplesPerPixel: 3
- IFD1
- IPTC
- DateCreated: 2011:02:22
- System
- XMP-aux
- Firmware: 1.1.0
- FlashCompensation: 0
- ImageNumber: 2
- Lens: EF24-105mm f/4L IS USM
- LensID: 237
- XMP-crs
- AlreadyApplied: True
- BlueHue: 0
- BlueSaturation: 0
- Brightness: +124
- ChromaticAberrationB: 0
- ChromaticAberrationR: 0
- Clarity: 0
- ColorNoiseReduction: 25
- ColorNoiseReductionDetail: 50
- Contrast: +50
- ConvertToGrayscale: False
- Defringe: 0
- Exposure: -2.05
- FillLight: 26
- GrainAmount: 0
- GreenHue: 0
- GreenSaturation: 0
- HasCrop: False
- HasSettings: True
- HighlightRecovery: 0
- HueAdjustmentAqua: 0
- HueAdjustmentBlue: 0
- HueAdjustmentGreen: 0
- HueAdjustmentMagenta: 0
- HueAdjustmentOrange: 0
- HueAdjustmentPurple: 0
- HueAdjustmentRed: 0
- HueAdjustmentYellow: 0
- LensManualDistortionAmount: 0
- LensProfileEnable: 0
- LensProfileSetup: LensDefaults
- LuminanceAdjustmentAqua: 0
- LuminanceAdjustmentBlue: 0
- LuminanceAdjustmentGreen: 0
- LuminanceAdjustmentMagenta: 0
- LuminanceAdjustmentOrange: 0
- LuminanceAdjustmentPurple: 0
- LuminanceAdjustmentRed: 0
- LuminanceAdjustmentYellow: 0
- LuminanceSmoothing: 0
- ParametricDarks: 0
- ParametricHighlightSplit: 75
- ParametricHighlights: 0
- ParametricLights: 0
- ParametricMidtoneSplit: 50
- ParametricShadowSplit: 25
- ParametricShadows: 0
- PerspectiveHorizontal: 0
- PerspectiveRotate: 0.0
- PerspectiveScale: 100
- PerspectiveVertical: 0
- PostCropVignetteAmount: +7
- PostCropVignetteFeather: 50
- PostCropVignetteMidpoint: 50
- PostCropVignetteRoundness: 0
- PostCropVignetteStyle: 1
- ProcessVersion: 5.7
- RawFileName: 02.22.11.14.06.19.CR2
- RedHue: 0
- RedSaturation: 0
- Saturation: 0
- SaturationAdjustmentAqua: 0
- SaturationAdjustmentBlue: 0
- SaturationAdjustmentGreen: 0
- SaturationAdjustmentMagenta: 0
- SaturationAdjustmentOrange: 0
- SaturationAdjustmentPurple: 0
- SaturationAdjustmentRed: 0
- SaturationAdjustmentYellow: 0
- ShadowTint: 0
- Shadows: 2
- SharpenDetail: 25
- SharpenEdgeMasking: 0
- SharpenRadius: +1.0
- Sharpness: 25
- SplitToningBalance: 0
- SplitToningHighlightHue: 0
- SplitToningHighlightSaturation: 0
- SplitToningShadowHue: 0
- SplitToningShadowSaturation: 0
- Temperature: 4750
- Tint: +11
- ToneCurve: 0, 0, 32, 22, 64, 56, 128, 128, 192, 196, 255, 255
- ToneCurveName: Medium Contrast
- Version: 6.3
- Vibrance: 0
- VignetteAmount: 0
- WhiteBalance: As Shot
- XMP-dc
- XMP-xmp
- CreateDate: 2011:02:22 14:06:19+03:00
- ModifyDate: 2011:03:20 14:40:45+03:00
- Rating: 0
- XMP-xmpMM
- Просмотров: 133
- Рейтинг: голосов еще нет
- Отзывов: 0