- Раздел: Другое, разное
- Дата съёмки: 15.03.2011 12:58
- Дата загрузки фото: 22.03.2011 18:49
- Оригинальная фотография: 3264 x 3264 (5,4 Мб)
- Технические характеристики:
- Фотоаппарат: Canon EOS-1D Mark IV
- Выдержка: 1/125
- Гиперфокальное расстояние: inf m
- Диафрагма: 8,0
- Светочувствительность: 400
- Фокусное расстояние: 63,0 mm (35 mm equivalent: 63,0 mm)
- Полный EXIF
- Adobe
- ColorTransform: YCbCr
- Composite
- Aperture: 8,0
- CircleOfConfusion: 0,021 mm
- DOF: inf (0,00 m - inf)
- FOV: 31,0 deg
- FocalLength35efl: 63,0 mm (35 mm equivalent: 63,0 mm)
- HyperfocalDistance: inf m
- ScaleFactor35efl: 1,4
- ShutterSpeed: 1/125
- ExifIFD
- ApertureValue: 8,0
- ColorSpace: sRGB
- CreateDate: 2011:03:15 12:58:19
- CustomRendered: Normal
- DateTimeOriginal: 2011:03:15 12:58:19
- ExifImageHeight: 3264
- ExifImageWidth: 3264
- ExposureCompensation: 0
- ExposureMode: Manual
- ExposureProgram: Manual
- ExposureTime: 1/125
- FNumber: 8,0
- Flash: On, Fired
- FocalLength: 63,0 mm
- ISO: 400
- LensInfo: 24-70mm f/?
- LensModel: EF24-70mm f/2.8L USM
- MaxApertureValue: 2,8
- MeteringMode: Multi-segment
- SceneCaptureType: Standard
- SensitivityType: Unknown
- SerialNumber: 930900609
- ShutterSpeedValue: 1/125
- SubjectDistance: 3,97 m
- WhiteBalance: Auto
- ICC-header
- ICC-meas
- ICC-view
- IFD0
- Artist: Dmitry aka Managger
- Copyright: (c) managger
- Make: Canon
- Model: Canon EOS-1D Mark IV
- ModifyDate: 2011:03:22 16:27:49
- Orientation: Horizontal (normal)
- IFD1
- IPTC
- By-line: Dmitry aka Managger
- CopyrightNotice: (c) managger
- DateCreated: 2011:03:15
- System
- XMP-aux
- ApproximateFocusDistance: 3,97
- Firmware: 1.0.8
- FlashCompensation: 0
- ImageNumber: 0
- Lens: EF24-70mm f/2.8L USM
- LensID: 230
- XMP-crs
- AlreadyApplied: True
- BlueHue: 0
- BlueSaturation: 0
- Brightness: +50
- ChromaticAberrationB: 0
- ChromaticAberrationR: 0
- Clarity: 0
- ColorNoiseReduction: 0
- Contrast: +25
- ConvertToGrayscale: False
- Defringe: 0
- Exposure: +1.00
- FillLight: 25
- GrainAmount: 0
- GreenHue: 0
- GreenSaturation: 0
- HasCrop: False
- HasSettings: True
- HighlightRecovery: 0
- HueAdjustmentAqua: 0
- HueAdjustmentBlue: 0
- HueAdjustmentGreen: 0
- HueAdjustmentMagenta: 0
- HueAdjustmentOrange: 0
- HueAdjustmentPurple: 0
- HueAdjustmentRed: 0
- HueAdjustmentYellow: 0
- LensManualDistortionAmount: 0
- LensProfileChromaticAberrationScale: 100
- LensProfileDistortionScale: 100
- LensProfileEnable: 1
- LensProfileFilename: Canon EOS-1Ds Mark III (Canon EF 24-70mm f2.8 L USM) - RAW.lcp
- LensProfileSetup: LensDefaults
- LensProfileVignettingScale: 100
- LuminanceAdjustmentAqua: 0
- LuminanceAdjustmentBlue: 0
- LuminanceAdjustmentGreen: 0
- LuminanceAdjustmentMagenta: 0
- LuminanceAdjustmentOrange: 0
- LuminanceAdjustmentPurple: 0
- LuminanceAdjustmentRed: 0
- LuminanceAdjustmentYellow: 0
- LuminanceSmoothing: 0
- ParametricDarks: 0
- ParametricHighlightSplit: 75
- ParametricHighlights: 0
- ParametricLights: 0
- ParametricMidtoneSplit: 50
- ParametricShadowSplit: 25
- ParametricShadows: 0
- PerspectiveHorizontal: 0
- PerspectiveRotate: 0.0
- PerspectiveScale: 100
- PerspectiveVertical: 0
- PostCropVignetteAmount: 0
- ProcessVersion: 5.7
- RawFileName: 1DIV9377.CR2
- RedHue: 0
- RedSaturation: 0
- Saturation: 0
- SaturationAdjustmentAqua: 0
- SaturationAdjustmentBlue: 0
- SaturationAdjustmentGreen: 0
- SaturationAdjustmentMagenta: 0
- SaturationAdjustmentOrange: 0
- SaturationAdjustmentPurple: 0
- SaturationAdjustmentRed: 0
- SaturationAdjustmentYellow: 0
- ShadowTint: 0
- Shadows: 0
- SharpenDetail: 0
- SharpenEdgeMasking: 0
- SharpenRadius: +0.5
- Sharpness: 0
- SplitToningBalance: 0
- SplitToningHighlightHue: 0
- SplitToningHighlightSaturation: 0
- SplitToningShadowHue: 0
- SplitToningShadowSaturation: 0
- Temperature: 6200
- Tint: +16
- ToneCurve: 0, 0, 32, 22, 64, 56, 128, 128, 192, 196, 255, 255
- ToneCurveName: Medium Contrast
- Version: 6.2
- Vibrance: 0
- VignetteAmount: 0
- WhiteBalance: As Shot
- XMP-dc
- Creator: Dmitry aka Managger
- Format: image/jpeg
- Rights: (c) managger
- XMP-xmp
- CreateDate: 2011:03:15 12:58:19.12+03:00
- ModifyDate: 2011:03:22 16:27:49+03:00
- Rating: 0
- XMP-xmpMM
- Просмотров: 272
- Рейтинг: голосов еще нет
- Отзывов: отключены