- Раздел: Город
- Дата съёмки: 17.03.2007 17:12
- Дата загрузки фото: 20.03.2007 19:36
- Оригинальная фотография: 920 x 669 (141 Кб)
- Технические характеристики:
- Фотоаппарат: Sony DSLR-A100
- Выдержка: 1/60
- Гиперфокальное расстояние: 4,05 m
- Диафрагма: 7,1
- Светочувствительность: 200
- Фокусное расстояние: 24,0mm (35mm эквивалент: 36,0mm)
- Экспокоррекция: 0,7
- Полный EXIF
- ColorTransform: YCbCr
- Composite
- Aperture: 7,1
- CircleOfConfusion: 0,020 mm
- EV: 10,6
- FocalLength35efl: 24,0mm (35mm equivalent: 36,0mm)
- HyperfocalDistance: 4,05 m
- ScaleFactor35efl: 1,5
- ShutterSpeed: 1/60
- ExifIFD
- ApertureValue: 7,1
- BrightnessValue: 6,37
- ColorSpace: sRGB
- Contrast: High
- CreateDate: 2007:03:17 17:12:12
- CustomRendered: Normal
- DateTimeOriginal: 2007:03:17 17:12:12
- DigitalZoomRatio: 0
- ExifImageLength: 669
- ExifImageWidth: 920
- ExposureCompensation: 0,7
- ExposureMode: Auto
- ExposureProgram: Aperture-priority AE
- ExposureTime: 1/60
- FNumber: 7,1
- Flash: Off
- FocalLength: 24,0mm
- FocalLengthIn35mmFormat: 36
- GainControl: None
- ISO: 200
- LightSource: Unknown (0)
- MaxApertureValue: 2,8
- MeteringMode: Center-weighted average
- Saturation: Normal
- SceneCaptureType: Standard
- SceneType: Directly photographed
- Sharpness: Hard
- ShutterSpeedValue: 1/60
- SubjectLocation: 1936 1296 329 393
- WhiteBalance: Auto
- ICC-header
- ICC-meas
- ICC-view
- IFD0
- ImageDescription: SONY DSC
- Make: SONY
- Model: DSLR-A100
- ModifyDate: 2007:03:19 01:19:45
- Orientation: Horizontal (normal)
- IFD1
- IPTC
- Caption-Abstract: SONY DSC
- XMP-crs
- AlreadyApplied: True
- BlueHue: 0
- BlueSaturation: 0
- Brightness: +38
- CameraProfile: ACR 2.4
- ChromaticAberrationB: 0
- ChromaticAberrationR: 0
- Contrast: +20
- ConvertToGrayscale: True
- CropAngle: 0
- CropBottom: 1
- CropHeight: 616
- CropLeft: 0
- CropRight: 0.808
- CropTop: 0.192
- CropUnit: 0
- CropWidth: 920
- Exposure: 0.00
- FillLight: 60
- GrayMixerAqua: -18
- GrayMixerBlue: +8
- GrayMixerGreen: -25
- GrayMixerMagenta: +3
- GrayMixerOrange: -17
- GrayMixerPurple: +14
- GrayMixerRed: -9
- GrayMixerYellow: -20
- GreenHue: 0
- GreenSaturation: 0
- HasCrop: True
- HasSettings: True
- HighlightRecovery: 10
- IncrementalTemperature: +18
- IncrementalTint: +15
- LuminanceSmoothing: 0
- ParametricDarks: 0
- ParametricHighlightSplit: 75
- ParametricHighlights: 0
- ParametricLights: 0
- ParametricMidtoneSplit: 50
- ParametricShadowSplit: 25
- ParametricShadows: 0
- RedHue: 0
- RedSaturation: 0
- ShadowTint: 0
- Shadows: 7
- Sharpness: 25
- SplitToningBalance: 0
- SplitToningHighlightHue: 0
- SplitToningHighlightSaturation: 0
- SplitToningShadowHue: 0
- SplitToningShadowSaturation: 0
- ToneCurve: 0, 0, 255, 255
- ToneCurveName: Linear
- Version: 1.0
- VignetteAmount: 0
- XMP-dc
- XMP-exif
- DateTimeDigitized: 2007:03:17 17:12:12+01:00
- DateTimeOriginal: 2007:03:17 17:12:12+01:00
- FlashFired: False
- FlashFunction: False
- FlashMode: Off
- FlashRedEyeMode: False
- FlashReturn: No return detection
- SubjectArea: 1936, 1296, 329, 393
- XMP-tiff
- ImageHeight: 616
- ImageWidth: 920
- XMP-xmp
- ModifyDate: 2007:03:19 01:07:49+01:00
- Просмотров: 467
- Рейтинг: голосов еще нет
- Отзывов: 0