- Раздел: Другое, разное
- Дата съёмки: 01.04.2011 20:57
- Дата загрузки фото: 10.04.2011 13:23
- Оригинальная фотография: 3456 x 5184 (945 Кб)
- Технические характеристики:
- Фотоаппарат: Canon EOS 7D
- Выдержка: 1/160
- Гиперфокальное расстояние: inf m
- Диафрагма: 2,8
- Светочувствительность: 250
- Фокусное расстояние: 100,0 mm (35 mm equivalent: 100,0 mm)
- Полный EXIF
- Adobe
- ColorTransform: Unknown (RGB or CMYK)
- Composite
- Aperture: 2,8
- CircleOfConfusion: 0,019 mm
- DOF: inf (0,00 m - inf)
- FOV: 20,0 deg
- FocalLength35efl: 100,0 mm (35 mm equivalent: 100,0 mm)
- HyperfocalDistance: inf m
- ScaleFactor35efl: 1,6
- ShutterSpeed: 1/160
- ExifIFD
- ApertureValue: 2,8
- ColorSpace: Uncalibrated
- CreateDate: 2011:04:01 20:57:29
- CustomRendered: Normal
- DateTimeOriginal: 2011:04:01 20:57:29
- ExifImageHeight: 5184
- ExifImageWidth: 3456
- ExposureCompensation: 0
- ExposureMode: Auto
- ExposureProgram: Aperture-priority AE
- ExposureTime: 1/160
- FNumber: 2,8
- Flash: Off, Did not fire
- FocalLength: 100,0 mm
- ISO: 250
- LensInfo: 100mm f/?
- LensModel: EF100mm f/2.8L Macro IS USM
- MaxApertureValue: 2,8
- MeteringMode: Multi-segment
- SceneCaptureType: Standard
- SensitivityType: Unknown
- SerialNumber: 1280808808
- ShutterSpeedValue: 1/160
- SubjectDistance: 13,2 m
- WhiteBalance: Auto
- ICC-header
- IFD0
- Artist: VeegaDi
- Copyright: DmitryAgeev MOW
- Make: Canon
- Model: Canon EOS 7D
- ModifyDate: 2011:04:03 23:49:56
- Orientation: Horizontal (normal)
- IFD1
- IPTC
- By-line: VeegaDi
- CopyrightNotice: DmitryAgeev MOW
- DateCreated: 2011:04:01
- System
- XMP-aux
- ApproximateFocusDistance: 13,2
- Firmware: 1.2.3
- FlashCompensation: 0
- ImageNumber: 0
- Lens: EF100mm f/2.8L Macro IS USM
- LensID: 254
- XMP-crs
- AlreadyApplied: True
- BlueHue: 0
- BlueSaturation: 0
- Brightness: +22
- ChromaticAberrationB: 0
- ChromaticAberrationR: 0
- Clarity: 0
- ColorNoiseReduction: 25
- ColorNoiseReductionDetail: 50
- Contrast: 0
- ConvertToGrayscale: True
- Defringe: 0
- Exposure: 0.00
- FillLight: 20
- GrainAmount: 0
- GrayMixerAqua: -31
- GrayMixerBlue: -8
- GrayMixerGreen: -18
- GrayMixerMagenta: +31
- GrayMixerOrange: +14
- GrayMixerPurple: +20
- GrayMixerRed: +31
- GrayMixerYellow: +2
- GreenHue: 0
- GreenSaturation: 0
- HasCrop: False
- HasSettings: True
- HighlightRecovery: 16
- LensManualDistortionAmount: 0
- LensProfileEnable: 0
- LensProfileSetup: LensDefaults
- LuminanceSmoothing: 0
- ParametricDarks: 0
- ParametricHighlightSplit: 75
- ParametricHighlights: 0
- ParametricLights: 0
- ParametricMidtoneSplit: 50
- ParametricShadowSplit: 25
- ParametricShadows: 0
- PerspectiveHorizontal: 0
- PerspectiveRotate: 0.0
- PerspectiveScale: 100
- PerspectiveVertical: 0
- PostCropVignetteAmount: 0
- ProcessVersion: 5.7
- RawFileName: IMG_1335.CR2
- RedHue: 0
- RedSaturation: 0
- ShadowTint: 0
- Shadows: 0
- SharpenDetail: 25
- SharpenEdgeMasking: 0
- SharpenRadius: +1.0
- Sharpness: 25
- SplitToningBalance: 0
- SplitToningHighlightHue: 0
- SplitToningHighlightSaturation: 0
- SplitToningShadowHue: 0
- SplitToningShadowSaturation: 0
- Temperature: 3150
- Tint: 0
- ToneCurve: 0, 0, 32, 22, 64, 56, 128, 128, 192, 196, 255, 255
- ToneCurveName: Medium Contrast
- Version: 6.3
- VignetteAmount: 0
- WhiteBalance: As Shot
- XMP-dc
- Creator: VeegaDi
- Format: image/jpeg
- Rights: DmitryAgeev MOW
- XMP-xmp
- CreateDate: 2011:04:01 20:57:29.77+04:00
- ModifyDate: 2011:04:03 23:49:56+04:00
- Rating: 0
- XMP-xmpMM
- Просмотров: 144
- Рейтинг: голосов еще нет
- Отзывов: отключены