- Раздел: Портрет
- Дата съёмки: 17.05.2010 12:23
- Дата загрузки фото: 16.04.2011 14:03
- Оригинальная фотография: 1999 x 3000 (2,4 Мб)
- Технические характеристики:
- Фотоаппарат: Canon EOS-1D Mark III
- Выдержка: 1/320
- Гиперфокальное расстояние: inf m
- Диафрагма: 4,0
- Светочувствительность: 200
- Фокусное расстояние: 180,0 mm (35 mm equivalent: 180,0 mm)
- Полный EXIF
- Composite
- Aperture: 4,0
- CircleOfConfusion: 0,018 mm
- DOF: inf (0,00 m - inf)
- FOV: 11,0 deg
- FocalLength35efl: 180,0 mm (35 mm equivalent: 180,0 mm)
- HyperfocalDistance: inf m
- ScaleFactor35efl: 1,7
- ShutterSpeed: 1/320
- ExifIFD
- ApertureValue: 4,0
- CreateDate: 2010:05:17 12:23:39
- CustomRendered: Normal
- DateTimeOriginal: 2010:05:17 12:23:39
- ExifImageHeight: 3000
- ExifImageWidth: 1999
- ExposureCompensation: 0
- ExposureMode: Auto
- ExposureProgram: Aperture-priority AE
- ExposureTime: 1/320
- FNumber: 4,0
- Flash: No Flash
- FocalLength: 180,0 mm
- ISO: 200
- MaxApertureValue: 4,0
- MeteringMode: Center-weighted average
- SceneCaptureType: Standard
- ShutterSpeedValue: 1/320
- SubjectDistance: 10,3 m
- WhiteBalance: Auto
- ICC-header
- ICC-meas
- ICC-view
- IFD0
- Artist: demakov.ru
- Make: Canon
- Model: Canon EOS-1D Mark III
- ModifyDate: 2011:04:16 14:02:27
- Orientation: Horizontal (normal)
- Software: ACD Systems Digital Imaging
- IFD1
- IPTC
- System
- XMP-aux
- ApproximateFocusDistance: 10,3
- Firmware: 1.3.0
- FlashCompensation: 0
- ImageNumber: 0
- Lens: EF70-200mm f/4L IS USM
- LensID: 242
- LensInfo: 70-200mm f/?
- OwnerName: demakov.ru
- SerialNumber: 543680
- XMP-crs
- AlreadyApplied: True
- BlueHue: 0
- BlueSaturation: 0
- Brightness: +66
- CameraProfile: Camera Faithful
- ChromaticAberrationB: 0
- ChromaticAberrationR: 0
- Clarity: +100
- ColorNoiseReduction: 5
- ColorNoiseReductionDetail: 50
- Contrast: +36
- ConvertToGrayscale: True
- CropAngle: -1.0048
- CropBottom: 0.957582
- CropConstrainToWarp: 0
- CropHeight: 2482
- CropLeft: 0
- CropRight: 0.96878
- CropTop: 0.025192
- CropUnit: pixels
- CropWidth: 3724
- Defringe: 0
- Exposure: +0.41
- FillLight: 0
- GrainAmount: 10
- GrainFrequency: 50
- GrainSize: 25
- GrayMixerAqua: +25
- GrayMixerBlue: 0
- GrayMixerGreen: -5
- GrayMixerMagenta: -40
- GrayMixerOrange: +38
- GrayMixerPurple: -30
- GrayMixerRed: +50
- GrayMixerYellow: +36
- GreenHue: 0
- GreenSaturation: 0
- HasCrop: True
- HasSettings: True
- HighlightRecovery: 25
- LensManualDistortionAmount: 0
- LensProfileEnable: 0
- LensProfileSetup: LensDefaults
- LuminanceSmoothing: 0
- ParametricDarks: 0
- ParametricHighlightSplit: 75
- ParametricHighlights: 0
- ParametricLights: 0
- ParametricMidtoneSplit: 50
- ParametricShadowSplit: 25
- ParametricShadows: 0
- PerspectiveHorizontal: 0
- PerspectiveRotate: 0.0
- PerspectiveScale: 100
- PerspectiveVertical: 0
- PostCropVignetteAmount: -6
- PostCropVignetteFeather: 50
- PostCropVignetteHighlightContrast: 0
- PostCropVignetteMidpoint: 39
- PostCropVignetteRoundness: 0
- PostCropVignetteStyle: 1
- ProcessVersion: 5.7
- RedHue: 0
- RedSaturation: 0
- ShadowTint: 0
- Shadows: 0
- SharpenDetail: 25
- SharpenEdgeMasking: 0
- SharpenRadius: +1.0
- Sharpness: 0
- SplitToningBalance: 0
- SplitToningHighlightHue: 0
- SplitToningHighlightSaturation: 0
- SplitToningShadowHue: 0
- SplitToningShadowSaturation: 0
- Temperature: 4650
- Tint: +30
- ToneCurve: 0, 0, 32, 22, 64, 56, 128, 128, 192, 196, 255, 255
- ToneCurveName: Medium Contrast
- Version: 6.3
- VignetteAmount: 0
- WhiteBalance: As Shot
- XMP-dc
- XMP-exif
- DateTimeDigitized: 2010:05:17 12:23:39.46+3:00
- DateTimeOriginal: 2010:05:17 12:23:39.46+3:00
- ExifImageHeight: 3724
- ExifImageWidth: 2482
- FlashFired: False
- FlashFunction: False
- FlashMode: Unknown
- FlashRedEyeMode: False
- FlashReturn: No return detection
- XMP-tiff
- ImageHeight: 3724
- ImageWidth: 2482
- XMP-x
- XMP-xmp
- CreateDate: 2010:05:17 13:23:39.46+04:00
- ModifyDate: 2011:04:16 13:02:14.0+3:00